BEGIN:VCALENDAR
PRODID:-//nuDatenautomaten//framework iCal4j //DE
VERSION:2.0
CALSCALE:GREGORIAN
BEGIN:VTIMEZONE
TZID:Europe/Berlin
LAST-MODIFIED:20260306T231828Z
TZURL:https://www.tzurl.org/zoneinfo/Europe/Berlin
X-LIC-LOCATION:Europe/Berlin
X-PROLEPTIC-TZNAME:LMT
BEGIN:STANDARD
TZNAME:CET
TZOFFSETFROM:+005328
TZOFFSETTO:+0100
DTSTART:18930401T000000
END:STANDARD
BEGIN:DAYLIGHT
TZNAME:CEST
TZOFFSETFROM:+0100
TZOFFSETTO:+0200
DTSTART:19160430T230000
RDATE:19400401T020000
RDATE:19430329T020000
RDATE:19460414T020000
RDATE:19470406T030000
RDATE:19480418T020000
RDATE:19490410T020000
RDATE:19800406T020000
END:DAYLIGHT
BEGIN:STANDARD
TZNAME:CET
TZOFFSETFROM:+0200
TZOFFSETTO:+0100
DTSTART:19161001T010000
RDATE:19421102T030000
RDATE:19431004T030000
RDATE:19441002T030000
RDATE:19451118T030000
RDATE:19461007T030000
END:STANDARD
BEGIN:DAYLIGHT
TZNAME:CEST
TZOFFSETFROM:+0100
TZOFFSETTO:+0200
DTSTART:19170416T020000
RRULE:FREQ=YEARLY;UNTIL=19180415T010000Z;BYMONTH=4;BYDAY=3MO
END:DAYLIGHT
BEGIN:STANDARD
TZNAME:CET
TZOFFSETFROM:+0200
TZOFFSETTO:+0100
DTSTART:19170917T030000
RRULE:FREQ=YEARLY;UNTIL=19180916T010000Z;BYMONTH=9;BYDAY=3MO
END:STANDARD
BEGIN:DAYLIGHT
TZNAME:CEST
TZOFFSETFROM:+0100
TZOFFSETTO:+0200
DTSTART:19440403T020000
RRULE:FREQ=YEARLY;UNTIL=19450402T010000Z;BYMONTH=4;BYDAY=1MO
END:DAYLIGHT
BEGIN:DAYLIGHT
TZNAME:CEMT
TZOFFSETFROM:+0200
TZOFFSETTO:+0300
DTSTART:19450524T020000
RDATE:19470511T030000
END:DAYLIGHT
BEGIN:DAYLIGHT
TZNAME:CEST
TZOFFSETFROM:+0300
TZOFFSETTO:+0200
DTSTART:19450924T030000
RDATE:19470629T030000
END:DAYLIGHT
BEGIN:STANDARD
TZNAME:CET
TZOFFSETFROM:+0100
TZOFFSETTO:+0100
DTSTART:19460101T000000
RDATE:19800101T000000
END:STANDARD
BEGIN:STANDARD
TZNAME:CET
TZOFFSETFROM:+0200
TZOFFSETTO:+0100
DTSTART:19471005T030000
RRULE:FREQ=YEARLY;UNTIL=19491002T010000Z;BYMONTH=10;BYDAY=1SU
END:STANDARD
BEGIN:STANDARD
TZNAME:CET
TZOFFSETFROM:+0200
TZOFFSETTO:+0100
DTSTART:19800928T030000
RRULE:FREQ=YEARLY;UNTIL=19950924T010000Z;BYMONTH=9;BYDAY=-1SU
END:STANDARD
BEGIN:DAYLIGHT
TZNAME:CEST
TZOFFSETFROM:+0100
TZOFFSETTO:+0200
DTSTART:19810329T020000
RRULE:FREQ=YEARLY;BYMONTH=3;BYDAY=-1SU
END:DAYLIGHT
BEGIN:STANDARD
TZNAME:CET
TZOFFSETFROM:+0200
TZOFFSETTO:+0100
DTSTART:19961027T030000
RRULE:FREQ=YEARLY;BYMONTH=10;BYDAY=-1SU
END:STANDARD
END:VTIMEZONE
BEGIN:VEVENT
DTSTAMP:20260425T004244Z
DTSTART;TZID=Europe/Berlin:20241203T200000
DTEND;TZID=Europe/Berlin:20241203T230000
SUMMARY:HE 3. Liga Gr. 4 Dietikon-Weiningen vs Niederhasli III (0)
UID:83611f56-6c46-4473-aad8-112006bcb066
STATUS:CONFIRMED
LAST-MODIFIED:20241205T085615Z
DESCRIPTION:3. Liga Herren Gruppe 4\nBegegnungs-Nr: 0\nHeim: Dietikon-Weiningen\nGast: Niederhasli III\n\nAdresse: Bohnackerstrasse 5\, 8953 Dietikon\n
LOCATION:Bohnackerstrasse 5\, 8953 Dietikon
CATEGORIES:Saison 2024/25
END:VEVENT
BEGIN:VEVENT
DTSTAMP:20260425T004244Z
DTSTART;TZID=Europe/Berlin:20241105T200000
DTEND;TZID=Europe/Berlin:20241105T230000
SUMMARY:HE 3. Liga Gr. 4 Dietikon-Weiningen vs Embrachertal II (0)
UID:98d9ad49-2fa8-417d-a40b-8d97be92d7ab
STATUS:CONFIRMED
LAST-MODIFIED:20241107T154234Z
DESCRIPTION:3. Liga Herren Gruppe 4\nBegegnungs-Nr: 0\nHeim: Dietikon-Weiningen\nGast: Embrachertal II\n\nAdresse: Bohnackerstrasse 5\, 8953 Dietikon\n
LOCATION:Bohnackerstrasse 5\, 8953 Dietikon
CATEGORIES:Saison 2024/25
END:VEVENT
BEGIN:VEVENT
DTSTAMP:20260425T004244Z
DTSTART;TZID=Europe/Berlin:20240917T200000
DTEND;TZID=Europe/Berlin:20240917T230000
SUMMARY:HE 3. Liga Gr. 4 Dietikon-Weiningen vs Buchs Zürich (0)
UID:fa19c347-36ed-4005-a4e4-14b14b839f83
STATUS:CONFIRMED
LAST-MODIFIED:20240918T101058Z
DESCRIPTION:3. Liga Herren Gruppe 4\nBegegnungs-Nr: 0\nHeim: Dietikon-Weiningen\nGast: Buchs Zürich\n\nAdresse: Bohnackerstrasse 5\, 8953 Dietikon\n
LOCATION:Bohnackerstrasse 5\, 8953 Dietikon
CATEGORIES:Saison 2024/25
END:VEVENT
BEGIN:VEVENT
DTSTAMP:20260425T004244Z
DTSTART;TZID=Europe/Berlin:20240827T200000
DTEND;TZID=Europe/Berlin:20240827T230000
SUMMARY:HE 3. Liga Gr. 4 Dietikon-Weiningen vs Young Stars ZH VII (0)
UID:d86d6ae9-f641-4d56-996b-eb08d37d2f61
STATUS:CONFIRMED
LAST-MODIFIED:20240828T082955Z
DESCRIPTION:3. Liga Herren Gruppe 4\nBegegnungs-Nr: 0\nHeim: Dietikon-Weiningen\nGast: Young Stars ZH VII\n\nAdresse: Bohnackerstrasse 5\, 8953 Dietikon\n
LOCATION:Bohnackerstrasse 5\, 8953 Dietikon
CATEGORIES:Saison 2024/25
END:VEVENT
BEGIN:VEVENT
DTSTAMP:20260425T004244Z
DTSTART;TZID=Europe/Berlin:20250304T200000
DTEND;TZID=Europe/Berlin:20250304T230000
SUMMARY:HE 3. Liga Gr. 4 Dietikon-Weiningen vs Bülach II (0)
UID:3880e4d4-9961-43d9-a797-3ab4146dbb0e
STATUS:CONFIRMED
LAST-MODIFIED:20250306T142136Z
DESCRIPTION:3. Liga Herren Gruppe 4\nBegegnungs-Nr: 0\nHeim: Dietikon-Weiningen\nGast: Bülach II\n\nAdresse: Bohnackerstrasse 5\, 8953 Dietikon\n
LOCATION:Bohnackerstrasse 5\, 8953 Dietikon
CATEGORIES:Saison 2024/25
END:VEVENT
BEGIN:VEVENT
DTSTAMP:20260425T004244Z
DTSTART;TZID=Europe/Berlin:20250204T200000
DTEND;TZID=Europe/Berlin:20250204T230000
SUMMARY:HE 3. Liga Gr. 4 Dietikon-Weiningen vs Urdorf (0)
UID:c1cd8aee-496b-40ad-8d5d-76e54c801a05
STATUS:CONFIRMED
LAST-MODIFIED:20250206T140622Z
DESCRIPTION:3. Liga Herren Gruppe 4\nBegegnungs-Nr: 0\nHeim: Dietikon-Weiningen\nGast: Urdorf\n\nAdresse: Bohnackerstrasse 5\, 8953 Dietikon\n
LOCATION:Bohnackerstrasse 5\, 8953 Dietikon
CATEGORIES:Saison 2024/25
END:VEVENT
BEGIN:VEVENT
DTSTAMP:20260425T004244Z
DTSTART;TZID=Europe/Berlin:20250121T200000
DTEND;TZID=Europe/Berlin:20250121T230000
SUMMARY:HE 3. Liga Gr. 4 Dietikon-Weiningen vs Zürich-Affoltern V (0)
UID:076d9826-3350-40a5-ab08-7108c168fa89
STATUS:CONFIRMED
LAST-MODIFIED:20250123T071314Z
DESCRIPTION:3. Liga Herren Gruppe 4\nBegegnungs-Nr: 0\nHeim: Dietikon-Weiningen\nGast: Zürich-Affoltern V\n\nAdresse: Bohnackerstrasse 5\, 8953 Dietikon\n
LOCATION:Bohnackerstrasse 5\, 8953 Dietikon
CATEGORIES:Saison 2024/25
END:VEVENT
BEGIN:VEVENT
DTSTAMP:20260425T004244Z
DTSTART;TZID=Europe/Berlin:20241031T201500
DTEND;TZID=Europe/Berlin:20241031T231500
SUMMARY:HE 3. Liga Gr. 4 Bülach II vs Dietikon-Weiningen (0)
UID:bf407838-53a6-4be5-9fac-69050f86a0ae
STATUS:CONFIRMED
LAST-MODIFIED:20241107T154203Z
DESCRIPTION:3. Liga Herren Gruppe 4\nBegegnungs-Nr: 0\nHeim: Bülach II\nGast: Dietikon-Weiningen\n\nAdresse: Unterweg 51\, 8180 Bülach\n
LOCATION:Unterweg 51\, 8180 Bülach
CATEGORIES:Saison 2024/25
END:VEVENT
BEGIN:VEVENT
DTSTAMP:20260425T004244Z
DTSTART;TZID=Europe/Berlin:20240930T201500
DTEND;TZID=Europe/Berlin:20240930T231500
SUMMARY:HE 3. Liga Gr. 4 Urdorf vs Dietikon-Weiningen (0)
UID:3e211fe5-a275-41cc-a0e4-65a7e5b8881a
STATUS:CONFIRMED
LAST-MODIFIED:20241004T080352Z
DESCRIPTION:3. Liga Herren Gruppe 4\nBegegnungs-Nr: 0\nHeim: Urdorf\nGast: Dietikon-Weiningen\n\nAdresse: Weihermattstrasse 50\, 8902 Urdorf\n
LOCATION:Weihermattstrasse 50\, 8902 Urdorf
CATEGORIES:Saison 2024/25
END:VEVENT
BEGIN:VEVENT
DTSTAMP:20260425T004244Z
DTSTART;TZID=Europe/Berlin:20240904T201500
DTEND;TZID=Europe/Berlin:20240904T231500
SUMMARY:HE 3. Liga Gr. 4 Zürich-Affoltern V vs Dietikon-Weiningen (0)
UID:f13aac96-fcce-4d47-b637-3add10c1d9ed
STATUS:CONFIRMED
LAST-MODIFIED:20240905T062425Z
DESCRIPTION:3. Liga Herren Gruppe 4\nBegegnungs-Nr: 0\nHeim: Zürich-Affoltern V\nGast: Dietikon-Weiningen\n\nAdresse: Rümlangstr. 89\, 8052 Zürich\n
LOCATION:Rümlangstr. 89\, 8052 Zürich
CATEGORIES:Saison 2024/25
END:VEVENT
BEGIN:VEVENT
DTSTAMP:20260425T004244Z
DTSTART;TZID=Europe/Berlin:20250325T193000
DTEND;TZID=Europe/Berlin:20250325T223000
SUMMARY:HE 3. Liga Gr. 4 Niederhasli III vs Dietikon-Weiningen (0)
UID:da00fc30-1b46-4f0b-8db3-9561ad938d62
STATUS:CONFIRMED
LAST-MODIFIED:20250327T133422Z
DESCRIPTION:3. Liga Herren Gruppe 4\nBegegnungs-Nr: 0\nHeim: Niederhasli III\nGast: Dietikon-Weiningen\n\nAdresse: Dorfstrasse 22\, 8155 Niederhasli\n
LOCATION:Dorfstrasse 22\, 8155 Niederhasli
CATEGORIES:Saison 2024/25
END:VEVENT
BEGIN:VEVENT
DTSTAMP:20260425T004244Z
DTSTART;TZID=Europe/Berlin:20250311T193000
DTEND;TZID=Europe/Berlin:20250311T223000
SUMMARY:HE 3. Liga Gr. 4 Embrachertal II vs Dietikon-Weiningen (0)
UID:e0780f45-cbac-4742-81e5-5e41b0606011
STATUS:CONFIRMED
LAST-MODIFIED:20250312T145431Z
DESCRIPTION:3. Liga Herren Gruppe 4\nBegegnungs-Nr: 0\nHeim: Embrachertal II\nGast: Dietikon-Weiningen\n\nAdresse: Hintermarchlenstrasse 31 + 33\, 8426 Lufingen\n
LOCATION:Hintermarchlenstrasse 31 + 33\, 8426 Lufingen
CATEGORIES:Saison 2024/25
END:VEVENT
BEGIN:VEVENT
DTSTAMP:20260425T004244Z
DTSTART;TZID=Europe/Berlin:20250127T201500
DTEND;TZID=Europe/Berlin:20250127T231500
SUMMARY:HE 3. Liga Gr. 4 Buchs Zürich vs Dietikon-Weiningen (0)
UID:c26c1f80-bddb-4925-90e9-df1569abfa4e
STATUS:CONFIRMED
LAST-MODIFIED:20250128T105432Z
DESCRIPTION:3. Liga Herren Gruppe 4\nBegegnungs-Nr: 0\nHeim: Buchs Zürich\nGast: Dietikon-Weiningen\n\nAdresse: Schulstrasse 73\, 8105 Regensdorf\n
LOCATION:Schulstrasse 73\, 8105 Regensdorf
CATEGORIES:Saison 2024/25
END:VEVENT
BEGIN:VEVENT
DTSTAMP:20260425T004244Z
DTSTART;TZID=Europe/Berlin:20250205T201500
DTEND;TZID=Europe/Berlin:20250205T231500
SUMMARY:HE 3. Liga Gr. 4 Young Stars ZH VII vs Dietikon-Weiningen (0)
UID:2a4eb7d3-2e75-4b60-a7b8-108a52a0dde9
STATUS:CONFIRMED
LAST-MODIFIED:20250207T131933Z
DESCRIPTION:3. Liga Herren Gruppe 4\nBegegnungs-Nr: 0\nHeim: Young Stars ZH VII\nGast: Dietikon-Weiningen\n\nAdresse: Seefeldstrasse 93\, 8008 Zürich\n
LOCATION:Seefeldstrasse 93\, 8008 Zürich
CATEGORIES:Saison 2024/25
END:VEVENT
END:VCALENDAR
