BEGIN:VCALENDAR
PRODID:-//nuDatenautomaten//framework iCal4j //DE
VERSION:2.0
CALSCALE:GREGORIAN
BEGIN:VTIMEZONE
TZID:Europe/Berlin
LAST-MODIFIED:20260306T231828Z
TZURL:https://www.tzurl.org/zoneinfo/Europe/Berlin
X-LIC-LOCATION:Europe/Berlin
X-PROLEPTIC-TZNAME:LMT
BEGIN:STANDARD
TZNAME:CET
TZOFFSETFROM:+005328
TZOFFSETTO:+0100
DTSTART:18930401T000000
END:STANDARD
BEGIN:DAYLIGHT
TZNAME:CEST
TZOFFSETFROM:+0100
TZOFFSETTO:+0200
DTSTART:19160430T230000
RDATE:19400401T020000
RDATE:19430329T020000
RDATE:19460414T020000
RDATE:19470406T030000
RDATE:19480418T020000
RDATE:19490410T020000
RDATE:19800406T020000
END:DAYLIGHT
BEGIN:STANDARD
TZNAME:CET
TZOFFSETFROM:+0200
TZOFFSETTO:+0100
DTSTART:19161001T010000
RDATE:19421102T030000
RDATE:19431004T030000
RDATE:19441002T030000
RDATE:19451118T030000
RDATE:19461007T030000
END:STANDARD
BEGIN:DAYLIGHT
TZNAME:CEST
TZOFFSETFROM:+0100
TZOFFSETTO:+0200
DTSTART:19170416T020000
RRULE:FREQ=YEARLY;UNTIL=19180415T010000Z;BYMONTH=4;BYDAY=3MO
END:DAYLIGHT
BEGIN:STANDARD
TZNAME:CET
TZOFFSETFROM:+0200
TZOFFSETTO:+0100
DTSTART:19170917T030000
RRULE:FREQ=YEARLY;UNTIL=19180916T010000Z;BYMONTH=9;BYDAY=3MO
END:STANDARD
BEGIN:DAYLIGHT
TZNAME:CEST
TZOFFSETFROM:+0100
TZOFFSETTO:+0200
DTSTART:19440403T020000
RRULE:FREQ=YEARLY;UNTIL=19450402T010000Z;BYMONTH=4;BYDAY=1MO
END:DAYLIGHT
BEGIN:DAYLIGHT
TZNAME:CEMT
TZOFFSETFROM:+0200
TZOFFSETTO:+0300
DTSTART:19450524T020000
RDATE:19470511T030000
END:DAYLIGHT
BEGIN:DAYLIGHT
TZNAME:CEST
TZOFFSETFROM:+0300
TZOFFSETTO:+0200
DTSTART:19450924T030000
RDATE:19470629T030000
END:DAYLIGHT
BEGIN:STANDARD
TZNAME:CET
TZOFFSETFROM:+0100
TZOFFSETTO:+0100
DTSTART:19460101T000000
RDATE:19800101T000000
END:STANDARD
BEGIN:STANDARD
TZNAME:CET
TZOFFSETFROM:+0200
TZOFFSETTO:+0100
DTSTART:19471005T030000
RRULE:FREQ=YEARLY;UNTIL=19491002T010000Z;BYMONTH=10;BYDAY=1SU
END:STANDARD
BEGIN:STANDARD
TZNAME:CET
TZOFFSETFROM:+0200
TZOFFSETTO:+0100
DTSTART:19800928T030000
RRULE:FREQ=YEARLY;UNTIL=19950924T010000Z;BYMONTH=9;BYDAY=-1SU
END:STANDARD
BEGIN:DAYLIGHT
TZNAME:CEST
TZOFFSETFROM:+0100
TZOFFSETTO:+0200
DTSTART:19810329T020000
RRULE:FREQ=YEARLY;BYMONTH=3;BYDAY=-1SU
END:DAYLIGHT
BEGIN:STANDARD
TZNAME:CET
TZOFFSETFROM:+0200
TZOFFSETTO:+0100
DTSTART:19961027T030000
RRULE:FREQ=YEARLY;BYMONTH=10;BYDAY=-1SU
END:STANDARD
END:VTIMEZONE
BEGIN:VEVENT
DTSTAMP:20260425T020449Z
DTSTART;TZID=Europe/Berlin:20241205T200000
DTEND;TZID=Europe/Berlin:20241205T230000
SUMMARY:HE 6. Liga Gr. 2 Arbon II vs Romanshorn V (0)
UID:adf12115-9dbe-4ad3-86cc-023844092fb8
STATUS:CONFIRMED
LAST-MODIFIED:20241211T103001Z
DESCRIPTION:6. Liga Herren Gruppe 2\nBegegnungs-Nr: 0\nHeim: Arbon II\nGast: Romanshorn V\n\nAdresse: Promenadenstrasse 17\, 9320 Arbon\n
LOCATION:Promenadenstrasse 17\, 9320 Arbon
CATEGORIES:Saison 2024/25
END:VEVENT
BEGIN:VEVENT
DTSTAMP:20260425T020449Z
DTSTART;TZID=Europe/Berlin:20241031T200000
DTEND;TZID=Europe/Berlin:20241031T230000
SUMMARY:HE 6. Liga Gr. 2 Arbon II vs Weinfelden IV (0)
UID:b7c29f87-5081-48a1-9a7f-b30dfc48d074
STATUS:CONFIRMED
LAST-MODIFIED:20241108T150250Z
DESCRIPTION:6. Liga Herren Gruppe 2\nBegegnungs-Nr: 0\nHeim: Arbon II\nGast: Weinfelden IV\n\nAdresse: Promenadenstrasse 17\, 9320 Arbon\n
LOCATION:Promenadenstrasse 17\, 9320 Arbon
CATEGORIES:Saison 2024/25
END:VEVENT
BEGIN:VEVENT
DTSTAMP:20260425T020449Z
DTSTART;TZID=Europe/Berlin:20240919T200000
DTEND;TZID=Europe/Berlin:20240919T230000
SUMMARY:HE 6. Liga Gr. 2 Arbon II vs St. Gallen VIII (0)
UID:026d3944-e0cf-4593-b2a2-4fc5131065a5
STATUS:CONFIRMED
LAST-MODIFIED:20240920T135958Z
DESCRIPTION:6. Liga Herren Gruppe 2\nBegegnungs-Nr: 0\nHeim: Arbon II\nGast: St. Gallen VIII\n\nAdresse: Promenadenstrasse 17\, 9320 Arbon\n
LOCATION:Promenadenstrasse 17\, 9320 Arbon
CATEGORIES:Saison 2024/25
END:VEVENT
BEGIN:VEVENT
DTSTAMP:20260425T020449Z
DTSTART;TZID=Europe/Berlin:20250313T200000
DTEND;TZID=Europe/Berlin:20250313T230000
SUMMARY:HE 6. Liga Gr. 2 Arbon II vs Gossau St.Gallen IV (0)
UID:0b68234a-84d4-4fe7-b7ef-8ba0f81e3a9c
STATUS:CONFIRMED
LAST-MODIFIED:20250314T125108Z
DESCRIPTION:6. Liga Herren Gruppe 2\nBegegnungs-Nr: 0\nHeim: Arbon II\nGast: Gossau St.Gallen IV\n\nAdresse: Promenadenstrasse 17\, 9320 Arbon\n
LOCATION:Promenadenstrasse 17\, 9320 Arbon
CATEGORIES:Saison 2024/25
END:VEVENT
BEGIN:VEVENT
DTSTAMP:20260425T020449Z
DTSTART;TZID=Europe/Berlin:20250213T200000
DTEND;TZID=Europe/Berlin:20250213T230000
SUMMARY:HE 6. Liga Gr. 2 Arbon II vs Wil SG VI (0)
UID:b2d8b601-242b-409a-b30d-a20957b0e2aa
STATUS:CONFIRMED
LAST-MODIFIED:20250219T133104Z
DESCRIPTION:6. Liga Herren Gruppe 2\nBegegnungs-Nr: 0\nHeim: Arbon II\nGast: Wil SG VI\n\nAdresse: Promenadenstrasse 17\, 9320 Arbon\n
LOCATION:Promenadenstrasse 17\, 9320 Arbon
CATEGORIES:Saison 2024/25
END:VEVENT
BEGIN:VEVENT
DTSTAMP:20260425T020449Z
DTSTART;TZID=Europe/Berlin:20250123T200000
DTEND;TZID=Europe/Berlin:20250123T230000
SUMMARY:HE 6. Liga Gr. 2 Arbon II vs Muolen V (0)
UID:521f29ad-288a-406f-86d6-fe132a4163bf
STATUS:CONFIRMED
LAST-MODIFIED:20250129T125304Z
DESCRIPTION:6. Liga Herren Gruppe 2\nBegegnungs-Nr: 0\nHeim: Arbon II\nGast: Muolen V\n\nAdresse: Promenadenstrasse 17\, 9320 Arbon\n
LOCATION:Promenadenstrasse 17\, 9320 Arbon
CATEGORIES:Saison 2024/25
END:VEVENT
BEGIN:VEVENT
DTSTAMP:20260425T020449Z
DTSTART;TZID=Europe/Berlin:20241107T201500
DTEND;TZID=Europe/Berlin:20241107T231500
SUMMARY:HE 6. Liga Gr. 2 Gossau St.Gallen IV vs Arbon II (0)
UID:92d35231-d92a-46a9-9886-f1a312e775ce
STATUS:CONFIRMED
LAST-MODIFIED:20241108T150321Z
DESCRIPTION:6. Liga Herren Gruppe 2\nBegegnungs-Nr: 0\nHeim: Gossau St.Gallen IV\nGast: Arbon II\n\nAdresse: Falkenstrasse 21\, 9200 Gossau\n
LOCATION:Falkenstrasse 21\, 9200 Gossau
CATEGORIES:Saison 2024/25
END:VEVENT
BEGIN:VEVENT
DTSTAMP:20260425T020449Z
DTSTART;TZID=Europe/Berlin:20240924T201500
DTEND;TZID=Europe/Berlin:20240924T231500
SUMMARY:HE 6. Liga Gr. 2 Wil SG VI vs Arbon II (0)
UID:6e82ae64-561b-415f-be7c-74ac69a66018
STATUS:CONFIRMED
LAST-MODIFIED:20240926T115233Z
DESCRIPTION:6. Liga Herren Gruppe 2\nBegegnungs-Nr: 0\nHeim: Wil SG VI\nGast: Arbon II\n\nAdresse: Lindenhofstr. 23\, 9500 Wil\n
LOCATION:Lindenhofstr. 23\, 9500 Wil
CATEGORIES:Saison 2024/25
END:VEVENT
BEGIN:VEVENT
DTSTAMP:20260425T020449Z
DTSTART;TZID=Europe/Berlin:20240907T100000
DTEND;TZID=Europe/Berlin:20240907T130000
SUMMARY:HE 6. Liga Gr. 2 Muolen V vs Arbon II (0)
UID:ef1474d2-2ee7-4865-a1e7-7bc35703aeeb
STATUS:CONFIRMED
LAST-MODIFIED:20240913T132249Z
DESCRIPTION:6. Liga Herren Gruppe 2\nBegegnungs-Nr: 0\nHeim: Muolen V\nGast: Arbon II\n\nAdresse: Dorfstrasse 31\, 9313 Muolen\n
LOCATION:Dorfstrasse 31\, 9313 Muolen
CATEGORIES:Saison 2024/25
END:VEVENT
BEGIN:VEVENT
DTSTAMP:20260425T020449Z
DTSTART;TZID=Europe/Berlin:20250328T201500
DTEND;TZID=Europe/Berlin:20250328T231500
SUMMARY:HE 6. Liga Gr. 2 Romanshorn V vs Arbon II (0)
UID:4904391d-7047-42f4-b8fc-49a13ece9d57
STATUS:CONFIRMED
LAST-MODIFIED:20250404T083530Z
DESCRIPTION:6. Liga Herren Gruppe 2\nBegegnungs-Nr: 0\nHeim: Romanshorn V\nGast: Arbon II\n\nAdresse: Florastrasse\, 8590 Romanshorn\n
LOCATION:Florastrasse\, 8590 Romanshorn
CATEGORIES:Saison 2024/25
END:VEVENT
BEGIN:VEVENT
DTSTAMP:20260425T020449Z
DTSTART;TZID=Europe/Berlin:20250306T200000
DTEND;TZID=Europe/Berlin:20250306T230000
SUMMARY:HE 6. Liga Gr. 2 Weinfelden IV vs Arbon II (0)
UID:7a95dfff-f6a7-422d-8ba0-92933aaa8a9b
STATUS:CONFIRMED
LAST-MODIFIED:20250307T082704Z
DESCRIPTION:6. Liga Herren Gruppe 2\nBegegnungs-Nr: 0\nHeim: Weinfelden IV\nGast: Arbon II\n\nAdresse: Bleichestrasse 3 (neben Hallenbad)\, 8570 Weinfelden\n
LOCATION:Bleichestrasse 3 (neben Hallenbad)\, 8570 Weinfelden
CATEGORIES:Saison 2024/25
END:VEVENT
BEGIN:VEVENT
DTSTAMP:20260425T020449Z
DTSTART;TZID=Europe/Berlin:20250128T200000
DTEND;TZID=Europe/Berlin:20250128T230000
SUMMARY:HE 6. Liga Gr. 2 St. Gallen VIII vs Arbon II (0)
UID:5f93d277-df8c-4d1b-9456-396eb58400ec
STATUS:CONFIRMED
LAST-MODIFIED:20250129T125415Z
DESCRIPTION:6. Liga Herren Gruppe 2\nBegegnungs-Nr: 0\nHeim: St. Gallen VIII\nGast: Arbon II\n\nAdresse: Zilstrasse 61\, 9016 St.Gallen\n
LOCATION:Zilstrasse 61\, 9016 St.Gallen
CATEGORIES:Saison 2024/25
END:VEVENT
END:VCALENDAR
