BEGIN:VCALENDAR
PRODID:-//nuDatenautomaten//framework iCal4j //DE
VERSION:2.0
CALSCALE:GREGORIAN
BEGIN:VTIMEZONE
TZID:Europe/Berlin
LAST-MODIFIED:20260306T231828Z
TZURL:https://www.tzurl.org/zoneinfo/Europe/Berlin
X-LIC-LOCATION:Europe/Berlin
X-PROLEPTIC-TZNAME:LMT
BEGIN:STANDARD
TZNAME:CET
TZOFFSETFROM:+005328
TZOFFSETTO:+0100
DTSTART:18930401T000000
END:STANDARD
BEGIN:DAYLIGHT
TZNAME:CEST
TZOFFSETFROM:+0100
TZOFFSETTO:+0200
DTSTART:19160430T230000
RDATE:19400401T020000
RDATE:19430329T020000
RDATE:19460414T020000
RDATE:19470406T030000
RDATE:19480418T020000
RDATE:19490410T020000
RDATE:19800406T020000
END:DAYLIGHT
BEGIN:STANDARD
TZNAME:CET
TZOFFSETFROM:+0200
TZOFFSETTO:+0100
DTSTART:19161001T010000
RDATE:19421102T030000
RDATE:19431004T030000
RDATE:19441002T030000
RDATE:19451118T030000
RDATE:19461007T030000
END:STANDARD
BEGIN:DAYLIGHT
TZNAME:CEST
TZOFFSETFROM:+0100
TZOFFSETTO:+0200
DTSTART:19170416T020000
RRULE:FREQ=YEARLY;UNTIL=19180415T010000Z;BYMONTH=4;BYDAY=3MO
END:DAYLIGHT
BEGIN:STANDARD
TZNAME:CET
TZOFFSETFROM:+0200
TZOFFSETTO:+0100
DTSTART:19170917T030000
RRULE:FREQ=YEARLY;UNTIL=19180916T010000Z;BYMONTH=9;BYDAY=3MO
END:STANDARD
BEGIN:DAYLIGHT
TZNAME:CEST
TZOFFSETFROM:+0100
TZOFFSETTO:+0200
DTSTART:19440403T020000
RRULE:FREQ=YEARLY;UNTIL=19450402T010000Z;BYMONTH=4;BYDAY=1MO
END:DAYLIGHT
BEGIN:DAYLIGHT
TZNAME:CEMT
TZOFFSETFROM:+0200
TZOFFSETTO:+0300
DTSTART:19450524T020000
RDATE:19470511T030000
END:DAYLIGHT
BEGIN:DAYLIGHT
TZNAME:CEST
TZOFFSETFROM:+0300
TZOFFSETTO:+0200
DTSTART:19450924T030000
RDATE:19470629T030000
END:DAYLIGHT
BEGIN:STANDARD
TZNAME:CET
TZOFFSETFROM:+0100
TZOFFSETTO:+0100
DTSTART:19460101T000000
RDATE:19800101T000000
END:STANDARD
BEGIN:STANDARD
TZNAME:CET
TZOFFSETFROM:+0200
TZOFFSETTO:+0100
DTSTART:19471005T030000
RRULE:FREQ=YEARLY;UNTIL=19491002T010000Z;BYMONTH=10;BYDAY=1SU
END:STANDARD
BEGIN:STANDARD
TZNAME:CET
TZOFFSETFROM:+0200
TZOFFSETTO:+0100
DTSTART:19800928T030000
RRULE:FREQ=YEARLY;UNTIL=19950924T010000Z;BYMONTH=9;BYDAY=-1SU
END:STANDARD
BEGIN:DAYLIGHT
TZNAME:CEST
TZOFFSETFROM:+0100
TZOFFSETTO:+0200
DTSTART:19810329T020000
RRULE:FREQ=YEARLY;BYMONTH=3;BYDAY=-1SU
END:DAYLIGHT
BEGIN:STANDARD
TZNAME:CET
TZOFFSETFROM:+0200
TZOFFSETTO:+0100
DTSTART:19961027T030000
RRULE:FREQ=YEARLY;BYMONTH=10;BYDAY=-1SU
END:STANDARD
END:VTIMEZONE
BEGIN:VEVENT
DTSTAMP:20260425T021321Z
DTSTART;TZID=Europe/Berlin:20241202T200000
DTEND;TZID=Europe/Berlin:20241202T230000
SUMMARY:HE 4. Liga Gr. 1 Muolen III vs Oberriet III (0)
UID:2c1f5678-babd-4d16-b66b-f9e3c22d7082
STATUS:CONFIRMED
LAST-MODIFIED:20241205T085813Z
DESCRIPTION:4. Liga Herren Gruppe 1\nBegegnungs-Nr: 0\nHeim: Muolen III\nGast: Oberriet III\n\nAdresse: Olmishauserstrasse 3\, 9314 Steinebrunn\n
LOCATION:Olmishauserstrasse 3\, 9314 Steinebrunn
CATEGORIES:Saison 2024/25
END:VEVENT
BEGIN:VEVENT
DTSTAMP:20260425T021321Z
DTSTART;TZID=Europe/Berlin:20241104T200000
DTEND;TZID=Europe/Berlin:20241104T230000
SUMMARY:HE 4. Liga Gr. 1 Muolen III vs Wuppenau (0)
UID:0af772d0-7131-4a58-bddb-e8d3d0aa605d
STATUS:CONFIRMED
LAST-MODIFIED:20241108T134428Z
DESCRIPTION:4. Liga Herren Gruppe 1\nBegegnungs-Nr: 0\nHeim: Muolen III\nGast: Wuppenau\n\nAdresse: Olmishauserstrasse 3\, 9314 Steinebrunn\n
LOCATION:Olmishauserstrasse 3\, 9314 Steinebrunn
CATEGORIES:Saison 2024/25
END:VEVENT
BEGIN:VEVENT
DTSTAMP:20260425T021321Z
DTSTART;TZID=Europe/Berlin:20240923T200000
DTEND;TZID=Europe/Berlin:20240923T230000
SUMMARY:HE 4. Liga Gr. 1 Muolen III vs St. Gallen VI (0)
UID:a60372db-8bb6-4172-a6e1-23d6cc10df68
STATUS:CONFIRMED
LAST-MODIFIED:20240926T114711Z
DESCRIPTION:4. Liga Herren Gruppe 1\nBegegnungs-Nr: 0\nHeim: Muolen III\nGast: St. Gallen VI\n\nAdresse: Olmishauserstrasse 3\, 9314 Steinebrunn\n
LOCATION:Olmishauserstrasse 3\, 9314 Steinebrunn
CATEGORIES:Saison 2024/25
END:VEVENT
BEGIN:VEVENT
DTSTAMP:20260425T021321Z
DTSTART;TZID=Europe/Berlin:20240902T200000
DTEND;TZID=Europe/Berlin:20240902T230000
SUMMARY:HE 4. Liga Gr. 1 Muolen III vs Wolfhalden II (0)
UID:cbff26dc-5d9c-405c-b953-fc1ed93c83ae
STATUS:CONFIRMED
LAST-MODIFIED:20240904T102012Z
DESCRIPTION:4. Liga Herren Gruppe 1\nBegegnungs-Nr: 0\nHeim: Muolen III\nGast: Wolfhalden II\n\nAdresse: Olmishauserstrasse 3\, 9314 Steinebrunn\n
LOCATION:Olmishauserstrasse 3\, 9314 Steinebrunn
CATEGORIES:Saison 2024/25
END:VEVENT
BEGIN:VEVENT
DTSTAMP:20260425T021321Z
DTSTART;TZID=Europe/Berlin:20250303T200000
DTEND;TZID=Europe/Berlin:20250303T230000
SUMMARY:HE 4. Liga Gr. 1 Muolen III vs Herisau II (0)
UID:20aeebbe-3ee8-44d3-aae5-98df387ea41b
STATUS:CONFIRMED
LAST-MODIFIED:20250306T142242Z
DESCRIPTION:4. Liga Herren Gruppe 1\nBegegnungs-Nr: 0\nHeim: Muolen III\nGast: Herisau II\n\nAdresse: Olmishauserstrasse 3\, 9314 Steinebrunn\n
LOCATION:Olmishauserstrasse 3\, 9314 Steinebrunn
CATEGORIES:Saison 2024/25
END:VEVENT
BEGIN:VEVENT
DTSTAMP:20260425T021321Z
DTSTART;TZID=Europe/Berlin:20250203T200000
DTEND;TZID=Europe/Berlin:20250203T230000
SUMMARY:HE 4. Liga Gr. 1 Muolen III vs Rorschach (0)
UID:79469032-5221-4694-9cc2-ea5c5bae4430
STATUS:CONFIRMED
LAST-MODIFIED:20250204T123600Z
DESCRIPTION:4. Liga Herren Gruppe 1\nBegegnungs-Nr: 0\nHeim: Muolen III\nGast: Rorschach\n\nAdresse: Olmishauserstrasse 3\, 9314 Steinebrunn\n
LOCATION:Olmishauserstrasse 3\, 9314 Steinebrunn
CATEGORIES:Saison 2024/25
END:VEVENT
BEGIN:VEVENT
DTSTAMP:20260425T021321Z
DTSTART;TZID=Europe/Berlin:20250106T200000
DTEND;TZID=Europe/Berlin:20250106T230000
SUMMARY:HE 4. Liga Gr. 1 Muolen III vs Romanshorn III (0)
UID:5bc1003f-e4fb-47e5-931b-080f7774bacb
STATUS:CONFIRMED
LAST-MODIFIED:20250110T150834Z
DESCRIPTION:4. Liga Herren Gruppe 1\nBegegnungs-Nr: 0\nHeim: Muolen III\nGast: Romanshorn III\n\nAdresse: Olmishauserstrasse 3\, 9314 Steinebrunn\n
LOCATION:Olmishauserstrasse 3\, 9314 Steinebrunn
CATEGORIES:Saison 2024/25
END:VEVENT
BEGIN:VEVENT
DTSTAMP:20260425T021321Z
DTSTART;TZID=Europe/Berlin:20241029T201500
DTEND;TZID=Europe/Berlin:20241029T231500
SUMMARY:HE 4. Liga Gr. 1 Herisau II vs Muolen III (0)
UID:ef533bc8-7dcd-435e-a384-98e0f4c07fbb
STATUS:CONFIRMED
LAST-MODIFIED:20241030T102721Z
DESCRIPTION:4. Liga Herren Gruppe 1\nBegegnungs-Nr: 0\nHeim: Herisau II\nGast: Muolen III\n\nAdresse: Schwellbrunnerstrasse 29\, 9100 Herisau\n
LOCATION:Schwellbrunnerstrasse 29\, 9100 Herisau
CATEGORIES:Saison 2024/25
END:VEVENT
BEGIN:VEVENT
DTSTAMP:20260425T021321Z
DTSTART;TZID=Europe/Berlin:20240917T200000
DTEND;TZID=Europe/Berlin:20240917T230000
SUMMARY:HE 4. Liga Gr. 1 Rorschach vs Muolen III (0)
UID:5620aa64-ab06-4e91-a61e-eafb5de63b2d
STATUS:CONFIRMED
LAST-MODIFIED:20240918T101800Z
DESCRIPTION:4. Liga Herren Gruppe 1\nBegegnungs-Nr: 0\nHeim: Rorschach\nGast: Muolen III\n\nAdresse: Mariabergstrasse 33\, 9400 Rorschach\n
LOCATION:Mariabergstrasse 33\, 9400 Rorschach
CATEGORIES:Saison 2024/25
END:VEVENT
BEGIN:VEVENT
DTSTAMP:20260425T021321Z
DTSTART;TZID=Europe/Berlin:20240826T201500
DTEND;TZID=Europe/Berlin:20240826T231500
SUMMARY:HE 4. Liga Gr. 1 Romanshorn III vs Muolen III (0)
UID:865fe8d2-50f8-4512-805b-e93119c29f94
STATUS:CONFIRMED
LAST-MODIFIED:20240828T083111Z
DESCRIPTION:4. Liga Herren Gruppe 1\nBegegnungs-Nr: 0\nHeim: Romanshorn III\nGast: Muolen III\n\nAdresse: Florastrasse\, 8590 Romanshorn\n
LOCATION:Florastrasse\, 8590 Romanshorn
CATEGORIES:Saison 2024/25
END:VEVENT
BEGIN:VEVENT
DTSTAMP:20260425T021321Z
DTSTART;TZID=Europe/Berlin:20250402T201500
DTEND;TZID=Europe/Berlin:20250402T231500
SUMMARY:HE 4. Liga Gr. 1 Oberriet III vs Muolen III (0)
UID:1e7ef189-c87d-48af-a6d8-636239a3247b
STATUS:CONFIRMED
LAST-MODIFIED:20250404T082850Z
DESCRIPTION:4. Liga Herren Gruppe 1\nBegegnungs-Nr: 0\nHeim: Oberriet III\nGast: Muolen III\n\nAdresse: Neugutstrasse 2\, 9463 Oberriet SG\n
LOCATION:Neugutstrasse 2\, 9463 Oberriet SG
CATEGORIES:Saison 2024/25
END:VEVENT
BEGIN:VEVENT
DTSTAMP:20260425T021321Z
DTSTART;TZID=Europe/Berlin:20250314T200000
DTEND;TZID=Europe/Berlin:20250314T230000
SUMMARY:HE 4. Liga Gr. 1 Wuppenau vs Muolen III (0)
UID:f7fa4d79-9c1a-4c19-aa6c-46ca102089d5
STATUS:CONFIRMED
LAST-MODIFIED:20250319T094228Z
DESCRIPTION:4. Liga Herren Gruppe 1\nBegegnungs-Nr: 0\nHeim: Wuppenau\nGast: Muolen III\n\nAdresse: Nollenstrasse\, 9514 Wuppenau\n
LOCATION:Nollenstrasse\, 9514 Wuppenau
CATEGORIES:Saison 2024/25
END:VEVENT
BEGIN:VEVENT
DTSTAMP:20260425T021321Z
DTSTART;TZID=Europe/Berlin:20250211T200000
DTEND;TZID=Europe/Berlin:20250211T230000
SUMMARY:HE 4. Liga Gr. 1 St. Gallen VI vs Muolen III (0)
UID:be91f267-d24d-4611-8676-36179d97f302
STATUS:CONFIRMED
LAST-MODIFIED:20250220T101842Z
DESCRIPTION:4. Liga Herren Gruppe 1\nBegegnungs-Nr: 0\nHeim: St. Gallen VI\nGast: Muolen III\n\nAdresse: Zilstrasse 61\, 9016 St.Gallen\n
LOCATION:Zilstrasse 61\, 9016 St.Gallen
CATEGORIES:Saison 2024/25
END:VEVENT
BEGIN:VEVENT
DTSTAMP:20260425T021321Z
DTSTART;TZID=Europe/Berlin:20250120T200000
DTEND;TZID=Europe/Berlin:20250120T230000
SUMMARY:HE 4. Liga Gr. 1 Wolfhalden II vs Muolen III (0)
UID:18d38096-9eeb-41dc-b4ed-fa51adb57d36
STATUS:CONFIRMED
LAST-MODIFIED:20250123T071510Z
DESCRIPTION:4. Liga Herren Gruppe 1\nBegegnungs-Nr: 0\nHeim: Wolfhalden II\nGast: Muolen III\n\nAdresse: -\, 9427 Wolfhalden\n
LOCATION:-\, 9427 Wolfhalden
CATEGORIES:Saison 2024/25
END:VEVENT
END:VCALENDAR
