BEGIN:VCALENDAR
PRODID:-//nuDatenautomaten//framework iCal4j //DE
VERSION:2.0
CALSCALE:GREGORIAN
BEGIN:VTIMEZONE
TZID:Europe/Berlin
LAST-MODIFIED:20260306T231828Z
TZURL:https://www.tzurl.org/zoneinfo/Europe/Berlin
X-LIC-LOCATION:Europe/Berlin
X-PROLEPTIC-TZNAME:LMT
BEGIN:STANDARD
TZNAME:CET
TZOFFSETFROM:+005328
TZOFFSETTO:+0100
DTSTART:18930401T000000
END:STANDARD
BEGIN:DAYLIGHT
TZNAME:CEST
TZOFFSETFROM:+0100
TZOFFSETTO:+0200
DTSTART:19160430T230000
RDATE:19400401T020000
RDATE:19430329T020000
RDATE:19460414T020000
RDATE:19470406T030000
RDATE:19480418T020000
RDATE:19490410T020000
RDATE:19800406T020000
END:DAYLIGHT
BEGIN:STANDARD
TZNAME:CET
TZOFFSETFROM:+0200
TZOFFSETTO:+0100
DTSTART:19161001T010000
RDATE:19421102T030000
RDATE:19431004T030000
RDATE:19441002T030000
RDATE:19451118T030000
RDATE:19461007T030000
END:STANDARD
BEGIN:DAYLIGHT
TZNAME:CEST
TZOFFSETFROM:+0100
TZOFFSETTO:+0200
DTSTART:19170416T020000
RRULE:FREQ=YEARLY;UNTIL=19180415T010000Z;BYMONTH=4;BYDAY=3MO
END:DAYLIGHT
BEGIN:STANDARD
TZNAME:CET
TZOFFSETFROM:+0200
TZOFFSETTO:+0100
DTSTART:19170917T030000
RRULE:FREQ=YEARLY;UNTIL=19180916T010000Z;BYMONTH=9;BYDAY=3MO
END:STANDARD
BEGIN:DAYLIGHT
TZNAME:CEST
TZOFFSETFROM:+0100
TZOFFSETTO:+0200
DTSTART:19440403T020000
RRULE:FREQ=YEARLY;UNTIL=19450402T010000Z;BYMONTH=4;BYDAY=1MO
END:DAYLIGHT
BEGIN:DAYLIGHT
TZNAME:CEMT
TZOFFSETFROM:+0200
TZOFFSETTO:+0300
DTSTART:19450524T020000
RDATE:19470511T030000
END:DAYLIGHT
BEGIN:DAYLIGHT
TZNAME:CEST
TZOFFSETFROM:+0300
TZOFFSETTO:+0200
DTSTART:19450924T030000
RDATE:19470629T030000
END:DAYLIGHT
BEGIN:STANDARD
TZNAME:CET
TZOFFSETFROM:+0100
TZOFFSETTO:+0100
DTSTART:19460101T000000
RDATE:19800101T000000
END:STANDARD
BEGIN:STANDARD
TZNAME:CET
TZOFFSETFROM:+0200
TZOFFSETTO:+0100
DTSTART:19471005T030000
RRULE:FREQ=YEARLY;UNTIL=19491002T010000Z;BYMONTH=10;BYDAY=1SU
END:STANDARD
BEGIN:STANDARD
TZNAME:CET
TZOFFSETFROM:+0200
TZOFFSETTO:+0100
DTSTART:19800928T030000
RRULE:FREQ=YEARLY;UNTIL=19950924T010000Z;BYMONTH=9;BYDAY=-1SU
END:STANDARD
BEGIN:DAYLIGHT
TZNAME:CEST
TZOFFSETFROM:+0100
TZOFFSETTO:+0200
DTSTART:19810329T020000
RRULE:FREQ=YEARLY;BYMONTH=3;BYDAY=-1SU
END:DAYLIGHT
BEGIN:STANDARD
TZNAME:CET
TZOFFSETFROM:+0200
TZOFFSETTO:+0100
DTSTART:19961027T030000
RRULE:FREQ=YEARLY;BYMONTH=10;BYDAY=-1SU
END:STANDARD
END:VTIMEZONE
BEGIN:VEVENT
DTSTAMP:20260425T005109Z
DTSTART;TZID=Europe/Berlin:20240831T130000
DTEND;TZID=Europe/Berlin:20240831T160000
SUMMARY:JUG\, 3.Liga\, Gr.5\, Vorrunde Rapperswil-Jona III vs Meilen-Männedorf II (1)
UID:271b3ad7-e681-4e1a-b4f7-e68e12ea5214
STATUS:CONFIRMED
LAST-MODIFIED:20240905T064557Z
DESCRIPTION:Jugend\, 3. Liga\,Gruppe 5\, Vorrunde\nBegegnungs-Nr: 1\nHeim: Rapperswil-Jona III\nGast: Meilen-Männedorf II\n
LOCATION:
CATEGORIES:Saison 2024/25
END:VEVENT
BEGIN:VEVENT
DTSTAMP:20260425T005109Z
DTSTART;TZID=Europe/Berlin:20240831T143000
DTEND;TZID=Europe/Berlin:20240831T173000
SUMMARY:JUG\, 3.Liga\, Gr.5\, Vorrunde Rapperswil-Jona III vs Wetzikon II (4)
UID:5752dff4-0860-4bd5-90ce-50d022554657
STATUS:CONFIRMED
LAST-MODIFIED:20240901T094444Z
DESCRIPTION:Jugend\, 3. Liga\,Gruppe 5\, Vorrunde\nBegegnungs-Nr: 4\nHeim: Rapperswil-Jona III\nGast: Wetzikon II\n\nAdresse: Kreuzstrasse 43\, 8640 Rapperswil\n
LOCATION:Kreuzstrasse 43\, 8640 Rapperswil
CATEGORIES:Saison 2024/25
END:VEVENT
BEGIN:VEVENT
DTSTAMP:20260425T005109Z
DTSTART;TZID=Europe/Berlin:20241116T160000
DTEND;TZID=Europe/Berlin:20241116T190000
SUMMARY:JUG\, 3.Liga\, Gr.4\, Zw-Runde Rapperswil-Jona III vs Horn (6)
UID:15fb3dd0-6244-467b-a0de-8ea78a6e6712
STATUS:CONFIRMED
LAST-MODIFIED:20241122T153212Z
DESCRIPTION:Jugend\, 3. Liga\, Gruppe 4\, Zw-Runde\nBegegnungs-Nr: 6\nHeim: Rapperswil-Jona III\nGast: Horn\n
LOCATION:
CATEGORIES:Saison 2024/25
END:VEVENT
BEGIN:VEVENT
DTSTAMP:20260425T005109Z
DTSTART;TZID=Europe/Berlin:20250329T143000
DTEND;TZID=Europe/Berlin:20250329T173000
SUMMARY:JUG\, 3.Liga\, Gr.4\, Final Rapperswil-Jona III vs Bülach II (3)
UID:45dbd5b9-a865-4071-82df-acc3ab3621e8
STATUS:CONFIRMED
LAST-MODIFIED:20250404T085354Z
DESCRIPTION:Jugend\, 3. Liga\, Gruppe 4\, Final\nBegegnungs-Nr: 3\nHeim: Rapperswil-Jona III\nGast: Bülach II\n\nAdresse: Kreuzstrasse 43\, 8640 Rapperswil\n
LOCATION:Kreuzstrasse 43\, 8640 Rapperswil
CATEGORIES:Saison 2024/25
END:VEVENT
BEGIN:VEVENT
DTSTAMP:20260425T005109Z
DTSTART;TZID=Europe/Berlin:20240831T161500
DTEND;TZID=Europe/Berlin:20240831T191500
SUMMARY:JUG\, 3.Liga\, Gr.5\, Vorrunde TSV Zumikon vs Rapperswil-Jona III (6)
UID:607dba8f-cfd8-4184-93aa-dd39ae1bb291
STATUS:CONFIRMED
LAST-MODIFIED:20240905T080448Z
DESCRIPTION:Jugend\, 3. Liga\,Gruppe 5\, Vorrunde\nBegegnungs-Nr: 6\nHeim: TSV Zumikon\nGast: Rapperswil-Jona III\n\nAdresse: Dorfstrasse 45\, 8126 Zumikon\n
LOCATION:Dorfstrasse 45\, 8126 Zumikon
CATEGORIES:Saison 2024/25
END:VEVENT
BEGIN:VEVENT
DTSTAMP:20260425T005109Z
DTSTART;TZID=Europe/Berlin:20241116T143000
DTEND;TZID=Europe/Berlin:20241116T173000
SUMMARY:JUG\, 3.Liga\, Gr.4\, Zw-Runde Weinfelden vs Rapperswil-Jona III (3)
UID:82d8a7e2-19e4-4cfc-9c15-6ef323edc1fe
STATUS:CONFIRMED
LAST-MODIFIED:20241122T153145Z
DESCRIPTION:Jugend\, 3. Liga\, Gruppe 4\, Zw-Runde\nBegegnungs-Nr: 3\nHeim: Weinfelden\nGast: Rapperswil-Jona III\n
LOCATION:
CATEGORIES:Saison 2024/25
END:VEVENT
BEGIN:VEVENT
DTSTAMP:20260425T005109Z
DTSTART;TZID=Europe/Berlin:20241116T130000
DTEND;TZID=Europe/Berlin:20241116T160000
SUMMARY:JUG\, 3.Liga\, Gr.4\, Zw-Runde Wädenswil III vs Rapperswil-Jona III (2)
UID:e26c40e6-a2da-407f-8846-4dfea72bab29
STATUS:CONFIRMED
LAST-MODIFIED:20241122T153135Z
DESCRIPTION:Jugend\, 3. Liga\, Gruppe 4\, Zw-Runde\nBegegnungs-Nr: 2\nHeim: Wädenswil III\nGast: Rapperswil-Jona III\n
LOCATION:
CATEGORIES:Saison 2024/25
END:VEVENT
BEGIN:VEVENT
DTSTAMP:20260425T005109Z
DTSTART;TZID=Europe/Berlin:20250329T130000
DTEND;TZID=Europe/Berlin:20250329T160000
SUMMARY:JUG\, 3.Liga\, Gr.4\, Final Wetzikon II vs Rapperswil-Jona III (1)
UID:199537de-4bac-47a8-8c24-a676a98f0e01
STATUS:CONFIRMED
LAST-MODIFIED:20250404T085342Z
DESCRIPTION:Jugend\, 3. Liga\, Gruppe 4\, Final\nBegegnungs-Nr: 1\nHeim: Wetzikon II\nGast: Rapperswil-Jona III\nHalle: Poule in Wetzikon\, TH Berufsschulen\nAdresse: Usterstrasse 37\, 8620 Wetzikon\n
LOCATION:Poule in Wetzikon\, TH Berufsschulen Usterstrasse 37\, 8620 Wetzikon
CATEGORIES:Saison 2024/25
END:VEVENT
BEGIN:VEVENT
DTSTAMP:20260425T005109Z
DTSTART;TZID=Europe/Berlin:20250329T160000
DTEND;TZID=Europe/Berlin:20250329T190000
SUMMARY:JUG\, 3.Liga\, Gr.4\, Final Ettenhausen vs Rapperswil-Jona III (5)
UID:f5fc6ef7-560f-4e31-907d-7f929aa697c1
STATUS:CONFIRMED
LAST-MODIFIED:20250506T143039Z
DESCRIPTION:Jugend\, 3. Liga\, Gruppe 4\, Final\nBegegnungs-Nr: 5\nHeim: Ettenhausen\nGast: Rapperswil-Jona III\n\nAdresse: Weidlistrasse 12\, 8356 Ettenhausen\n
LOCATION:Weidlistrasse 12\, 8356 Ettenhausen
CATEGORIES:Saison 2024/25
END:VEVENT
END:VCALENDAR
