BEGIN:VCALENDAR
PRODID:-//nuDatenautomaten//framework iCal4j //DE
VERSION:2.0
CALSCALE:GREGORIAN
BEGIN:VTIMEZONE
TZID:Europe/Berlin
LAST-MODIFIED:20260306T231828Z
TZURL:https://www.tzurl.org/zoneinfo/Europe/Berlin
X-LIC-LOCATION:Europe/Berlin
X-PROLEPTIC-TZNAME:LMT
BEGIN:STANDARD
TZNAME:CET
TZOFFSETFROM:+005328
TZOFFSETTO:+0100
DTSTART:18930401T000000
END:STANDARD
BEGIN:DAYLIGHT
TZNAME:CEST
TZOFFSETFROM:+0100
TZOFFSETTO:+0200
DTSTART:19160430T230000
RDATE:19400401T020000
RDATE:19430329T020000
RDATE:19460414T020000
RDATE:19470406T030000
RDATE:19480418T020000
RDATE:19490410T020000
RDATE:19800406T020000
END:DAYLIGHT
BEGIN:STANDARD
TZNAME:CET
TZOFFSETFROM:+0200
TZOFFSETTO:+0100
DTSTART:19161001T010000
RDATE:19421102T030000
RDATE:19431004T030000
RDATE:19441002T030000
RDATE:19451118T030000
RDATE:19461007T030000
END:STANDARD
BEGIN:DAYLIGHT
TZNAME:CEST
TZOFFSETFROM:+0100
TZOFFSETTO:+0200
DTSTART:19170416T020000
RRULE:FREQ=YEARLY;UNTIL=19180415T010000Z;BYMONTH=4;BYDAY=3MO
END:DAYLIGHT
BEGIN:STANDARD
TZNAME:CET
TZOFFSETFROM:+0200
TZOFFSETTO:+0100
DTSTART:19170917T030000
RRULE:FREQ=YEARLY;UNTIL=19180916T010000Z;BYMONTH=9;BYDAY=3MO
END:STANDARD
BEGIN:DAYLIGHT
TZNAME:CEST
TZOFFSETFROM:+0100
TZOFFSETTO:+0200
DTSTART:19440403T020000
RRULE:FREQ=YEARLY;UNTIL=19450402T010000Z;BYMONTH=4;BYDAY=1MO
END:DAYLIGHT
BEGIN:DAYLIGHT
TZNAME:CEMT
TZOFFSETFROM:+0200
TZOFFSETTO:+0300
DTSTART:19450524T020000
RDATE:19470511T030000
END:DAYLIGHT
BEGIN:DAYLIGHT
TZNAME:CEST
TZOFFSETFROM:+0300
TZOFFSETTO:+0200
DTSTART:19450924T030000
RDATE:19470629T030000
END:DAYLIGHT
BEGIN:STANDARD
TZNAME:CET
TZOFFSETFROM:+0100
TZOFFSETTO:+0100
DTSTART:19460101T000000
RDATE:19800101T000000
END:STANDARD
BEGIN:STANDARD
TZNAME:CET
TZOFFSETFROM:+0200
TZOFFSETTO:+0100
DTSTART:19471005T030000
RRULE:FREQ=YEARLY;UNTIL=19491002T010000Z;BYMONTH=10;BYDAY=1SU
END:STANDARD
BEGIN:STANDARD
TZNAME:CET
TZOFFSETFROM:+0200
TZOFFSETTO:+0100
DTSTART:19800928T030000
RRULE:FREQ=YEARLY;UNTIL=19950924T010000Z;BYMONTH=9;BYDAY=-1SU
END:STANDARD
BEGIN:DAYLIGHT
TZNAME:CEST
TZOFFSETFROM:+0100
TZOFFSETTO:+0200
DTSTART:19810329T020000
RRULE:FREQ=YEARLY;BYMONTH=3;BYDAY=-1SU
END:DAYLIGHT
BEGIN:STANDARD
TZNAME:CET
TZOFFSETFROM:+0200
TZOFFSETTO:+0100
DTSTART:19961027T030000
RRULE:FREQ=YEARLY;BYMONTH=10;BYDAY=-1SU
END:STANDARD
END:VTIMEZONE
BEGIN:VEVENT
DTSTAMP:20260424T231829Z
DTSTART;TZID=Europe/Berlin:20250111T170000
DTEND;TZID=Europe/Berlin:20250111T200000
SUMMARY:STTL Men Carouge vs Neuhausen (7)
UID:297db4e0-b883-4062-a5ba-cf196f2e906e
STATUS:CONFIRMED
LAST-MODIFIED:20250113T131117Z
DESCRIPTION:Swiss Table Tennis League Men\nBegegnungs-Nr: 7\nHeim: Carouge\nGast: Neuhausen\n\nAdresse: Route de Veyrier 44\, 1227 Carouge GE\n
LOCATION:Route de Veyrier 44\, 1227 Carouge GE
CATEGORIES:Saison 2024/25
END:VEVENT
BEGIN:VEVENT
DTSTAMP:20260424T231829Z
DTSTART;TZID=Europe/Berlin:20250330T140000
DTEND;TZID=Europe/Berlin:20250330T170000
SUMMARY:STTL Men Carouge vs Lugano (27)
UID:3aa4ed13-31a0-4521-ac6e-8acd63b2cefa
STATUS:CONFIRMED
LAST-MODIFIED:20250403T092440Z
DESCRIPTION:Swiss Table Tennis League Men\nBegegnungs-Nr: 27\nHeim: Carouge\nGast: Lugano\n\nAdresse: Route de Veyrier 44\, 1227 Carouge GE\n
LOCATION:Route de Veyrier 44\, 1227 Carouge GE
CATEGORIES:Saison 2024/25
END:VEVENT
BEGIN:VEVENT
DTSTAMP:20260424T231829Z
DTSTART;TZID=Europe/Berlin:20250329T170000
DTEND;TZID=Europe/Berlin:20250329T200000
SUMMARY:STTL Men Carouge vs Meyrin (21)
UID:6d5b04a1-9534-4293-a1e2-3ee8d6aae0c2
STATUS:CONFIRMED
LAST-MODIFIED:20250403T092808Z
DESCRIPTION:Swiss Table Tennis League Men\nBegegnungs-Nr: 21\nHeim: Carouge\nGast: Meyrin\n\nAdresse: Route de Veyrier 44\, 1227 Carouge GE\n
LOCATION:Route de Veyrier 44\, 1227 Carouge GE
CATEGORIES:Saison 2024/25
END:VEVENT
BEGIN:VEVENT
DTSTAMP:20260424T231829Z
DTSTART;TZID=Europe/Berlin:20250112T150000
DTEND;TZID=Europe/Berlin:20250112T180000
SUMMARY:STTL Men Carouge vs Young Stars ZH (9)
UID:037d43aa-3997-450b-af55-30543b9f9c60
STATUS:CONFIRMED
LAST-MODIFIED:20250113T131203Z
DESCRIPTION:Swiss Table Tennis League Men\nBegegnungs-Nr: 9\nHeim: Carouge\nGast: Young Stars ZH\n\nAdresse: Route de Veyrier 44\, 1227 Carouge GE\n
LOCATION:Route de Veyrier 44\, 1227 Carouge GE
CATEGORIES:Saison 2024/25
END:VEVENT
BEGIN:VEVENT
DTSTAMP:20260424T231829Z
DTSTART;TZID=Europe/Berlin:20241215T150000
DTEND;TZID=Europe/Berlin:20241215T180000
SUMMARY:STTL Men Carouge vs ZZ-Lancy (1)
UID:a5419c63-00f8-4c49-b9cc-627bdc7b6270
STATUS:CONFIRMED
LAST-MODIFIED:20241218T172810Z
DESCRIPTION:Swiss Table Tennis League Men\nBegegnungs-Nr: 1\nHeim: Carouge\nGast: ZZ-Lancy\n\nAdresse: Route de Veyrier 44\, 1227 Carouge GE\n
LOCATION:Route de Veyrier 44\, 1227 Carouge GE
CATEGORIES:Saison 2024/25
END:VEVENT
BEGIN:VEVENT
DTSTAMP:20260424T231829Z
DTSTART;TZID=Europe/Berlin:20241005T170000
DTEND;TZID=Europe/Berlin:20241005T200000
SUMMARY:STTL Men Carouge vs Rapperswil-Jona (1)
UID:2f2fce49-8941-4fca-bae6-fd79553e4b94
STATUS:CONFIRMED
LAST-MODIFIED:20241011T074515Z
DESCRIPTION:Swiss Table Tennis League Men\nBegegnungs-Nr: 1\nHeim: Carouge\nGast: Rapperswil-Jona\n\nAdresse: Route de Veyrier 44\, 1227 Carouge GE\n
LOCATION:Route de Veyrier 44\, 1227 Carouge GE
CATEGORIES:Saison 2024/25
END:VEVENT
BEGIN:VEVENT
DTSTAMP:20260424T231829Z
DTSTART;TZID=Europe/Berlin:20241006T150000
DTEND;TZID=Europe/Berlin:20241006T180000
SUMMARY:STTL Men Carouge vs Rio-Star Muttenz (7)
UID:7df82ce7-8652-471c-8fbf-620ca11948bb
STATUS:CONFIRMED
LAST-MODIFIED:20241011T074605Z
DESCRIPTION:Swiss Table Tennis League Men\nBegegnungs-Nr: 7\nHeim: Carouge\nGast: Rio-Star Muttenz\n\nAdresse: Route de Veyrier 44\, 1227 Carouge GE\n
LOCATION:Route de Veyrier 44\, 1227 Carouge GE
CATEGORIES:Saison 2024/25
END:VEVENT
BEGIN:VEVENT
DTSTAMP:20260424T231829Z
DTSTART;TZID=Europe/Berlin:20250412T150000
DTEND;TZID=Europe/Berlin:20250412T180000
SUMMARY:STTL Men Play-Off 1/2-Final Carouge vs Rio-Star Muttenz (1)
UID:2ffbb234-2d3e-4d25-a8d7-c46fd3991749
STATUS:CONFIRMED
LAST-MODIFIED:20250414T075940Z
DESCRIPTION:Swiss Table Tennis League Men Play-Off 1/2-Final\nBegegnungs-Nr: 1\nHeim: Carouge\nGast: Rio-Star Muttenz\n\nAdresse: Route de Veyrier 44\, 1227 Carouge GE\n
LOCATION:Route de Veyrier 44\, 1227 Carouge GE
CATEGORIES:Saison 2024/25
END:VEVENT
BEGIN:VEVENT
DTSTAMP:20260424T231829Z
DTSTART;TZID=Europe/Berlin:20250301T170000
DTEND;TZID=Europe/Berlin:20250301T200000
SUMMARY:STTL Men Rapperswil-Jona vs Carouge (13)
UID:69c2f55c-3f23-45a5-9f60-62af76e173d1
STATUS:CONFIRMED
LAST-MODIFIED:20250303T062857Z
DESCRIPTION:Swiss Table Tennis League Men\nBegegnungs-Nr: 13\nHeim: Rapperswil-Jona\nGast: Carouge\n\nAdresse: Kreuzstrasse 43\, 8640 Rapperswil\n
LOCATION:Kreuzstrasse 43\, 8640 Rapperswil
CATEGORIES:Saison 2024/25
END:VEVENT
BEGIN:VEVENT
DTSTAMP:20260424T231829Z
DTSTART;TZID=Europe/Berlin:20250302T140000
DTEND;TZID=Europe/Berlin:20250302T170000
SUMMARY:STTL Men Rio-Star Muttenz vs Carouge (19)
UID:90fc691f-bdba-43b7-8039-7312cb81cde3
STATUS:CONFIRMED
LAST-MODIFIED:20250303T062955Z
DESCRIPTION:Swiss Table Tennis League Men\nBegegnungs-Nr: 19\nHeim: Rio-Star Muttenz\nGast: Carouge\n\nAdresse: Gründenstrasse 32\, 4132 Muttenz\n
LOCATION:Gründenstrasse 32\, 4132 Muttenz
CATEGORIES:Saison 2024/25
END:VEVENT
BEGIN:VEVENT
DTSTAMP:20260424T231829Z
DTSTART;TZID=Europe/Berlin:20241214T150000
DTEND;TZID=Europe/Berlin:20241214T180000
SUMMARY:STTL Men Meyrin vs Carouge (25)
UID:7772d3c5-d27f-46ef-a669-d0d8a45c1169
STATUS:CONFIRMED
LAST-MODIFIED:20250107T095215Z
DESCRIPTION:Swiss Table Tennis League Men\nBegegnungs-Nr: 25\nHeim: Meyrin\nGast: Carouge\n\nAdresse: Rue De-Livron 2\, 1217 Meyrin\n
LOCATION:Rue De-Livron 2\, 1217 Meyrin
CATEGORIES:Saison 2024/25
END:VEVENT
BEGIN:VEVENT
DTSTAMP:20260424T231829Z
DTSTART;TZID=Europe/Berlin:20241116T180000
DTEND;TZID=Europe/Berlin:20241116T210000
SUMMARY:STTL Men Neuhausen vs Carouge (19)
UID:3c7bcec0-b888-47f0-925f-259c38beacdb
STATUS:CONFIRMED
LAST-MODIFIED:20241118T131608Z
DESCRIPTION:Swiss Table Tennis League Men\nBegegnungs-Nr: 19\nHeim: Neuhausen\nGast: Carouge\n\nAdresse: Ebnatstrasse 35\, 8200 Schaffhausen\n
LOCATION:Ebnatstrasse 35\, 8200 Schaffhausen
CATEGORIES:Saison 2024/25
END:VEVENT
BEGIN:VEVENT
DTSTAMP:20260424T231829Z
DTSTART;TZID=Europe/Berlin:20241026T140000
DTEND;TZID=Europe/Berlin:20241026T170000
SUMMARY:STTL Men Lugano vs Carouge (11)
UID:c7ff75f7-5fb0-40a7-b807-14498c5f1249
STATUS:CONFIRMED
LAST-MODIFIED:20241031T085450Z
DESCRIPTION:Swiss Table Tennis League Men\nBegegnungs-Nr: 11\nHeim: Lugano\nGast: Carouge\n\nAdresse: Via del Tiglio\, 6908 Cassarate\n
LOCATION:Via del Tiglio\, 6908 Cassarate
CATEGORIES:Saison 2024/25
END:VEVENT
BEGIN:VEVENT
DTSTAMP:20260424T231829Z
DTSTART;TZID=Europe/Berlin:20241027T170000
DTEND;TZID=Europe/Berlin:20241027T200000
SUMMARY:STTL Men ZZ-Lancy vs Carouge (13)
UID:2ee6ef38-d9a0-4cbe-9f2a-e0357158db48
STATUS:CONFIRMED
LAST-MODIFIED:20241031T084641Z
DESCRIPTION:Swiss Table Tennis League Men\nBegegnungs-Nr: 13\nHeim: ZZ-Lancy\nGast: Carouge\n\nAdresse: Avenue du Curé-Baud 40\, 1212 Grand-Lancy\n
LOCATION:Avenue du Curé-Baud 40\, 1212 Grand-Lancy
CATEGORIES:Saison 2024/25
END:VEVENT
BEGIN:VEVENT
DTSTAMP:20260424T231829Z
DTSTART;TZID=Europe/Berlin:20241117T120000
DTEND;TZID=Europe/Berlin:20241117T150000
SUMMARY:STTL Men Young Stars ZH vs Carouge (21)
UID:2d9adf2d-c5ea-4714-bfba-bc515b66c3c7
STATUS:CONFIRMED
LAST-MODIFIED:20241118T131624Z
DESCRIPTION:Swiss Table Tennis League Men\nBegegnungs-Nr: 21\nHeim: Young Stars ZH\nGast: Carouge\n\nAdresse: Seefeldstrasse 93\, 8008 Zürich\n
LOCATION:Seefeldstrasse 93\, 8008 Zürich
CATEGORIES:Saison 2024/25
END:VEVENT
BEGIN:VEVENT
DTSTAMP:20260424T231829Z
DTSTART;TZID=Europe/Berlin:20250524T163000
DTEND;TZID=Europe/Berlin:20250524T193000
SUMMARY:STTL Men Superfinal ZZ-Lancy vs Carouge (1)
UID:23ba12ae-20e9-438f-8fa8-e80023cc1f16
STATUS:CONFIRMED
LAST-MODIFIED:20250524T165956Z
DESCRIPTION:Swiss Table Tennis League Men Superfinal\nBegegnungs-Nr: 1\nHeim: ZZ-Lancy\nGast: Carouge\n
LOCATION:
CATEGORIES:Saison 2024/25
END:VEVENT
BEGIN:VEVENT
DTSTAMP:20260424T231829Z
DTSTART;TZID=Europe/Berlin:20250413T140000
DTEND;TZID=Europe/Berlin:20250413T170000
SUMMARY:STTL Men Play-Off 1/2-Final Rio-Star Muttenz vs Carouge (3)
UID:651846b9-6265-4e58-be08-e6f8000d90c0
STATUS:CONFIRMED
LAST-MODIFIED:20250414T075852Z
DESCRIPTION:Swiss Table Tennis League Men Play-Off 1/2-Final\nBegegnungs-Nr: 3\nHeim: Rio-Star Muttenz\nGast: Carouge\n\nAdresse: Gründenstrasse 32\, 4132 Muttenz\n
LOCATION:Gründenstrasse 32\, 4132 Muttenz
CATEGORIES:Saison 2024/25
END:VEVENT
BEGIN:VEVENT
DTSTAMP:20260424T231829Z
DTSTART;TZID=Europe/Berlin:20250420T150000
DTEND;TZID=Europe/Berlin:20250420T180000
SUMMARY:STTL Men Play-Off 1/2-Final Rio-Star Muttenz vs Carouge (5)
UID:63cf190b-6501-4c3b-be58-77e2227f47a6
STATUS:CONFIRMED
LAST-MODIFIED:20250424T074555Z
DESCRIPTION:Swiss Table Tennis League Men Play-Off 1/2-Final\nBegegnungs-Nr: 5\nHeim: Rio-Star Muttenz\nGast: Carouge\n\nAdresse: Gründenstrasse 32\, 4132 Muttenz\n
LOCATION:Gründenstrasse 32\, 4132 Muttenz
CATEGORIES:Saison 2024/25
END:VEVENT
END:VCALENDAR
