BEGIN:VCALENDAR
PRODID:-//nuDatenautomaten//framework iCal4j //DE
VERSION:2.0
CALSCALE:GREGORIAN
BEGIN:VTIMEZONE
TZID:Europe/Berlin
LAST-MODIFIED:20260306T231828Z
TZURL:https://www.tzurl.org/zoneinfo/Europe/Berlin
X-LIC-LOCATION:Europe/Berlin
X-PROLEPTIC-TZNAME:LMT
BEGIN:STANDARD
TZNAME:CET
TZOFFSETFROM:+005328
TZOFFSETTO:+0100
DTSTART:18930401T000000
END:STANDARD
BEGIN:DAYLIGHT
TZNAME:CEST
TZOFFSETFROM:+0100
TZOFFSETTO:+0200
DTSTART:19160430T230000
RDATE:19400401T020000
RDATE:19430329T020000
RDATE:19460414T020000
RDATE:19470406T030000
RDATE:19480418T020000
RDATE:19490410T020000
RDATE:19800406T020000
END:DAYLIGHT
BEGIN:STANDARD
TZNAME:CET
TZOFFSETFROM:+0200
TZOFFSETTO:+0100
DTSTART:19161001T010000
RDATE:19421102T030000
RDATE:19431004T030000
RDATE:19441002T030000
RDATE:19451118T030000
RDATE:19461007T030000
END:STANDARD
BEGIN:DAYLIGHT
TZNAME:CEST
TZOFFSETFROM:+0100
TZOFFSETTO:+0200
DTSTART:19170416T020000
RRULE:FREQ=YEARLY;UNTIL=19180415T010000Z;BYMONTH=4;BYDAY=3MO
END:DAYLIGHT
BEGIN:STANDARD
TZNAME:CET
TZOFFSETFROM:+0200
TZOFFSETTO:+0100
DTSTART:19170917T030000
RRULE:FREQ=YEARLY;UNTIL=19180916T010000Z;BYMONTH=9;BYDAY=3MO
END:STANDARD
BEGIN:DAYLIGHT
TZNAME:CEST
TZOFFSETFROM:+0100
TZOFFSETTO:+0200
DTSTART:19440403T020000
RRULE:FREQ=YEARLY;UNTIL=19450402T010000Z;BYMONTH=4;BYDAY=1MO
END:DAYLIGHT
BEGIN:DAYLIGHT
TZNAME:CEMT
TZOFFSETFROM:+0200
TZOFFSETTO:+0300
DTSTART:19450524T020000
RDATE:19470511T030000
END:DAYLIGHT
BEGIN:DAYLIGHT
TZNAME:CEST
TZOFFSETFROM:+0300
TZOFFSETTO:+0200
DTSTART:19450924T030000
RDATE:19470629T030000
END:DAYLIGHT
BEGIN:STANDARD
TZNAME:CET
TZOFFSETFROM:+0100
TZOFFSETTO:+0100
DTSTART:19460101T000000
RDATE:19800101T000000
END:STANDARD
BEGIN:STANDARD
TZNAME:CET
TZOFFSETFROM:+0200
TZOFFSETTO:+0100
DTSTART:19471005T030000
RRULE:FREQ=YEARLY;UNTIL=19491002T010000Z;BYMONTH=10;BYDAY=1SU
END:STANDARD
BEGIN:STANDARD
TZNAME:CET
TZOFFSETFROM:+0200
TZOFFSETTO:+0100
DTSTART:19800928T030000
RRULE:FREQ=YEARLY;UNTIL=19950924T010000Z;BYMONTH=9;BYDAY=-1SU
END:STANDARD
BEGIN:DAYLIGHT
TZNAME:CEST
TZOFFSETFROM:+0100
TZOFFSETTO:+0200
DTSTART:19810329T020000
RRULE:FREQ=YEARLY;BYMONTH=3;BYDAY=-1SU
END:DAYLIGHT
BEGIN:STANDARD
TZNAME:CET
TZOFFSETFROM:+0200
TZOFFSETTO:+0100
DTSTART:19961027T030000
RRULE:FREQ=YEARLY;BYMONTH=10;BYDAY=-1SU
END:STANDARD
END:VTIMEZONE
BEGIN:VEVENT
DTSTAMP:20260419T214335Z
DTSTART;TZID=Europe/Berlin:20241206T200000
DTEND;TZID=Europe/Berlin:20241206T230000
SUMMARY:L1P1 Val-de-Ruz vs Tramelan (0)
UID:2cfe1094-a8da-4e4f-aa00-a8df90d0fcf9
STATUS:CONFIRMED
LAST-MODIFIED:20241208T110021Z
DESCRIPTION:1ère ligue phase 1\nBegegnungs-Nr: 0\nHeim: Val-de-Ruz\nGast: Tramelan\n\nAdresse: Rue du Collège 31\, 2207 Coffrane\n
LOCATION:Rue du Collège 31\, 2207 Coffrane
CATEGORIES:Saison 2024/25
END:VEVENT
BEGIN:VEVENT
DTSTAMP:20260419T214335Z
DTSTART;TZID=Europe/Berlin:20241115T200000
DTEND;TZID=Europe/Berlin:20241115T230000
SUMMARY:L1P1 Val-de-Ruz vs Delémont II (0)
UID:bf4a1915-c8d9-4c35-8002-fbb6f1761730
STATUS:CONFIRMED
LAST-MODIFIED:20241122T115009Z
DESCRIPTION:1ère ligue phase 1\nBegegnungs-Nr: 0\nHeim: Val-de-Ruz\nGast: Delémont II\n\nAdresse: Rue du Collège 31\, 2207 Coffrane\n
LOCATION:Rue du Collège 31\, 2207 Coffrane
CATEGORIES:Saison 2024/25
END:VEVENT
BEGIN:VEVENT
DTSTAMP:20260419T214335Z
DTSTART;TZID=Europe/Berlin:20241129T200000
DTEND;TZID=Europe/Berlin:20241129T230000
SUMMARY:L1P1 Val-de-Ruz vs Delémont (0)
UID:254f7ea5-5590-49ec-8051-4d9a54461dbd
STATUS:CONFIRMED
LAST-MODIFIED:20241204T081536Z
DESCRIPTION:1ère ligue phase 1\nBegegnungs-Nr: 0\nHeim: Val-de-Ruz\nGast: Delémont\n\nAdresse: Rue du Collège 31\, 2207 Coffrane\n
LOCATION:Rue du Collège 31\, 2207 Coffrane
CATEGORIES:Saison 2024/25
END:VEVENT
BEGIN:VEVENT
DTSTAMP:20260419T214335Z
DTSTART;TZID=Europe/Berlin:20241004T193000
DTEND;TZID=Europe/Berlin:20241004T223000
SUMMARY:L1P1 Val-de-Ruz vs Entente Pongiste Neuchâteloise II (0)
UID:be4dfd6f-e8f4-4d13-b7fd-8fa4faee6a4d
STATUS:CONFIRMED
LAST-MODIFIED:20241007T072302Z
DESCRIPTION:1ère ligue phase 1\nBegegnungs-Nr: 0\nHeim: Val-de-Ruz\nGast: Entente Pongiste Neuchâteloise II\n\nAdresse: Rue du Collège 31\, 2207 Coffrane\n
LOCATION:Rue du Collège 31\, 2207 Coffrane
CATEGORIES:Saison 2024/25
END:VEVENT
BEGIN:VEVENT
DTSTAMP:20260419T214335Z
DTSTART;TZID=Europe/Berlin:20250124T200000
DTEND;TZID=Europe/Berlin:20250124T230000
SUMMARY:L1P2 Val-de-Ruz vs Entente Pongiste Neuchâteloise (0)
UID:c43ba01c-50ce-4836-8ee7-89eff53361bc
STATUS:CONFIRMED
LAST-MODIFIED:20250128T151613Z
DESCRIPTION:1 ère ligue phase 2\nBegegnungs-Nr: 0\nHeim: Val-de-Ruz\nGast: Entente Pongiste Neuchâteloise\n\nAdresse: Rue du Collège 31\, 2207 Coffrane\n
LOCATION:Rue du Collège 31\, 2207 Coffrane
CATEGORIES:Saison 2024/25
END:VEVENT
BEGIN:VEVENT
DTSTAMP:20260419T214335Z
DTSTART;TZID=Europe/Berlin:20250221T200000
DTEND;TZID=Europe/Berlin:20250221T230000
SUMMARY:L1P2 Val-de-Ruz vs La Chaux-de-Fonds II (0)
UID:d446d7af-87a6-47a2-a44d-8054dc75f02c
STATUS:CONFIRMED
LAST-MODIFIED:20250224T144336Z
DESCRIPTION:1 ère ligue phase 2\nBegegnungs-Nr: 0\nHeim: Val-de-Ruz\nGast: La Chaux-de-Fonds II\n\nAdresse: Rue du Collège 31\, 2207 Coffrane\n
LOCATION:Rue du Collège 31\, 2207 Coffrane
CATEGORIES:Saison 2024/25
END:VEVENT
BEGIN:VEVENT
DTSTAMP:20260419T214335Z
DTSTART;TZID=Europe/Berlin:20250411T200000
DTEND;TZID=Europe/Berlin:20250411T230000
SUMMARY:L1P2 Val-de-Ruz vs Cortaillod II (0)
UID:cc4f9507-09d0-4beb-abc8-b58e64a3c70b
STATUS:CONFIRMED
LAST-MODIFIED:20250414T084057Z
DESCRIPTION:1 ère ligue phase 2\nBegegnungs-Nr: 0\nHeim: Val-de-Ruz\nGast: Cortaillod II\n\nAdresse: Rue du Collège 31\, 2207 Coffrane\n
LOCATION:Rue du Collège 31\, 2207 Coffrane
CATEGORIES:Saison 2024/25
END:VEVENT
BEGIN:VEVENT
DTSTAMP:20260419T214335Z
DTSTART;TZID=Europe/Berlin:20241122T200000
DTEND;TZID=Europe/Berlin:20241122T230000
SUMMARY:L1P1 Cortaillod II vs Val-de-Ruz (0)
UID:0c47b034-1bf1-42bf-9e84-f29f8ae0b9a7
STATUS:CONFIRMED
LAST-MODIFIED:20241129T081719Z
DESCRIPTION:1ère ligue phase 1\nBegegnungs-Nr: 0\nHeim: Cortaillod II\nGast: Val-de-Ruz\n\nAdresse: Coteaux 1\, 2016 Cortaillod\n
LOCATION:Coteaux 1\, 2016 Cortaillod
CATEGORIES:Saison 2024/25
END:VEVENT
BEGIN:VEVENT
DTSTAMP:20260419T214335Z
DTSTART;TZID=Europe/Berlin:20240913T200000
DTEND;TZID=Europe/Berlin:20240913T230000
SUMMARY:L1P1 Entente Pongiste Neuchâteloise vs Val-de-Ruz (0)
UID:e828f619-ffe2-4e6c-96ad-a0e52a501680
STATUS:CONFIRMED
LAST-MODIFIED:20240924T155654Z
DESCRIPTION:1ère ligue phase 1\nBegegnungs-Nr: 0\nHeim: Entente Pongiste Neuchâteloise\nGast: Val-de-Ruz\n\nAdresse: Allée du 700e\, 2525 Le Landeron\n
LOCATION:Allée du 700e\, 2525 Le Landeron
CATEGORIES:Saison 2024/25
END:VEVENT
BEGIN:VEVENT
DTSTAMP:20260419T214335Z
DTSTART;TZID=Europe/Berlin:20240930T201500
DTEND;TZID=Europe/Berlin:20240930T231500
SUMMARY:L1P1 Porrentruy vs Val-de-Ruz (0)
UID:715fa832-fe3f-471c-84bb-d3c6dbdf19e0
STATUS:CONFIRMED
LAST-MODIFIED:20241003T090002Z
DESCRIPTION:1ère ligue phase 1\nBegegnungs-Nr: 0\nHeim: Porrentruy\nGast: Val-de-Ruz\n\nAdresse: Rue du Banné 14\, 2900 Porrentruy\n
LOCATION:Rue du Banné 14\, 2900 Porrentruy
CATEGORIES:Saison 2024/25
END:VEVENT
BEGIN:VEVENT
DTSTAMP:20260419T214335Z
DTSTART;TZID=Europe/Berlin:20250127T201500
DTEND;TZID=Europe/Berlin:20250127T231500
SUMMARY:L1P2 Porrentruy vs Val-de-Ruz (0)
UID:58a91adc-c458-4ffd-84b9-8759848a89bc
STATUS:CONFIRMED
LAST-MODIFIED:20250128T151704Z
DESCRIPTION:1 ère ligue phase 2\nBegegnungs-Nr: 0\nHeim: Porrentruy\nGast: Val-de-Ruz\n\nAdresse: Rue du Banné 14\, 2900 Porrentruy\n
LOCATION:Rue du Banné 14\, 2900 Porrentruy
CATEGORIES:Saison 2024/25
END:VEVENT
BEGIN:VEVENT
DTSTAMP:20260419T214335Z
DTSTART;TZID=Europe/Berlin:20250304T193000
DTEND;TZID=Europe/Berlin:20250304T223000
SUMMARY:L1P2 Delémont vs Val-de-Ruz (0)
UID:5be42ede-1fa4-4edd-ae73-510c9ea92673
STATUS:CONFIRMED
LAST-MODIFIED:20250307T081757Z
DESCRIPTION:1 ère ligue phase 2\nBegegnungs-Nr: 0\nHeim: Delémont\nGast: Val-de-Ruz\n\nAdresse: Rue de la Blancherie 4\, 2800 Delémont\n
LOCATION:Rue de la Blancherie 4\, 2800 Delémont
CATEGORIES:Saison 2024/25
END:VEVENT
BEGIN:VEVENT
DTSTAMP:20260419T214335Z
DTSTART;TZID=Europe/Berlin:20250122T193000
DTEND;TZID=Europe/Berlin:20250122T223000
SUMMARY:L1P2 Val-de-Ruz II vs Val-de-Ruz (0)
UID:86a14ecc-3144-4be3-b218-8b7afc6fc1a6
STATUS:CONFIRMED
LAST-MODIFIED:20250128T151018Z
DESCRIPTION:1 ère ligue phase 2\nBegegnungs-Nr: 0\nHeim: Val-de-Ruz II\nGast: Val-de-Ruz\n\nAdresse: Rue de Chasseral 3\, 2053 Cernier\n
LOCATION:Rue de Chasseral 3\, 2053 Cernier
CATEGORIES:Saison 2024/25
END:VEVENT
BEGIN:VEVENT
DTSTAMP:20260419T214335Z
DTSTART;TZID=Europe/Berlin:20250425T200000
DTEND;TZID=Europe/Berlin:20250425T230000
SUMMARY:L1P2 Moutier vs Val-de-Ruz (0)
UID:e1af844c-75ba-4d8f-af04-7a65c617d2af
STATUS:CONFIRMED
LAST-MODIFIED:20250501T051029Z
DESCRIPTION:1 ère ligue phase 2\nBegegnungs-Nr: 0\nHeim: Moutier\nGast: Val-de-Ruz\n\nAdresse: Place Beseran\, 2740 Moutier\n
LOCATION:Place Beseran\, 2740 Moutier
CATEGORIES:Saison 2024/25
END:VEVENT
END:VCALENDAR
