BEGIN:VCALENDAR
PRODID:-//nuDatenautomaten//framework iCal4j //DE
VERSION:2.0
CALSCALE:GREGORIAN
BEGIN:VTIMEZONE
TZID:Europe/Berlin
LAST-MODIFIED:20260306T231828Z
TZURL:https://www.tzurl.org/zoneinfo/Europe/Berlin
X-LIC-LOCATION:Europe/Berlin
X-PROLEPTIC-TZNAME:LMT
BEGIN:STANDARD
TZNAME:CET
TZOFFSETFROM:+005328
TZOFFSETTO:+0100
DTSTART:18930401T000000
END:STANDARD
BEGIN:DAYLIGHT
TZNAME:CEST
TZOFFSETFROM:+0100
TZOFFSETTO:+0200
DTSTART:19160430T230000
RDATE:19400401T020000
RDATE:19430329T020000
RDATE:19460414T020000
RDATE:19470406T030000
RDATE:19480418T020000
RDATE:19490410T020000
RDATE:19800406T020000
END:DAYLIGHT
BEGIN:STANDARD
TZNAME:CET
TZOFFSETFROM:+0200
TZOFFSETTO:+0100
DTSTART:19161001T010000
RDATE:19421102T030000
RDATE:19431004T030000
RDATE:19441002T030000
RDATE:19451118T030000
RDATE:19461007T030000
END:STANDARD
BEGIN:DAYLIGHT
TZNAME:CEST
TZOFFSETFROM:+0100
TZOFFSETTO:+0200
DTSTART:19170416T020000
RRULE:FREQ=YEARLY;UNTIL=19180415T010000Z;BYMONTH=4;BYDAY=3MO
END:DAYLIGHT
BEGIN:STANDARD
TZNAME:CET
TZOFFSETFROM:+0200
TZOFFSETTO:+0100
DTSTART:19170917T030000
RRULE:FREQ=YEARLY;UNTIL=19180916T010000Z;BYMONTH=9;BYDAY=3MO
END:STANDARD
BEGIN:DAYLIGHT
TZNAME:CEST
TZOFFSETFROM:+0100
TZOFFSETTO:+0200
DTSTART:19440403T020000
RRULE:FREQ=YEARLY;UNTIL=19450402T010000Z;BYMONTH=4;BYDAY=1MO
END:DAYLIGHT
BEGIN:DAYLIGHT
TZNAME:CEMT
TZOFFSETFROM:+0200
TZOFFSETTO:+0300
DTSTART:19450524T020000
RDATE:19470511T030000
END:DAYLIGHT
BEGIN:DAYLIGHT
TZNAME:CEST
TZOFFSETFROM:+0300
TZOFFSETTO:+0200
DTSTART:19450924T030000
RDATE:19470629T030000
END:DAYLIGHT
BEGIN:STANDARD
TZNAME:CET
TZOFFSETFROM:+0100
TZOFFSETTO:+0100
DTSTART:19460101T000000
RDATE:19800101T000000
END:STANDARD
BEGIN:STANDARD
TZNAME:CET
TZOFFSETFROM:+0200
TZOFFSETTO:+0100
DTSTART:19471005T030000
RRULE:FREQ=YEARLY;UNTIL=19491002T010000Z;BYMONTH=10;BYDAY=1SU
END:STANDARD
BEGIN:STANDARD
TZNAME:CET
TZOFFSETFROM:+0200
TZOFFSETTO:+0100
DTSTART:19800928T030000
RRULE:FREQ=YEARLY;UNTIL=19950924T010000Z;BYMONTH=9;BYDAY=-1SU
END:STANDARD
BEGIN:DAYLIGHT
TZNAME:CEST
TZOFFSETFROM:+0100
TZOFFSETTO:+0200
DTSTART:19810329T020000
RRULE:FREQ=YEARLY;BYMONTH=3;BYDAY=-1SU
END:DAYLIGHT
BEGIN:STANDARD
TZNAME:CET
TZOFFSETFROM:+0200
TZOFFSETTO:+0100
DTSTART:19961027T030000
RRULE:FREQ=YEARLY;BYMONTH=10;BYDAY=-1SU
END:STANDARD
END:VTIMEZONE
BEGIN:VEVENT
DTSTAMP:20260425T032802Z
DTSTART;TZID=Europe/Berlin:20241211T200000
DTEND;TZID=Europe/Berlin:20241211T230000
SUMMARY:O40 4. Liga Gr. 4 Horgen II vs Chur III (0)
UID:5201db6b-a8cf-49af-8e5a-9d0a325b5b1b
STATUS:CONFIRMED
LAST-MODIFIED:20241212T092751Z
DESCRIPTION:4. Liga O40 Gruppe 4\nBegegnungs-Nr: 0\nHeim: Horgen II\nGast: Chur III\n\nAdresse: Seestrasse 110\, 8810 Horgen\n
LOCATION:Seestrasse 110\, 8810 Horgen
CATEGORIES:Saison 2024/25
END:VEVENT
BEGIN:VEVENT
DTSTAMP:20260425T032802Z
DTSTART;TZID=Europe/Berlin:20250409T200000
DTEND;TZID=Europe/Berlin:20250409T230000
SUMMARY:O40 4. Liga Gr. 4 Horgen II vs Oberrieden (0)
UID:a663917d-0ff5-4760-b319-322b373222d5
STATUS:CONFIRMED
LAST-MODIFIED:20250410T064716Z
DESCRIPTION:4. Liga O40 Gruppe 4\nBegegnungs-Nr: 0\nHeim: Horgen II\nGast: Oberrieden\n\nAdresse: Seestrasse 110\, 8810 Horgen\n
LOCATION:Seestrasse 110\, 8810 Horgen
CATEGORIES:Saison 2024/25
END:VEVENT
BEGIN:VEVENT
DTSTAMP:20260425T032802Z
DTSTART;TZID=Europe/Berlin:20250319T200000
DTEND;TZID=Europe/Berlin:20250319T230000
SUMMARY:O40 4. Liga Gr. 4 Horgen II vs Rüschlikon (0)
UID:980abd64-e8f2-4708-97fc-9e6976ab1b7e
STATUS:CONFIRMED
LAST-MODIFIED:20250321T124454Z
DESCRIPTION:4. Liga O40 Gruppe 4\nBegegnungs-Nr: 0\nHeim: Horgen II\nGast: Rüschlikon\n\nAdresse: Seestrasse 110\, 8810 Horgen\n
LOCATION:Seestrasse 110\, 8810 Horgen
CATEGORIES:Saison 2024/25
END:VEVENT
BEGIN:VEVENT
DTSTAMP:20260425T032802Z
DTSTART;TZID=Europe/Berlin:20250205T200000
DTEND;TZID=Europe/Berlin:20250205T230000
SUMMARY:O40 4. Liga Gr. 4 Horgen II vs Affoltern A/A III (0)
UID:2435dbf1-9452-4be7-806d-44fed146dc53
STATUS:CONFIRMED
LAST-MODIFIED:20250206T141248Z
DESCRIPTION:4. Liga O40 Gruppe 4\nBegegnungs-Nr: 0\nHeim: Horgen II\nGast: Affoltern A/A III\n\nAdresse: Seestrasse 110\, 8810 Horgen\n
LOCATION:Seestrasse 110\, 8810 Horgen
CATEGORIES:Saison 2024/25
END:VEVENT
BEGIN:VEVENT
DTSTAMP:20260425T032802Z
DTSTART;TZID=Europe/Berlin:20241120T200000
DTEND;TZID=Europe/Berlin:20241120T230000
SUMMARY:O40 4. Liga Gr. 4 Horgen II vs Thalwil (0)
UID:cb35a2a0-154e-4d4b-9c38-45a9af6f74ce
STATUS:CONFIRMED
LAST-MODIFIED:20241122T152128Z
DESCRIPTION:4. Liga O40 Gruppe 4\nBegegnungs-Nr: 0\nHeim: Horgen II\nGast: Thalwil\n\nAdresse: Seestrasse 110\, 8810 Horgen\n
LOCATION:Seestrasse 110\, 8810 Horgen
CATEGORIES:Saison 2024/25
END:VEVENT
BEGIN:VEVENT
DTSTAMP:20260425T032802Z
DTSTART;TZID=Europe/Berlin:20240911T200000
DTEND;TZID=Europe/Berlin:20240911T230000
SUMMARY:O40 4. Liga Gr. 4 Horgen II vs Zürich-Affoltern II (0)
UID:24d1e198-56c6-4792-9293-d839a5aafac3
STATUS:CONFIRMED
LAST-MODIFIED:20240913T134152Z
DESCRIPTION:4. Liga O40 Gruppe 4\nBegegnungs-Nr: 0\nHeim: Horgen II\nGast: Zürich-Affoltern II\n\nAdresse: Seestrasse 110\, 8810 Horgen\n
LOCATION:Seestrasse 110\, 8810 Horgen
CATEGORIES:Saison 2024/25
END:VEVENT
BEGIN:VEVENT
DTSTAMP:20260425T032802Z
DTSTART;TZID=Europe/Berlin:20250402T201500
DTEND;TZID=Europe/Berlin:20250402T231500
SUMMARY:O40 4. Liga Gr. 4 Thalwil vs Horgen II (0)
UID:1078748b-d943-4042-b3be-2541fa486d56
STATUS:CONFIRMED
LAST-MODIFIED:20250404T084212Z
DESCRIPTION:4. Liga O40 Gruppe 4\nBegegnungs-Nr: 0\nHeim: Thalwil\nGast: Horgen II\n\nAdresse: Bergstrasse 2\, 8800 Thalwil\n
LOCATION:Bergstrasse 2\, 8800 Thalwil
CATEGORIES:Saison 2024/25
END:VEVENT
BEGIN:VEVENT
DTSTAMP:20260425T032802Z
DTSTART;TZID=Europe/Berlin:20250220T200000
DTEND;TZID=Europe/Berlin:20250220T230000
SUMMARY:O40 4. Liga Gr. 4 Chur III vs Horgen II (0)
UID:f8fbeec1-1cce-448c-b8e2-8bbe56c1c064
STATUS:CONFIRMED
LAST-MODIFIED:20250227T155148Z
DESCRIPTION:4. Liga O40 Gruppe 4\nBegegnungs-Nr: 0\nHeim: Chur III\nGast: Horgen II\n\nAdresse: Sandstr. 35\, 7000 Chur\n
LOCATION:Sandstr. 35\, 7000 Chur
CATEGORIES:Saison 2024/25
END:VEVENT
BEGIN:VEVENT
DTSTAMP:20260425T032802Z
DTSTART;TZID=Europe/Berlin:20250226T194500
DTEND;TZID=Europe/Berlin:20250226T224500
SUMMARY:O40 4. Liga Gr. 4 Zürich-Affoltern II vs Horgen II (0)
UID:818a5e9a-8e35-427b-a4fc-9c46549195ef
STATUS:CONFIRMED
LAST-MODIFIED:20250227T155209Z
DESCRIPTION:4. Liga O40 Gruppe 4\nBegegnungs-Nr: 0\nHeim: Zürich-Affoltern II\nGast: Horgen II\n
LOCATION:
CATEGORIES:Saison 2024/25
END:VEVENT
BEGIN:VEVENT
DTSTAMP:20260425T032802Z
DTSTART;TZID=Europe/Berlin:20241128T194500
DTEND;TZID=Europe/Berlin:20241128T224500
SUMMARY:O40 4. Liga Gr. 4 Oberrieden vs Horgen II (0)
UID:4b12e174-4a3f-4b15-b76c-d2e4758fa724
STATUS:CONFIRMED
LAST-MODIFIED:20241205T130341Z
DESCRIPTION:4. Liga O40 Gruppe 4\nBegegnungs-Nr: 0\nHeim: Oberrieden\nGast: Horgen II\n\nAdresse: Langweg 2\, 8942 Oberrieden\n
LOCATION:Langweg 2\, 8942 Oberrieden
CATEGORIES:Saison 2024/25
END:VEVENT
BEGIN:VEVENT
DTSTAMP:20260425T032802Z
DTSTART;TZID=Europe/Berlin:20241024T201500
DTEND;TZID=Europe/Berlin:20241024T231500
SUMMARY:O40 4. Liga Gr. 4 Rüschlikon vs Horgen II (0)
UID:b406b9d9-0227-4fa7-94ab-81f684837a4f
STATUS:CONFIRMED
LAST-MODIFIED:20241030T133907Z
DESCRIPTION:4. Liga O40 Gruppe 4\nBegegnungs-Nr: 0\nHeim: Rüschlikon\nGast: Horgen II\n\nAdresse: Säumerstrasse 24\, 8803 Rüschlikon\n
LOCATION:Säumerstrasse 24\, 8803 Rüschlikon
CATEGORIES:Saison 2024/25
END:VEVENT
BEGIN:VEVENT
DTSTAMP:20260425T032802Z
DTSTART;TZID=Europe/Berlin:20240822T193000
DTEND;TZID=Europe/Berlin:20240822T223000
SUMMARY:O40 4. Liga Gr. 4 Affoltern A/A III vs Horgen II (0)
UID:6ffc9bc0-51ae-40c0-acd5-aa7497ba245f
STATUS:CONFIRMED
LAST-MODIFIED:20240828T091940Z
DESCRIPTION:4. Liga O40 Gruppe 4\nBegegnungs-Nr: 0\nHeim: Affoltern A/A III\nGast: Horgen II\n\nAdresse: Butzenstrasse 8\, 8910 Affoltern am Albis\n
LOCATION:Butzenstrasse 8\, 8910 Affoltern am Albis
CATEGORIES:Saison 2024/25
END:VEVENT
END:VCALENDAR
