BEGIN:VCALENDAR
PRODID:-//nuDatenautomaten//framework iCal4j //DE
VERSION:2.0
CALSCALE:GREGORIAN
BEGIN:VTIMEZONE
TZID:Europe/Berlin
LAST-MODIFIED:20260306T231828Z
TZURL:https://www.tzurl.org/zoneinfo/Europe/Berlin
X-LIC-LOCATION:Europe/Berlin
X-PROLEPTIC-TZNAME:LMT
BEGIN:STANDARD
TZNAME:CET
TZOFFSETFROM:+005328
TZOFFSETTO:+0100
DTSTART:18930401T000000
END:STANDARD
BEGIN:DAYLIGHT
TZNAME:CEST
TZOFFSETFROM:+0100
TZOFFSETTO:+0200
DTSTART:19160430T230000
RDATE:19400401T020000
RDATE:19430329T020000
RDATE:19460414T020000
RDATE:19470406T030000
RDATE:19480418T020000
RDATE:19490410T020000
RDATE:19800406T020000
END:DAYLIGHT
BEGIN:STANDARD
TZNAME:CET
TZOFFSETFROM:+0200
TZOFFSETTO:+0100
DTSTART:19161001T010000
RDATE:19421102T030000
RDATE:19431004T030000
RDATE:19441002T030000
RDATE:19451118T030000
RDATE:19461007T030000
END:STANDARD
BEGIN:DAYLIGHT
TZNAME:CEST
TZOFFSETFROM:+0100
TZOFFSETTO:+0200
DTSTART:19170416T020000
RRULE:FREQ=YEARLY;UNTIL=19180415T010000Z;BYMONTH=4;BYDAY=3MO
END:DAYLIGHT
BEGIN:STANDARD
TZNAME:CET
TZOFFSETFROM:+0200
TZOFFSETTO:+0100
DTSTART:19170917T030000
RRULE:FREQ=YEARLY;UNTIL=19180916T010000Z;BYMONTH=9;BYDAY=3MO
END:STANDARD
BEGIN:DAYLIGHT
TZNAME:CEST
TZOFFSETFROM:+0100
TZOFFSETTO:+0200
DTSTART:19440403T020000
RRULE:FREQ=YEARLY;UNTIL=19450402T010000Z;BYMONTH=4;BYDAY=1MO
END:DAYLIGHT
BEGIN:DAYLIGHT
TZNAME:CEMT
TZOFFSETFROM:+0200
TZOFFSETTO:+0300
DTSTART:19450524T020000
RDATE:19470511T030000
END:DAYLIGHT
BEGIN:DAYLIGHT
TZNAME:CEST
TZOFFSETFROM:+0300
TZOFFSETTO:+0200
DTSTART:19450924T030000
RDATE:19470629T030000
END:DAYLIGHT
BEGIN:STANDARD
TZNAME:CET
TZOFFSETFROM:+0100
TZOFFSETTO:+0100
DTSTART:19460101T000000
RDATE:19800101T000000
END:STANDARD
BEGIN:STANDARD
TZNAME:CET
TZOFFSETFROM:+0200
TZOFFSETTO:+0100
DTSTART:19471005T030000
RRULE:FREQ=YEARLY;UNTIL=19491002T010000Z;BYMONTH=10;BYDAY=1SU
END:STANDARD
BEGIN:STANDARD
TZNAME:CET
TZOFFSETFROM:+0200
TZOFFSETTO:+0100
DTSTART:19800928T030000
RRULE:FREQ=YEARLY;UNTIL=19950924T010000Z;BYMONTH=9;BYDAY=-1SU
END:STANDARD
BEGIN:DAYLIGHT
TZNAME:CEST
TZOFFSETFROM:+0100
TZOFFSETTO:+0200
DTSTART:19810329T020000
RRULE:FREQ=YEARLY;BYMONTH=3;BYDAY=-1SU
END:DAYLIGHT
BEGIN:STANDARD
TZNAME:CET
TZOFFSETFROM:+0200
TZOFFSETTO:+0100
DTSTART:19961027T030000
RRULE:FREQ=YEARLY;BYMONTH=10;BYDAY=-1SU
END:STANDARD
END:VTIMEZONE
BEGIN:VEVENT
DTSTAMP:20260426T033412Z
DTSTART;TZID=Europe/Berlin:20220823T200000
DTEND;TZID=Europe/Berlin:20220823T230000
SUMMARY:O40 4. Liga Gr. 1 Arbon vs St. Gallen III (0)
UID:ab3284be-6e54-4c53-8eae-979af74031bf
STATUS:CONFIRMED
LAST-MODIFIED:20220825T072759Z
DESCRIPTION:4. Liga O40 Gruppe 1\nBegegnungs-Nr: 0\nHeim: Arbon\nGast: St. Gallen III\n\nAdresse: Promenadenstrasse 17\, 9320 Arbon\n
LOCATION:Promenadenstrasse 17\, 9320 Arbon
CATEGORIES:Saison 2022/23
END:VEVENT
BEGIN:VEVENT
DTSTAMP:20260426T033412Z
DTSTART;TZID=Europe/Berlin:20221025T200000
DTEND;TZID=Europe/Berlin:20221025T230000
SUMMARY:O40 4. Liga Gr. 1 Arbon vs Muolen (0)
UID:823bb8dc-b072-49ed-ab98-e9eaca6e4a32
STATUS:CONFIRMED
LAST-MODIFIED:20221101T092106Z
DESCRIPTION:4. Liga O40 Gruppe 1\nBegegnungs-Nr: 0\nHeim: Arbon\nGast: Muolen\n\nAdresse: Promenadenstrasse 17\, 9320 Arbon\n
LOCATION:Promenadenstrasse 17\, 9320 Arbon
CATEGORIES:Saison 2022/23
END:VEVENT
BEGIN:VEVENT
DTSTAMP:20260426T033412Z
DTSTART;TZID=Europe/Berlin:20221208T200000
DTEND;TZID=Europe/Berlin:20221208T230000
SUMMARY:O40 4. Liga Gr. 1 Arbon vs Bronschhofen (0)
UID:ad686251-c03d-45bc-8158-d1ae70f087bf
STATUS:CONFIRMED
LAST-MODIFIED:20221212T145449Z
DESCRIPTION:4. Liga O40 Gruppe 1\nBegegnungs-Nr: 0\nHeim: Arbon\nGast: Bronschhofen\n\nAdresse: Promenadenstrasse 17\, 9320 Arbon\n
LOCATION:Promenadenstrasse 17\, 9320 Arbon
CATEGORIES:Saison 2022/23
END:VEVENT
BEGIN:VEVENT
DTSTAMP:20260426T033412Z
DTSTART;TZID=Europe/Berlin:20230207T200000
DTEND;TZID=Europe/Berlin:20230207T230000
SUMMARY:O40 4. Liga Gr. 1 Arbon vs Weinfelden (0)
UID:5994ca2e-ace0-4c95-8b9e-a7d5fd757168
STATUS:CONFIRMED
LAST-MODIFIED:20230209T125647Z
DESCRIPTION:4. Liga O40 Gruppe 1\nBegegnungs-Nr: 0\nHeim: Arbon\nGast: Weinfelden\n\nAdresse: Promenadenstrasse 17\, 9320 Arbon\n
LOCATION:Promenadenstrasse 17\, 9320 Arbon
CATEGORIES:Saison 2022/23
END:VEVENT
BEGIN:VEVENT
DTSTAMP:20260426T033412Z
DTSTART;TZID=Europe/Berlin:20230321T200000
DTEND;TZID=Europe/Berlin:20230321T230000
SUMMARY:O40 4. Liga Gr. 1 Arbon vs Gossau St.Gallen II (0)
UID:c43632ab-9f7a-4b95-bfe4-4466d2426be8
STATUS:CONFIRMED
LAST-MODIFIED:20230329T093652Z
DESCRIPTION:4. Liga O40 Gruppe 1\nBegegnungs-Nr: 0\nHeim: Arbon\nGast: Gossau St.Gallen II\n\nAdresse: Promenadenstrasse 17\, 9320 Arbon\n
LOCATION:Promenadenstrasse 17\, 9320 Arbon
CATEGORIES:Saison 2022/23
END:VEVENT
BEGIN:VEVENT
DTSTAMP:20260426T033412Z
DTSTART;TZID=Europe/Berlin:20230403T200000
DTEND;TZID=Europe/Berlin:20230403T230000
SUMMARY:O40 4. Liga Gr. 1 Bronschhofen vs Arbon (0)
UID:6a880e22-fac2-48ee-b122-129b57b262f4
STATUS:CONFIRMED
LAST-MODIFIED:20230405T121519Z
DESCRIPTION:4. Liga O40 Gruppe 1\nBegegnungs-Nr: 0\nHeim: Bronschhofen\nGast: Arbon\n\nAdresse: Schulstrasse 6\, 9552 Bronschhofen\n
LOCATION:Schulstrasse 6\, 9552 Bronschhofen
CATEGORIES:Saison 2022/23
END:VEVENT
BEGIN:VEVENT
DTSTAMP:20260426T033412Z
DTSTART;TZID=Europe/Berlin:20220915T200000
DTEND;TZID=Europe/Berlin:20220915T230000
SUMMARY:O40 4. Liga Gr. 1 Weinfelden vs Arbon (0)
UID:a91762d3-1377-485f-8ef1-f08e2dc3f18c
STATUS:CONFIRMED
LAST-MODIFIED:20220923T152830Z
DESCRIPTION:4. Liga O40 Gruppe 1\nBegegnungs-Nr: 0\nHeim: Weinfelden\nGast: Arbon\n\nAdresse: Bleichestrasse 3 (neben Hallenbad)\, 8570 Weinfelden\n
LOCATION:Bleichestrasse 3 (neben Hallenbad)\, 8570 Weinfelden
CATEGORIES:Saison 2022/23
END:VEVENT
BEGIN:VEVENT
DTSTAMP:20260426T033412Z
DTSTART;TZID=Europe/Berlin:20230120T200000
DTEND;TZID=Europe/Berlin:20230120T230000
SUMMARY:O40 4. Liga Gr. 1 St. Gallen III vs Arbon (0)
UID:a3deccf4-917c-4bd8-b625-43d2e9f2e688
STATUS:CONFIRMED
LAST-MODIFIED:20230127T163815Z
DESCRIPTION:4. Liga O40 Gruppe 1\nBegegnungs-Nr: 0\nHeim: St. Gallen III\nGast: Arbon\n\nAdresse: Zilstrasse 61\, 9016 St.Gallen\n
LOCATION:Zilstrasse 61\, 9016 St.Gallen
CATEGORIES:Saison 2022/23
END:VEVENT
BEGIN:VEVENT
DTSTAMP:20260426T033412Z
DTSTART;TZID=Europe/Berlin:20230301T200000
DTEND;TZID=Europe/Berlin:20230301T230000
SUMMARY:O40 4. Liga Gr. 1 Muolen vs Arbon (0)
UID:422e458b-2d5b-45ae-a6f2-e9fb057a5826
STATUS:CONFIRMED
LAST-MODIFIED:20230307T103250Z
DESCRIPTION:4. Liga O40 Gruppe 1\nBegegnungs-Nr: 0\nHeim: Muolen\nGast: Arbon\n\nAdresse: Dorfstrasse 31\, 9313 Muolen\n
LOCATION:Dorfstrasse 31\, 9313 Muolen
CATEGORIES:Saison 2022/23
END:VEVENT
BEGIN:VEVENT
DTSTAMP:20260426T033412Z
DTSTART;TZID=Europe/Berlin:20221121T200000
DTEND;TZID=Europe/Berlin:20221121T230000
SUMMARY:O40 4. Liga Gr. 1 Gossau St.Gallen II vs Arbon (0)
UID:00eee498-db07-4950-a386-487039086e6d
STATUS:CONFIRMED
LAST-MODIFIED:20221128T150235Z
DESCRIPTION:4. Liga O40 Gruppe 1\nBegegnungs-Nr: 0\nHeim: Gossau St.Gallen II\nGast: Arbon\n\nAdresse: Falkenstrasse 21\, 9200 Gossau\n
LOCATION:Falkenstrasse 21\, 9200 Gossau
CATEGORIES:Saison 2022/23
END:VEVENT
END:VCALENDAR
