BEGIN:VCALENDAR
PRODID:-//nuDatenautomaten//framework iCal4j //DE
VERSION:2.0
CALSCALE:GREGORIAN
BEGIN:VTIMEZONE
TZID:Europe/Berlin
LAST-MODIFIED:20260306T231828Z
TZURL:https://www.tzurl.org/zoneinfo/Europe/Berlin
X-LIC-LOCATION:Europe/Berlin
X-PROLEPTIC-TZNAME:LMT
BEGIN:STANDARD
TZNAME:CET
TZOFFSETFROM:+005328
TZOFFSETTO:+0100
DTSTART:18930401T000000
END:STANDARD
BEGIN:DAYLIGHT
TZNAME:CEST
TZOFFSETFROM:+0100
TZOFFSETTO:+0200
DTSTART:19160430T230000
RDATE:19400401T020000
RDATE:19430329T020000
RDATE:19460414T020000
RDATE:19470406T030000
RDATE:19480418T020000
RDATE:19490410T020000
RDATE:19800406T020000
END:DAYLIGHT
BEGIN:STANDARD
TZNAME:CET
TZOFFSETFROM:+0200
TZOFFSETTO:+0100
DTSTART:19161001T010000
RDATE:19421102T030000
RDATE:19431004T030000
RDATE:19441002T030000
RDATE:19451118T030000
RDATE:19461007T030000
END:STANDARD
BEGIN:DAYLIGHT
TZNAME:CEST
TZOFFSETFROM:+0100
TZOFFSETTO:+0200
DTSTART:19170416T020000
RRULE:FREQ=YEARLY;UNTIL=19180415T010000Z;BYMONTH=4;BYDAY=3MO
END:DAYLIGHT
BEGIN:STANDARD
TZNAME:CET
TZOFFSETFROM:+0200
TZOFFSETTO:+0100
DTSTART:19170917T030000
RRULE:FREQ=YEARLY;UNTIL=19180916T010000Z;BYMONTH=9;BYDAY=3MO
END:STANDARD
BEGIN:DAYLIGHT
TZNAME:CEST
TZOFFSETFROM:+0100
TZOFFSETTO:+0200
DTSTART:19440403T020000
RRULE:FREQ=YEARLY;UNTIL=19450402T010000Z;BYMONTH=4;BYDAY=1MO
END:DAYLIGHT
BEGIN:DAYLIGHT
TZNAME:CEMT
TZOFFSETFROM:+0200
TZOFFSETTO:+0300
DTSTART:19450524T020000
RDATE:19470511T030000
END:DAYLIGHT
BEGIN:DAYLIGHT
TZNAME:CEST
TZOFFSETFROM:+0300
TZOFFSETTO:+0200
DTSTART:19450924T030000
RDATE:19470629T030000
END:DAYLIGHT
BEGIN:STANDARD
TZNAME:CET
TZOFFSETFROM:+0100
TZOFFSETTO:+0100
DTSTART:19460101T000000
RDATE:19800101T000000
END:STANDARD
BEGIN:STANDARD
TZNAME:CET
TZOFFSETFROM:+0200
TZOFFSETTO:+0100
DTSTART:19471005T030000
RRULE:FREQ=YEARLY;UNTIL=19491002T010000Z;BYMONTH=10;BYDAY=1SU
END:STANDARD
BEGIN:STANDARD
TZNAME:CET
TZOFFSETFROM:+0200
TZOFFSETTO:+0100
DTSTART:19800928T030000
RRULE:FREQ=YEARLY;UNTIL=19950924T010000Z;BYMONTH=9;BYDAY=-1SU
END:STANDARD
BEGIN:DAYLIGHT
TZNAME:CEST
TZOFFSETFROM:+0100
TZOFFSETTO:+0200
DTSTART:19810329T020000
RRULE:FREQ=YEARLY;BYMONTH=3;BYDAY=-1SU
END:DAYLIGHT
BEGIN:STANDARD
TZNAME:CET
TZOFFSETFROM:+0200
TZOFFSETTO:+0100
DTSTART:19961027T030000
RRULE:FREQ=YEARLY;BYMONTH=10;BYDAY=-1SU
END:STANDARD
END:VTIMEZONE
BEGIN:VEVENT
DTSTAMP:20260426T033231Z
DTSTART;TZID=Europe/Berlin:20221024T201500
DTEND;TZID=Europe/Berlin:20221024T231500
SUMMARY:O40 4. Liga Gr. 4 Rüschlikon vs Affoltern A/A III (0)
UID:56546a0d-19fc-4b51-97e3-54bc3395f840
STATUS:CONFIRMED
LAST-MODIFIED:20221025T062710Z
DESCRIPTION:4. Liga O40 Gruppe 4\nBegegnungs-Nr: 0\nHeim: Rüschlikon\nGast: Affoltern A/A III\n\nAdresse: Säumerstrasse 24\, 8803 Rüschlikon\n
LOCATION:Säumerstrasse 24\, 8803 Rüschlikon
CATEGORIES:Saison 2022/23
END:VEVENT
BEGIN:VEVENT
DTSTAMP:20260426T033231Z
DTSTART;TZID=Europe/Berlin:20221208T201500
DTEND;TZID=Europe/Berlin:20221208T231500
SUMMARY:O40 4. Liga Gr. 4 Rüschlikon vs Wollerau (0)
UID:3e073781-edc5-4ed5-b75c-b1f7a69658c0
STATUS:CONFIRMED
LAST-MODIFIED:20221212T145559Z
DESCRIPTION:4. Liga O40 Gruppe 4\nBegegnungs-Nr: 0\nHeim: Rüschlikon\nGast: Wollerau\n\nAdresse: Säumerstrasse 24\, 8803 Rüschlikon\n
LOCATION:Säumerstrasse 24\, 8803 Rüschlikon
CATEGORIES:Saison 2022/23
END:VEVENT
BEGIN:VEVENT
DTSTAMP:20260426T033231Z
DTSTART;TZID=Europe/Berlin:20230202T201500
DTEND;TZID=Europe/Berlin:20230202T231500
SUMMARY:O40 4. Liga Gr. 4 Rüschlikon vs Horgen (0)
UID:fa4b3848-d413-452c-9743-21881732b92c
STATUS:CONFIRMED
LAST-MODIFIED:20230209T130157Z
DESCRIPTION:4. Liga O40 Gruppe 4\nBegegnungs-Nr: 0\nHeim: Rüschlikon\nGast: Horgen\n\nAdresse: Säumerstrasse 24\, 8803 Rüschlikon\n
LOCATION:Säumerstrasse 24\, 8803 Rüschlikon
CATEGORIES:Saison 2022/23
END:VEVENT
BEGIN:VEVENT
DTSTAMP:20260426T033231Z
DTSTART;TZID=Europe/Berlin:20221020T201500
DTEND;TZID=Europe/Berlin:20221020T231500
SUMMARY:O40 4. Liga Gr. 4 Rüschlikon vs Chur III (0)
UID:54157817-6101-44c8-ab7c-6270be2e237a
STATUS:CONFIRMED
LAST-MODIFIED:20221021T090935Z
DESCRIPTION:4. Liga O40 Gruppe 4\nBegegnungs-Nr: 0\nHeim: Rüschlikon\nGast: Chur III\n\nAdresse: Säumerstrasse 24\, 8803 Rüschlikon\n
LOCATION:Säumerstrasse 24\, 8803 Rüschlikon
CATEGORIES:Saison 2022/23
END:VEVENT
BEGIN:VEVENT
DTSTAMP:20260426T033231Z
DTSTART;TZID=Europe/Berlin:20220914T200000
DTEND;TZID=Europe/Berlin:20220914T230000
SUMMARY:O40 4. Liga Gr. 4 Horgen vs Rüschlikon (0)
UID:92a7b048-a306-4234-8ab2-8a269ce5f893
STATUS:CONFIRMED
LAST-MODIFIED:20220915T091925Z
DESCRIPTION:4. Liga O40 Gruppe 4\nBegegnungs-Nr: 0\nHeim: Horgen\nGast: Rüschlikon\n\nAdresse: Seestrasse 110\, 8810 Horgen\n
LOCATION:Seestrasse 110\, 8810 Horgen
CATEGORIES:Saison 2022/23
END:VEVENT
BEGIN:VEVENT
DTSTAMP:20260426T033231Z
DTSTART;TZID=Europe/Berlin:20230119T200000
DTEND;TZID=Europe/Berlin:20230119T230000
SUMMARY:O40 4. Liga Gr. 4 Chur III vs Rüschlikon (0)
UID:72c91171-81e2-491c-afdc-723fd54af724
STATUS:CONFIRMED
LAST-MODIFIED:20230127T163912Z
DESCRIPTION:4. Liga O40 Gruppe 4\nBegegnungs-Nr: 0\nHeim: Chur III\nGast: Rüschlikon\n\nAdresse: Sandstr. 35\, 7000 Chur\n
LOCATION:Sandstr. 35\, 7000 Chur
CATEGORIES:Saison 2022/23
END:VEVENT
BEGIN:VEVENT
DTSTAMP:20260426T033231Z
DTSTART;TZID=Europe/Berlin:20230209T194500
DTEND;TZID=Europe/Berlin:20230209T224500
SUMMARY:O40 4. Liga Gr. 4 Affoltern A/A III vs Rüschlikon (0)
UID:846a1bf0-7952-486e-a266-590c4ae68637
STATUS:CONFIRMED
LAST-MODIFIED:20230210T101350Z
DESCRIPTION:4. Liga O40 Gruppe 4\nBegegnungs-Nr: 0\nHeim: Affoltern A/A III\nGast: Rüschlikon\n\nAdresse: Butzenstrasse 8\, 8910 Affoltern am Albis\n
LOCATION:Butzenstrasse 8\, 8910 Affoltern am Albis
CATEGORIES:Saison 2022/23
END:VEVENT
BEGIN:VEVENT
DTSTAMP:20260426T033231Z
DTSTART;TZID=Europe/Berlin:20230403T200000
DTEND;TZID=Europe/Berlin:20230403T230000
SUMMARY:O40 4. Liga Gr. 4 Wollerau vs Rüschlikon (0)
UID:06ef840d-2857-465e-afc9-3c84431c7ada
STATUS:CONFIRMED
LAST-MODIFIED:20230405T121552Z
DESCRIPTION:4. Liga O40 Gruppe 4\nBegegnungs-Nr: 0\nHeim: Wollerau\nGast: Rüschlikon\n\nAdresse: Erlenstrasse 18\, 8832 Wollerau\n
LOCATION:Erlenstrasse 18\, 8832 Wollerau
CATEGORIES:Saison 2022/23
END:VEVENT
END:VCALENDAR
