BEGIN:VCALENDAR
PRODID:-//nuDatenautomaten//framework iCal4j //DE
VERSION:2.0
CALSCALE:GREGORIAN
BEGIN:VTIMEZONE
TZID:Europe/Berlin
LAST-MODIFIED:20260306T231828Z
TZURL:https://www.tzurl.org/zoneinfo/Europe/Berlin
X-LIC-LOCATION:Europe/Berlin
X-PROLEPTIC-TZNAME:LMT
BEGIN:STANDARD
TZNAME:CET
TZOFFSETFROM:+005328
TZOFFSETTO:+0100
DTSTART:18930401T000000
END:STANDARD
BEGIN:DAYLIGHT
TZNAME:CEST
TZOFFSETFROM:+0100
TZOFFSETTO:+0200
DTSTART:19160430T230000
RDATE:19400401T020000
RDATE:19430329T020000
RDATE:19460414T020000
RDATE:19470406T030000
RDATE:19480418T020000
RDATE:19490410T020000
RDATE:19800406T020000
END:DAYLIGHT
BEGIN:STANDARD
TZNAME:CET
TZOFFSETFROM:+0200
TZOFFSETTO:+0100
DTSTART:19161001T010000
RDATE:19421102T030000
RDATE:19431004T030000
RDATE:19441002T030000
RDATE:19451118T030000
RDATE:19461007T030000
END:STANDARD
BEGIN:DAYLIGHT
TZNAME:CEST
TZOFFSETFROM:+0100
TZOFFSETTO:+0200
DTSTART:19170416T020000
RRULE:FREQ=YEARLY;UNTIL=19180415T010000Z;BYMONTH=4;BYDAY=3MO
END:DAYLIGHT
BEGIN:STANDARD
TZNAME:CET
TZOFFSETFROM:+0200
TZOFFSETTO:+0100
DTSTART:19170917T030000
RRULE:FREQ=YEARLY;UNTIL=19180916T010000Z;BYMONTH=9;BYDAY=3MO
END:STANDARD
BEGIN:DAYLIGHT
TZNAME:CEST
TZOFFSETFROM:+0100
TZOFFSETTO:+0200
DTSTART:19440403T020000
RRULE:FREQ=YEARLY;UNTIL=19450402T010000Z;BYMONTH=4;BYDAY=1MO
END:DAYLIGHT
BEGIN:DAYLIGHT
TZNAME:CEMT
TZOFFSETFROM:+0200
TZOFFSETTO:+0300
DTSTART:19450524T020000
RDATE:19470511T030000
END:DAYLIGHT
BEGIN:DAYLIGHT
TZNAME:CEST
TZOFFSETFROM:+0300
TZOFFSETTO:+0200
DTSTART:19450924T030000
RDATE:19470629T030000
END:DAYLIGHT
BEGIN:STANDARD
TZNAME:CET
TZOFFSETFROM:+0100
TZOFFSETTO:+0100
DTSTART:19460101T000000
RDATE:19800101T000000
END:STANDARD
BEGIN:STANDARD
TZNAME:CET
TZOFFSETFROM:+0200
TZOFFSETTO:+0100
DTSTART:19471005T030000
RRULE:FREQ=YEARLY;UNTIL=19491002T010000Z;BYMONTH=10;BYDAY=1SU
END:STANDARD
BEGIN:STANDARD
TZNAME:CET
TZOFFSETFROM:+0200
TZOFFSETTO:+0100
DTSTART:19800928T030000
RRULE:FREQ=YEARLY;UNTIL=19950924T010000Z;BYMONTH=9;BYDAY=-1SU
END:STANDARD
BEGIN:DAYLIGHT
TZNAME:CEST
TZOFFSETFROM:+0100
TZOFFSETTO:+0200
DTSTART:19810329T020000
RRULE:FREQ=YEARLY;BYMONTH=3;BYDAY=-1SU
END:DAYLIGHT
BEGIN:STANDARD
TZNAME:CET
TZOFFSETFROM:+0200
TZOFFSETTO:+0100
DTSTART:19961027T030000
RRULE:FREQ=YEARLY;BYMONTH=10;BYDAY=-1SU
END:STANDARD
END:VTIMEZONE
BEGIN:VEVENT
DTSTAMP:20260426T033930Z
DTSTART;TZID=Europe/Berlin:20230317T194500
DTEND;TZID=Europe/Berlin:20230317T224500
SUMMARY:DA 1. Liga Gr. 1 Wetzikon II vs Wädenswil III (0)
UID:fb8ce535-dcdf-4298-acac-dd7c1b55527d
STATUS:CONFIRMED
LAST-MODIFIED:20230328T100847Z
DESCRIPTION:1. Liga Damen Gruppe 1\nBegegnungs-Nr: 0\nHeim: Wetzikon II\nGast: Wädenswil III\n\nAdresse: Usterstrasse 37\, 8620 Wetzikon\n
LOCATION:Usterstrasse 37\, 8620 Wetzikon
CATEGORIES:Saison 2022/23
END:VEVENT
BEGIN:VEVENT
DTSTAMP:20260426T033930Z
DTSTART;TZID=Europe/Berlin:20221125T194500
DTEND;TZID=Europe/Berlin:20221125T224500
SUMMARY:DA 1. Liga Gr. 1 Wetzikon II vs Imperial Winterthur (0)
UID:229b44bc-40e6-473a-aa6f-f811e24009f3
STATUS:CONFIRMED
LAST-MODIFIED:20221128T141257Z
DESCRIPTION:1. Liga Damen Gruppe 1\nBegegnungs-Nr: 0\nHeim: Wetzikon II\nGast: Imperial Winterthur\n\nAdresse: Usterstrasse 37\, 8620 Wetzikon\n
LOCATION:Usterstrasse 37\, 8620 Wetzikon
CATEGORIES:Saison 2022/23
END:VEVENT
BEGIN:VEVENT
DTSTAMP:20260426T033930Z
DTSTART;TZID=Europe/Berlin:20220923T194500
DTEND;TZID=Europe/Berlin:20220923T224500
SUMMARY:DA 1. Liga Gr. 1 Wetzikon II vs Bronschhofen (0)
UID:a934830b-7f9d-4311-86e8-fa2e2a0637c8
STATUS:CONFIRMED
LAST-MODIFIED:20220923T145551Z
DESCRIPTION:1. Liga Damen Gruppe 1\nBegegnungs-Nr: 0\nHeim: Wetzikon II\nGast: Bronschhofen\n\nAdresse: Usterstrasse 37\, 8620 Wetzikon\n
LOCATION:Usterstrasse 37\, 8620 Wetzikon
CATEGORIES:Saison 2022/23
END:VEVENT
BEGIN:VEVENT
DTSTAMP:20260426T033930Z
DTSTART;TZID=Europe/Berlin:20220829T194500
DTEND;TZID=Europe/Berlin:20220829T224500
SUMMARY:DA 1. Liga Gr. 1 Wetzikon II vs Wetzikon (0)
UID:58472824-3377-40a6-a617-d32a221fbc39
STATUS:CONFIRMED
LAST-MODIFIED:20220831T125325Z
DESCRIPTION:1. Liga Damen Gruppe 1\nBegegnungs-Nr: 0\nHeim: Wetzikon II\nGast: Wetzikon\n\nAdresse: Usterstrasse 37\, 8620 Wetzikon\n
LOCATION:Usterstrasse 37\, 8620 Wetzikon
CATEGORIES:Saison 2022/23
END:VEVENT
BEGIN:VEVENT
DTSTAMP:20260426T033930Z
DTSTART;TZID=Europe/Berlin:20221202T194500
DTEND;TZID=Europe/Berlin:20221202T224500
SUMMARY:DA 1. Liga Gr. 1 Wetzikon II vs Rapperswil-Jona (0)
UID:647c7b48-8bef-42e5-b459-4ac13a995fa1
STATUS:CONFIRMED
LAST-MODIFIED:20221208T121430Z
DESCRIPTION:1. Liga Damen Gruppe 1\nBegegnungs-Nr: 0\nHeim: Wetzikon II\nGast: Rapperswil-Jona\n\nAdresse: Usterstrasse 37\, 8620 Wetzikon\n
LOCATION:Usterstrasse 37\, 8620 Wetzikon
CATEGORIES:Saison 2022/23
END:VEVENT
BEGIN:VEVENT
DTSTAMP:20260426T033930Z
DTSTART;TZID=Europe/Berlin:20230210T194500
DTEND;TZID=Europe/Berlin:20230210T224500
SUMMARY:DA 1. Liga Gr. 1 Wetzikon II vs Zürich-Affoltern II (0)
UID:da99f8b9-e030-490a-8d6f-c8b458eb972b
STATUS:CONFIRMED
LAST-MODIFIED:20230215T134647Z
DESCRIPTION:1. Liga Damen Gruppe 1\nBegegnungs-Nr: 0\nHeim: Wetzikon II\nGast: Zürich-Affoltern II\n\nAdresse: Usterstrasse 37\, 8620 Wetzikon\n
LOCATION:Usterstrasse 37\, 8620 Wetzikon
CATEGORIES:Saison 2022/23
END:VEVENT
BEGIN:VEVENT
DTSTAMP:20260426T033930Z
DTSTART;TZID=Europe/Berlin:20230203T194500
DTEND;TZID=Europe/Berlin:20230203T224500
SUMMARY:DA 1. Liga Gr. 1 Wetzikon II vs Uster II (0)
UID:fffc0022-3cb1-4d57-8928-20cc287ae039
STATUS:CONFIRMED
LAST-MODIFIED:20230209T125119Z
DESCRIPTION:1. Liga Damen Gruppe 1\nBegegnungs-Nr: 0\nHeim: Wetzikon II\nGast: Uster II\n\nAdresse: Usterstrasse 37\, 8620 Wetzikon\n
LOCATION:Usterstrasse 37\, 8620 Wetzikon
CATEGORIES:Saison 2022/23
END:VEVENT
BEGIN:VEVENT
DTSTAMP:20260426T033930Z
DTSTART;TZID=Europe/Berlin:20230327T193000
DTEND;TZID=Europe/Berlin:20230327T223000
SUMMARY:DA 1. Liga Gr. 1 Rapperswil-Jona vs Wetzikon II (0)
UID:1c8032d2-b985-45f6-8637-578551f9bb5b
STATUS:CONFIRMED
LAST-MODIFIED:20230328T100957Z
DESCRIPTION:1. Liga Damen Gruppe 1\nBegegnungs-Nr: 0\nHeim: Rapperswil-Jona\nGast: Wetzikon II\n\nAdresse: Holzwiesstrasse 39\, 8645 Jona\n
LOCATION:Holzwiesstrasse 39\, 8645 Jona
CATEGORIES:Saison 2022/23
END:VEVENT
BEGIN:VEVENT
DTSTAMP:20260426T033930Z
DTSTART;TZID=Europe/Berlin:20230227T200000
DTEND;TZID=Europe/Berlin:20230227T230000
SUMMARY:DA 1. Liga Gr. 1 Imperial Winterthur vs Wetzikon II (0)
UID:0a1c45e0-a682-47e1-99d2-158d4ca19e9c
STATUS:CONFIRMED
LAST-MODIFIED:20230228T144912Z
DESCRIPTION:1. Liga Damen Gruppe 1\nBegegnungs-Nr: 0\nHeim: Imperial Winterthur\nGast: Wetzikon II\n\nAdresse: Büelhofstrasse 25a\, 8405 Winterthur\n
LOCATION:Büelhofstrasse 25a\, 8405 Winterthur
CATEGORIES:Saison 2022/23
END:VEVENT
BEGIN:VEVENT
DTSTAMP:20260426T033930Z
DTSTART;TZID=Europe/Berlin:20220905T201500
DTEND;TZID=Europe/Berlin:20220905T231500
SUMMARY:DA 1. Liga Gr. 1 Uster II vs Wetzikon II (0)
UID:cedeb890-398e-4780-a939-3c5446cff68e
STATUS:CONFIRMED
LAST-MODIFIED:20220912T072220Z
DESCRIPTION:1. Liga Damen Gruppe 1\nBegegnungs-Nr: 0\nHeim: Uster II\nGast: Wetzikon II\n\nAdresse: Wilstrasse 30 / Zürcherstrasse\, 8610 Uster\n
LOCATION:Wilstrasse 30 / Zürcherstrasse\, 8610 Uster
CATEGORIES:Saison 2022/23
END:VEVENT
BEGIN:VEVENT
DTSTAMP:20260426T033930Z
DTSTART;TZID=Europe/Berlin:20220929T201500
DTEND;TZID=Europe/Berlin:20220929T231500
SUMMARY:DA 1. Liga Gr. 1 Zürich-Affoltern II vs Wetzikon II (0)
UID:04ac9f51-3e11-439a-9a21-a0b2b9cf802e
STATUS:CONFIRMED
LAST-MODIFIED:20221005T130927Z
DESCRIPTION:1. Liga Damen Gruppe 1\nBegegnungs-Nr: 0\nHeim: Zürich-Affoltern II\nGast: Wetzikon II\n\nAdresse: Rümlangstr. 89\, 8052 Zürich\n
LOCATION:Rümlangstr. 89\, 8052 Zürich
CATEGORIES:Saison 2022/23
END:VEVENT
BEGIN:VEVENT
DTSTAMP:20260426T033930Z
DTSTART;TZID=Europe/Berlin:20221112T093000
DTEND;TZID=Europe/Berlin:20221112T123000
SUMMARY:DA 1. Liga Gr. 1 Wädenswil III vs Wetzikon II (0)
UID:173effa8-4a1b-4411-8364-b8cbb21795fc
STATUS:CONFIRMED
LAST-MODIFIED:20221118T153055Z
DESCRIPTION:1. Liga Damen Gruppe 1\nBegegnungs-Nr: 0\nHeim: Wädenswil III\nGast: Wetzikon II\n\nAdresse: Fuhrstrasse 16b\, 8820 Wädenswil\n
LOCATION:Fuhrstrasse 16b\, 8820 Wädenswil
CATEGORIES:Saison 2022/23
END:VEVENT
BEGIN:VEVENT
DTSTAMP:20260426T033930Z
DTSTART;TZID=Europe/Berlin:20230217T200000
DTEND;TZID=Europe/Berlin:20230217T230000
SUMMARY:DA 1. Liga Gr. 1 Bronschhofen vs Wetzikon II (0)
UID:7664ca50-02a8-4d33-b9c9-f4c792c4f327
STATUS:CONFIRMED
LAST-MODIFIED:20230310T133942Z
DESCRIPTION:1. Liga Damen Gruppe 1\nBegegnungs-Nr: 0\nHeim: Bronschhofen\nGast: Wetzikon II\n\nAdresse: Schulstrasse 6\, 9552 Bronschhofen\n
LOCATION:Schulstrasse 6\, 9552 Bronschhofen
CATEGORIES:Saison 2022/23
END:VEVENT
BEGIN:VEVENT
DTSTAMP:20260426T033930Z
DTSTART;TZID=Europe/Berlin:20230109T194500
DTEND;TZID=Europe/Berlin:20230109T224500
SUMMARY:DA 1. Liga Gr. 1 Wetzikon vs Wetzikon II (0)
UID:dd46ed3d-486f-42c6-b7e4-4bf543717fa4
STATUS:CONFIRMED
LAST-MODIFIED:20230112T112528Z
DESCRIPTION:1. Liga Damen Gruppe 1\nBegegnungs-Nr: 0\nHeim: Wetzikon\nGast: Wetzikon II\n\nAdresse: Usterstrasse 37\, 8620 Wetzikon\n
LOCATION:Usterstrasse 37\, 8620 Wetzikon
CATEGORIES:Saison 2022/23
END:VEVENT
END:VCALENDAR
