BEGIN:VCALENDAR
PRODID:-//nuDatenautomaten//framework iCal4j //DE
VERSION:2.0
CALSCALE:GREGORIAN
BEGIN:VTIMEZONE
TZID:Europe/Berlin
LAST-MODIFIED:20260306T231828Z
TZURL:https://www.tzurl.org/zoneinfo/Europe/Berlin
X-LIC-LOCATION:Europe/Berlin
X-PROLEPTIC-TZNAME:LMT
BEGIN:STANDARD
TZNAME:CET
TZOFFSETFROM:+005328
TZOFFSETTO:+0100
DTSTART:18930401T000000
END:STANDARD
BEGIN:DAYLIGHT
TZNAME:CEST
TZOFFSETFROM:+0100
TZOFFSETTO:+0200
DTSTART:19160430T230000
RDATE:19400401T020000
RDATE:19430329T020000
RDATE:19460414T020000
RDATE:19470406T030000
RDATE:19480418T020000
RDATE:19490410T020000
RDATE:19800406T020000
END:DAYLIGHT
BEGIN:STANDARD
TZNAME:CET
TZOFFSETFROM:+0200
TZOFFSETTO:+0100
DTSTART:19161001T010000
RDATE:19421102T030000
RDATE:19431004T030000
RDATE:19441002T030000
RDATE:19451118T030000
RDATE:19461007T030000
END:STANDARD
BEGIN:DAYLIGHT
TZNAME:CEST
TZOFFSETFROM:+0100
TZOFFSETTO:+0200
DTSTART:19170416T020000
RRULE:FREQ=YEARLY;UNTIL=19180415T010000Z;BYMONTH=4;BYDAY=3MO
END:DAYLIGHT
BEGIN:STANDARD
TZNAME:CET
TZOFFSETFROM:+0200
TZOFFSETTO:+0100
DTSTART:19170917T030000
RRULE:FREQ=YEARLY;UNTIL=19180916T010000Z;BYMONTH=9;BYDAY=3MO
END:STANDARD
BEGIN:DAYLIGHT
TZNAME:CEST
TZOFFSETFROM:+0100
TZOFFSETTO:+0200
DTSTART:19440403T020000
RRULE:FREQ=YEARLY;UNTIL=19450402T010000Z;BYMONTH=4;BYDAY=1MO
END:DAYLIGHT
BEGIN:DAYLIGHT
TZNAME:CEMT
TZOFFSETFROM:+0200
TZOFFSETTO:+0300
DTSTART:19450524T020000
RDATE:19470511T030000
END:DAYLIGHT
BEGIN:DAYLIGHT
TZNAME:CEST
TZOFFSETFROM:+0300
TZOFFSETTO:+0200
DTSTART:19450924T030000
RDATE:19470629T030000
END:DAYLIGHT
BEGIN:STANDARD
TZNAME:CET
TZOFFSETFROM:+0100
TZOFFSETTO:+0100
DTSTART:19460101T000000
RDATE:19800101T000000
END:STANDARD
BEGIN:STANDARD
TZNAME:CET
TZOFFSETFROM:+0200
TZOFFSETTO:+0100
DTSTART:19471005T030000
RRULE:FREQ=YEARLY;UNTIL=19491002T010000Z;BYMONTH=10;BYDAY=1SU
END:STANDARD
BEGIN:STANDARD
TZNAME:CET
TZOFFSETFROM:+0200
TZOFFSETTO:+0100
DTSTART:19800928T030000
RRULE:FREQ=YEARLY;UNTIL=19950924T010000Z;BYMONTH=9;BYDAY=-1SU
END:STANDARD
BEGIN:DAYLIGHT
TZNAME:CEST
TZOFFSETFROM:+0100
TZOFFSETTO:+0200
DTSTART:19810329T020000
RRULE:FREQ=YEARLY;BYMONTH=3;BYDAY=-1SU
END:DAYLIGHT
BEGIN:STANDARD
TZNAME:CET
TZOFFSETFROM:+0200
TZOFFSETTO:+0100
DTSTART:19961027T030000
RRULE:FREQ=YEARLY;BYMONTH=10;BYDAY=-1SU
END:STANDARD
END:VTIMEZONE
BEGIN:VEVENT
DTSTAMP:20260426T043554Z
DTSTART;TZID=Europe/Berlin:20220927T194500
DTEND;TZID=Europe/Berlin:20220927T224500
SUMMARY:HE 5. Liga Gr. 8 Triesen III vs Chur V (0)
UID:aa29fa7b-23ce-40ad-9890-83765828b563
STATUS:CONFIRMED
LAST-MODIFIED:20220928T122725Z
DESCRIPTION:5. Liga Herren Gruppe 8\nBegegnungs-Nr: 0\nHeim: Triesen III\nGast: Chur V\n\nAdresse: Gässle 12\, 9495 Triesen\n
LOCATION:Gässle 12\, 9495 Triesen
CATEGORIES:Saison 2022/23
END:VEVENT
BEGIN:VEVENT
DTSTAMP:20260426T043554Z
DTSTART;TZID=Europe/Berlin:20230113T194500
DTEND;TZID=Europe/Berlin:20230113T224500
SUMMARY:HE 5. Liga Gr. 8 Triesen III vs Buchs St.Gallen (0)
UID:bf80f0ec-bbf7-42d5-971e-e321caab1cae
STATUS:CONFIRMED
LAST-MODIFIED:20230127T162613Z
DESCRIPTION:5. Liga Herren Gruppe 8\nBegegnungs-Nr: 0\nHeim: Triesen III\nGast: Buchs St.Gallen\n\nAdresse: Gässle 12\, 9495 Triesen\n
LOCATION:Gässle 12\, 9495 Triesen
CATEGORIES:Saison 2022/23
END:VEVENT
BEGIN:VEVENT
DTSTAMP:20260426T043554Z
DTSTART;TZID=Europe/Berlin:20230317T194500
DTEND;TZID=Europe/Berlin:20230317T224500
SUMMARY:HE 5. Liga Gr. 8 Triesen III vs Schaan-Eschen/Mauren II (0)
UID:17971db1-d581-4fbb-abef-4d9f5b83a344
STATUS:CONFIRMED
LAST-MODIFIED:20230328T074318Z
DESCRIPTION:5. Liga Herren Gruppe 8\nBegegnungs-Nr: 0\nHeim: Triesen III\nGast: Schaan-Eschen/Mauren II\n\nAdresse: Gässle 12\, 9495 Triesen\n
LOCATION:Gässle 12\, 9495 Triesen
CATEGORIES:Saison 2022/23
END:VEVENT
BEGIN:VEVENT
DTSTAMP:20260426T043554Z
DTSTART;TZID=Europe/Berlin:20230127T194500
DTEND;TZID=Europe/Berlin:20230127T224500
SUMMARY:HE 5. Liga Gr. 8 Triesen III vs Balzers II (0)
UID:6925869b-db4e-495e-8f95-ef6c72d53f3e
STATUS:CONFIRMED
LAST-MODIFIED:20230131T124511Z
DESCRIPTION:5. Liga Herren Gruppe 8\nBegegnungs-Nr: 0\nHeim: Triesen III\nGast: Balzers II\n\nAdresse: Gässle 12\, 9495 Triesen\n
LOCATION:Gässle 12\, 9495 Triesen
CATEGORIES:Saison 2022/23
END:VEVENT
BEGIN:VEVENT
DTSTAMP:20260426T043554Z
DTSTART;TZID=Europe/Berlin:20230214T194500
DTEND;TZID=Europe/Berlin:20230214T224500
SUMMARY:HE 5. Liga Gr. 8 Triesen III vs Flums V (0)
UID:bfd9620c-0036-42b2-8252-f1756a74d4e8
STATUS:CONFIRMED
LAST-MODIFIED:20230215T130514Z
DESCRIPTION:5. Liga Herren Gruppe 8\nBegegnungs-Nr: 0\nHeim: Triesen III\nGast: Flums V\n\nAdresse: Gässle 12\, 9495 Triesen\n
LOCATION:Gässle 12\, 9495 Triesen
CATEGORIES:Saison 2022/23
END:VEVENT
BEGIN:VEVENT
DTSTAMP:20260426T043554Z
DTSTART;TZID=Europe/Berlin:20230321T194500
DTEND;TZID=Europe/Berlin:20230321T224500
SUMMARY:HE 5. Liga Gr. 8 Triesen III vs Chur VI (0)
UID:0488f54d-95c0-4345-ad82-28066a7dd764
STATUS:CONFIRMED
LAST-MODIFIED:20230328T080913Z
DESCRIPTION:5. Liga Herren Gruppe 8\nBegegnungs-Nr: 0\nHeim: Triesen III\nGast: Chur VI\n\nAdresse: Gässle 12\, 9495 Triesen\n
LOCATION:Gässle 12\, 9495 Triesen
CATEGORIES:Saison 2022/23
END:VEVENT
BEGIN:VEVENT
DTSTAMP:20260426T043554Z
DTSTART;TZID=Europe/Berlin:20220829T200000
DTEND;TZID=Europe/Berlin:20220829T230000
SUMMARY:HE 5. Liga Gr. 8 Buchs St.Gallen vs Triesen III (0)
UID:576af171-d5f0-4c43-a02e-74ca89fc496c
STATUS:CONFIRMED
LAST-MODIFIED:20220831T124130Z
DESCRIPTION:5. Liga Herren Gruppe 8\nBegegnungs-Nr: 0\nHeim: Buchs St.Gallen\nGast: Triesen III\n\nAdresse: Hanflandstrasse 17\, 9470 Buchs SG\n
LOCATION:Hanflandstrasse 17\, 9470 Buchs SG
CATEGORIES:Saison 2022/23
END:VEVENT
BEGIN:VEVENT
DTSTAMP:20260426T043554Z
DTSTART;TZID=Europe/Berlin:20221121T200000
DTEND;TZID=Europe/Berlin:20221121T230000
SUMMARY:HE 5. Liga Gr. 8 Balzers II vs Triesen III (0)
UID:bef807c1-baad-4585-a499-58323284db7d
STATUS:CONFIRMED
LAST-MODIFIED:20221128T100140Z
DESCRIPTION:5. Liga Herren Gruppe 8\nBegegnungs-Nr: 0\nHeim: Balzers II\nGast: Triesen III\n\nAdresse: Gnetsch 41\, 9496 Balzers\n
LOCATION:Gnetsch 41\, 9496 Balzers
CATEGORIES:Saison 2022/23
END:VEVENT
BEGIN:VEVENT
DTSTAMP:20260426T043554Z
DTSTART;TZID=Europe/Berlin:20220919T201500
DTEND;TZID=Europe/Berlin:20220919T231500
SUMMARY:HE 5. Liga Gr. 8 Flums V vs Triesen III (0)
UID:06ec78b0-ad61-42a9-bc52-b5f1ac3df8e4
STATUS:CONFIRMED
LAST-MODIFIED:20220923T144631Z
DESCRIPTION:5. Liga Herren Gruppe 8\nBegegnungs-Nr: 0\nHeim: Flums V\nGast: Triesen III\n\nAdresse: Bergstrasse\, 8890 Flums\n
LOCATION:Bergstrasse\, 8890 Flums
CATEGORIES:Saison 2022/23
END:VEVENT
BEGIN:VEVENT
DTSTAMP:20260426T043554Z
DTSTART;TZID=Europe/Berlin:20221213T200000
DTEND;TZID=Europe/Berlin:20221213T230000
SUMMARY:HE 5. Liga Gr. 8 Schaan-Eschen/Mauren II vs Triesen III (0)
UID:3f1194a7-dc33-46c5-b6d8-f24589e1aea3
STATUS:CONFIRMED
LAST-MODIFIED:20221215T085721Z
DESCRIPTION:5. Liga Herren Gruppe 8\nBegegnungs-Nr: 0\nHeim: Schaan-Eschen/Mauren II\nGast: Triesen III\n\nAdresse: Simsgasse 10\, 9492 Eschen\n
LOCATION:Simsgasse 10\, 9492 Eschen
CATEGORIES:Saison 2022/23
END:VEVENT
BEGIN:VEVENT
DTSTAMP:20260426T043554Z
DTSTART;TZID=Europe/Berlin:20221201T200000
DTEND;TZID=Europe/Berlin:20221201T230000
SUMMARY:HE 5. Liga Gr. 8 Chur VI vs Triesen III (0)
UID:2b0318fc-e5ca-4aad-8a64-abc0914885ea
STATUS:CONFIRMED
LAST-MODIFIED:20221208T114511Z
DESCRIPTION:5. Liga Herren Gruppe 8\nBegegnungs-Nr: 0\nHeim: Chur VI\nGast: Triesen III\n\nAdresse: Sandstr. 35\, 7000 Chur\n
LOCATION:Sandstr. 35\, 7000 Chur
CATEGORIES:Saison 2022/23
END:VEVENT
BEGIN:VEVENT
DTSTAMP:20260426T043554Z
DTSTART;TZID=Europe/Berlin:20230224T200000
DTEND;TZID=Europe/Berlin:20230224T230000
SUMMARY:HE 5. Liga Gr. 8 Chur V vs Triesen III (0)
UID:958dd483-df47-42c9-878f-699b13d0b822
STATUS:CONFIRMED
LAST-MODIFIED:20230228T144623Z
DESCRIPTION:5. Liga Herren Gruppe 8\nBegegnungs-Nr: 0\nHeim: Chur V\nGast: Triesen III\n\nAdresse: Bodmerstrasse 10\, 7000 Chur\n
LOCATION:Bodmerstrasse 10\, 7000 Chur
CATEGORIES:Saison 2022/23
END:VEVENT
END:VCALENDAR
