BEGIN:VCALENDAR
PRODID:-//nuDatenautomaten//framework iCal4j //DE
VERSION:2.0
CALSCALE:GREGORIAN
BEGIN:VTIMEZONE
TZID:Europe/Berlin
LAST-MODIFIED:20260306T231828Z
TZURL:https://www.tzurl.org/zoneinfo/Europe/Berlin
X-LIC-LOCATION:Europe/Berlin
X-PROLEPTIC-TZNAME:LMT
BEGIN:STANDARD
TZNAME:CET
TZOFFSETFROM:+005328
TZOFFSETTO:+0100
DTSTART:18930401T000000
END:STANDARD
BEGIN:DAYLIGHT
TZNAME:CEST
TZOFFSETFROM:+0100
TZOFFSETTO:+0200
DTSTART:19160430T230000
RDATE:19400401T020000
RDATE:19430329T020000
RDATE:19460414T020000
RDATE:19470406T030000
RDATE:19480418T020000
RDATE:19490410T020000
RDATE:19800406T020000
END:DAYLIGHT
BEGIN:STANDARD
TZNAME:CET
TZOFFSETFROM:+0200
TZOFFSETTO:+0100
DTSTART:19161001T010000
RDATE:19421102T030000
RDATE:19431004T030000
RDATE:19441002T030000
RDATE:19451118T030000
RDATE:19461007T030000
END:STANDARD
BEGIN:DAYLIGHT
TZNAME:CEST
TZOFFSETFROM:+0100
TZOFFSETTO:+0200
DTSTART:19170416T020000
RRULE:FREQ=YEARLY;UNTIL=19180415T010000Z;BYMONTH=4;BYDAY=3MO
END:DAYLIGHT
BEGIN:STANDARD
TZNAME:CET
TZOFFSETFROM:+0200
TZOFFSETTO:+0100
DTSTART:19170917T030000
RRULE:FREQ=YEARLY;UNTIL=19180916T010000Z;BYMONTH=9;BYDAY=3MO
END:STANDARD
BEGIN:DAYLIGHT
TZNAME:CEST
TZOFFSETFROM:+0100
TZOFFSETTO:+0200
DTSTART:19440403T020000
RRULE:FREQ=YEARLY;UNTIL=19450402T010000Z;BYMONTH=4;BYDAY=1MO
END:DAYLIGHT
BEGIN:DAYLIGHT
TZNAME:CEMT
TZOFFSETFROM:+0200
TZOFFSETTO:+0300
DTSTART:19450524T020000
RDATE:19470511T030000
END:DAYLIGHT
BEGIN:DAYLIGHT
TZNAME:CEST
TZOFFSETFROM:+0300
TZOFFSETTO:+0200
DTSTART:19450924T030000
RDATE:19470629T030000
END:DAYLIGHT
BEGIN:STANDARD
TZNAME:CET
TZOFFSETFROM:+0100
TZOFFSETTO:+0100
DTSTART:19460101T000000
RDATE:19800101T000000
END:STANDARD
BEGIN:STANDARD
TZNAME:CET
TZOFFSETFROM:+0200
TZOFFSETTO:+0100
DTSTART:19471005T030000
RRULE:FREQ=YEARLY;UNTIL=19491002T010000Z;BYMONTH=10;BYDAY=1SU
END:STANDARD
BEGIN:STANDARD
TZNAME:CET
TZOFFSETFROM:+0200
TZOFFSETTO:+0100
DTSTART:19800928T030000
RRULE:FREQ=YEARLY;UNTIL=19950924T010000Z;BYMONTH=9;BYDAY=-1SU
END:STANDARD
BEGIN:DAYLIGHT
TZNAME:CEST
TZOFFSETFROM:+0100
TZOFFSETTO:+0200
DTSTART:19810329T020000
RRULE:FREQ=YEARLY;BYMONTH=3;BYDAY=-1SU
END:DAYLIGHT
BEGIN:STANDARD
TZNAME:CET
TZOFFSETFROM:+0200
TZOFFSETTO:+0100
DTSTART:19961027T030000
RRULE:FREQ=YEARLY;BYMONTH=10;BYDAY=-1SU
END:STANDARD
END:VTIMEZONE
BEGIN:VEVENT
DTSTAMP:20260421T202706Z
DTSTART;TZID=Europe/Berlin:20221101T201500
DTEND;TZID=Europe/Berlin:20221101T231500
SUMMARY:HE 5. Liga Gr. 3 Lyss VII vs Regio Moossee III (18)
UID:1d801f54-ef31-4476-9358-2533a3b8a51c
STATUS:CONFIRMED
LAST-MODIFIED:20221103T090912Z
DESCRIPTION:5. Liga Herren Gruppe 3\nBegegnungs-Nr: 18\nHeim: Lyss VII\nGast: Regio Moossee III\n\nAdresse: Stegmattweg 15-17\, 3250 Lyss\n
LOCATION:Stegmattweg 15-17\, 3250 Lyss
CATEGORIES:Saison 2022/23
END:VEVENT
BEGIN:VEVENT
DTSTAMP:20260421T202706Z
DTSTART;TZID=Europe/Berlin:20220816T201500
DTEND;TZID=Europe/Berlin:20220816T231500
SUMMARY:HE 5. Liga Gr. 3 Lyss VII vs Bern VII (2)
UID:2c6965c8-affb-462e-82ed-dcc1aa1a7254
STATUS:CONFIRMED
LAST-MODIFIED:20220821T102146Z
DESCRIPTION:5. Liga Herren Gruppe 3\nBegegnungs-Nr: 2\nHeim: Lyss VII\nGast: Bern VII\n\nAdresse: Stegmattweg 15-17\, 3250 Lyss\n
LOCATION:Stegmattweg 15-17\, 3250 Lyss
CATEGORIES:Saison 2022/23
END:VEVENT
BEGIN:VEVENT
DTSTAMP:20260421T202706Z
DTSTART;TZID=Europe/Berlin:20220916T201500
DTEND;TZID=Europe/Berlin:20220916T231500
SUMMARY:HE 5. Liga Gr. 3 Lyss VII vs Langnau IV (10)
UID:6a532d14-0d57-440e-937f-e6a53e042bee
STATUS:CONFIRMED
LAST-MODIFIED:20220919T112403Z
DESCRIPTION:5. Liga Herren Gruppe 3\nBegegnungs-Nr: 10\nHeim: Lyss VII\nGast: Langnau IV\n\nAdresse: Stegmattweg 15-17\, 3250 Lyss\n
LOCATION:Stegmattweg 15-17\, 3250 Lyss
CATEGORIES:Saison 2022/23
END:VEVENT
BEGIN:VEVENT
DTSTAMP:20260421T202706Z
DTSTART;TZID=Europe/Berlin:20230404T201500
DTEND;TZID=Europe/Berlin:20230404T231500
SUMMARY:HE 5. Liga Gr. 3 Lyss VII vs Burgdorf VIII (25)
UID:fc764e08-4d63-4f4b-a703-c179719daf83
STATUS:CONFIRMED
LAST-MODIFIED:20230409T181634Z
DESCRIPTION:5. Liga Herren Gruppe 3\nBegegnungs-Nr: 25\nHeim: Lyss VII\nGast: Burgdorf VIII\n\nAdresse: Stegmattweg 15-17\, 3250 Lyss\n
LOCATION:Stegmattweg 15-17\, 3250 Lyss
CATEGORIES:Saison 2022/23
END:VEVENT
BEGIN:VEVENT
DTSTAMP:20260421T202706Z
DTSTART;TZID=Europe/Berlin:20230314T201500
DTEND;TZID=Europe/Berlin:20230314T231500
SUMMARY:HE 5. Liga Gr. 3 Lyss VII vs Langenthal IV (22)
UID:b9af9cfb-f8e2-468a-84de-3554bf56dc51
STATUS:CONFIRMED
LAST-MODIFIED:20230315T125349Z
DESCRIPTION:5. Liga Herren Gruppe 3\nBegegnungs-Nr: 22\nHeim: Lyss VII\nGast: Langenthal IV\n\nAdresse: Stegmattweg 15-17\, 3250 Lyss\n
LOCATION:Stegmattweg 15-17\, 3250 Lyss
CATEGORIES:Saison 2022/23
END:VEVENT
BEGIN:VEVENT
DTSTAMP:20260421T202706Z
DTSTART;TZID=Europe/Berlin:20230214T201500
DTEND;TZID=Europe/Berlin:20230214T231500
SUMMARY:HE 5. Liga Gr. 3 Lyss VII vs Utzenstorf (14)
UID:0e6422b3-d48e-424c-938d-f5a581e6dc10
STATUS:CONFIRMED
LAST-MODIFIED:20230216T204520Z
DESCRIPTION:5. Liga Herren Gruppe 3\nBegegnungs-Nr: 14\nHeim: Lyss VII\nGast: Utzenstorf\n\nAdresse: Stegmattweg 15-17\, 3250 Lyss\n
LOCATION:Stegmattweg 15-17\, 3250 Lyss
CATEGORIES:Saison 2022/23
END:VEVENT
BEGIN:VEVENT
DTSTAMP:20260421T202706Z
DTSTART;TZID=Europe/Berlin:20230124T201500
DTEND;TZID=Europe/Berlin:20230124T231500
SUMMARY:HE 5. Liga Gr. 3 Lyss VII vs Huttwil (6)
UID:a379b724-7366-4f87-8988-1ec83b955056
STATUS:CONFIRMED
LAST-MODIFIED:20230125T130334Z
DESCRIPTION:5. Liga Herren Gruppe 3\nBegegnungs-Nr: 6\nHeim: Lyss VII\nGast: Huttwil\n\nAdresse: Stegmattweg 15-17\, 3250 Lyss\n
LOCATION:Stegmattweg 15-17\, 3250 Lyss
CATEGORIES:Saison 2022/23
END:VEVENT
BEGIN:VEVENT
DTSTAMP:20260421T202706Z
DTSTART;TZID=Europe/Berlin:20221013T200000
DTEND;TZID=Europe/Berlin:20221013T230000
SUMMARY:HE 5. Liga Gr. 3 Utzenstorf vs Lyss VII (14)
UID:3eb654a4-5eae-4b66-afbc-4fd473e9c59b
STATUS:CONFIRMED
LAST-MODIFIED:20221014T221807Z
DESCRIPTION:5. Liga Herren Gruppe 3\nBegegnungs-Nr: 14\nHeim: Utzenstorf\nGast: Lyss VII\n\nAdresse: Gotthelfstrasse 15a\, 3427 Utzenstorf\n
LOCATION:Gotthelfstrasse 15a\, 3427 Utzenstorf
CATEGORIES:Saison 2022/23
END:VEVENT
BEGIN:VEVENT
DTSTAMP:20260421T202706Z
DTSTART;TZID=Europe/Berlin:20220912T200000
DTEND;TZID=Europe/Berlin:20220912T230000
SUMMARY:HE 5. Liga Gr. 3 Huttwil vs Lyss VII (6)
UID:27ed61b6-8281-462b-a6f7-2df6421908c3
STATUS:CONFIRMED
LAST-MODIFIED:20220916T131204Z
DESCRIPTION:5. Liga Herren Gruppe 3\nBegegnungs-Nr: 6\nHeim: Huttwil\nGast: Lyss VII\n\nAdresse: Dornackerweg 2 (untere Halle)\, 4950 Huttwil\n
LOCATION:Dornackerweg 2 (untere Halle)\, 4950 Huttwil
CATEGORIES:Saison 2022/23
END:VEVENT
BEGIN:VEVENT
DTSTAMP:20260421T202706Z
DTSTART;TZID=Europe/Berlin:20230228T194500
DTEND;TZID=Europe/Berlin:20230228T224500
SUMMARY:HE 5. Liga Gr. 3 Regio Moossee III vs Lyss VII (18)
UID:d81ed087-c63c-4e29-bf77-844157b745e2
STATUS:CONFIRMED
LAST-MODIFIED:20230302T075553Z
DESCRIPTION:5. Liga Herren Gruppe 3\nBegegnungs-Nr: 18\nHeim: Regio Moossee III\nGast: Lyss VII\n\nAdresse: Schulhausstrasse 23-25\, 3302 Moosseedorf\n
LOCATION:Schulhausstrasse 23-25\, 3302 Moosseedorf
CATEGORIES:Saison 2022/23
END:VEVENT
BEGIN:VEVENT
DTSTAMP:20260421T202706Z
DTSTART;TZID=Europe/Berlin:20221219T193000
DTEND;TZID=Europe/Berlin:20221219T223000
SUMMARY:HE 5. Liga Gr. 3 Bern VII vs Lyss VII (2)
UID:b0e8173b-90bf-4265-84f7-bd65a491b030
STATUS:CONFIRMED
LAST-MODIFIED:20221220T134834Z
DESCRIPTION:5. Liga Herren Gruppe 3\nBegegnungs-Nr: 2\nHeim: Bern VII\nGast: Lyss VII\n\nAdresse: Mädergutstrasse 58\, 3018 Bern\n
LOCATION:Mädergutstrasse 58\, 3018 Bern
CATEGORIES:Saison 2022/23
END:VEVENT
BEGIN:VEVENT
DTSTAMP:20260421T202706Z
DTSTART;TZID=Europe/Berlin:20230116T200000
DTEND;TZID=Europe/Berlin:20230116T230000
SUMMARY:HE 5. Liga Gr. 3 Langnau IV vs Lyss VII (10)
UID:bdce3abb-582b-42be-80e2-90612a0c2f21
STATUS:CONFIRMED
LAST-MODIFIED:20230118T094716Z
DESCRIPTION:5. Liga Herren Gruppe 3\nBegegnungs-Nr: 10\nHeim: Langnau IV\nGast: Lyss VII\n\nAdresse: Bleicheweg 11\, 3550 Langnau\n
LOCATION:Bleicheweg 11\, 3550 Langnau
CATEGORIES:Saison 2022/23
END:VEVENT
BEGIN:VEVENT
DTSTAMP:20260421T202706Z
DTSTART;TZID=Europe/Berlin:20221216T193000
DTEND;TZID=Europe/Berlin:20221216T223000
SUMMARY:HE 5. Liga Gr. 3 Burgdorf VIII vs Lyss VII (25)
UID:547ec43c-9f68-496b-8565-7b559a915f2c
STATUS:CONFIRMED
LAST-MODIFIED:20221218T194912Z
DESCRIPTION:5. Liga Herren Gruppe 3\nBegegnungs-Nr: 25\nHeim: Burgdorf VIII\nGast: Lyss VII\n\nAdresse: Pestalozzistrasse 69\, 3400 Burgdorf\n
LOCATION:Pestalozzistrasse 69\, 3400 Burgdorf
CATEGORIES:Saison 2022/23
END:VEVENT
BEGIN:VEVENT
DTSTAMP:20260421T202706Z
DTSTART;TZID=Europe/Berlin:20221114T200000
DTEND;TZID=Europe/Berlin:20221114T230000
SUMMARY:HE 5. Liga Gr. 3 Langenthal IV vs Lyss VII (22)
UID:c16cce5b-9579-4af0-bae5-6c842354a908
STATUS:CONFIRMED
LAST-MODIFIED:20221115T131521Z
DESCRIPTION:5. Liga Herren Gruppe 3\nBegegnungs-Nr: 22\nHeim: Langenthal IV\nGast: Lyss VII\n\nAdresse: Weststrasse 29\, 4900 Langenthal\n
LOCATION:Weststrasse 29\, 4900 Langenthal
CATEGORIES:Saison 2022/23
END:VEVENT
END:VCALENDAR
