BEGIN:VCALENDAR
PRODID:-//nuDatenautomaten//framework iCal4j //DE
VERSION:2.0
CALSCALE:GREGORIAN
BEGIN:VTIMEZONE
TZID:Europe/Berlin
LAST-MODIFIED:20260306T231828Z
TZURL:https://www.tzurl.org/zoneinfo/Europe/Berlin
X-LIC-LOCATION:Europe/Berlin
X-PROLEPTIC-TZNAME:LMT
BEGIN:STANDARD
TZNAME:CET
TZOFFSETFROM:+005328
TZOFFSETTO:+0100
DTSTART:18930401T000000
END:STANDARD
BEGIN:DAYLIGHT
TZNAME:CEST
TZOFFSETFROM:+0100
TZOFFSETTO:+0200
DTSTART:19160430T230000
RDATE:19400401T020000
RDATE:19430329T020000
RDATE:19460414T020000
RDATE:19470406T030000
RDATE:19480418T020000
RDATE:19490410T020000
RDATE:19800406T020000
END:DAYLIGHT
BEGIN:STANDARD
TZNAME:CET
TZOFFSETFROM:+0200
TZOFFSETTO:+0100
DTSTART:19161001T010000
RDATE:19421102T030000
RDATE:19431004T030000
RDATE:19441002T030000
RDATE:19451118T030000
RDATE:19461007T030000
END:STANDARD
BEGIN:DAYLIGHT
TZNAME:CEST
TZOFFSETFROM:+0100
TZOFFSETTO:+0200
DTSTART:19170416T020000
RRULE:FREQ=YEARLY;UNTIL=19180415T010000Z;BYMONTH=4;BYDAY=3MO
END:DAYLIGHT
BEGIN:STANDARD
TZNAME:CET
TZOFFSETFROM:+0200
TZOFFSETTO:+0100
DTSTART:19170917T030000
RRULE:FREQ=YEARLY;UNTIL=19180916T010000Z;BYMONTH=9;BYDAY=3MO
END:STANDARD
BEGIN:DAYLIGHT
TZNAME:CEST
TZOFFSETFROM:+0100
TZOFFSETTO:+0200
DTSTART:19440403T020000
RRULE:FREQ=YEARLY;UNTIL=19450402T010000Z;BYMONTH=4;BYDAY=1MO
END:DAYLIGHT
BEGIN:DAYLIGHT
TZNAME:CEMT
TZOFFSETFROM:+0200
TZOFFSETTO:+0300
DTSTART:19450524T020000
RDATE:19470511T030000
END:DAYLIGHT
BEGIN:DAYLIGHT
TZNAME:CEST
TZOFFSETFROM:+0300
TZOFFSETTO:+0200
DTSTART:19450924T030000
RDATE:19470629T030000
END:DAYLIGHT
BEGIN:STANDARD
TZNAME:CET
TZOFFSETFROM:+0100
TZOFFSETTO:+0100
DTSTART:19460101T000000
RDATE:19800101T000000
END:STANDARD
BEGIN:STANDARD
TZNAME:CET
TZOFFSETFROM:+0200
TZOFFSETTO:+0100
DTSTART:19471005T030000
RRULE:FREQ=YEARLY;UNTIL=19491002T010000Z;BYMONTH=10;BYDAY=1SU
END:STANDARD
BEGIN:STANDARD
TZNAME:CET
TZOFFSETFROM:+0200
TZOFFSETTO:+0100
DTSTART:19800928T030000
RRULE:FREQ=YEARLY;UNTIL=19950924T010000Z;BYMONTH=9;BYDAY=-1SU
END:STANDARD
BEGIN:DAYLIGHT
TZNAME:CEST
TZOFFSETFROM:+0100
TZOFFSETTO:+0200
DTSTART:19810329T020000
RRULE:FREQ=YEARLY;BYMONTH=3;BYDAY=-1SU
END:DAYLIGHT
BEGIN:STANDARD
TZNAME:CET
TZOFFSETFROM:+0200
TZOFFSETTO:+0100
DTSTART:19961027T030000
RRULE:FREQ=YEARLY;BYMONTH=10;BYDAY=-1SU
END:STANDARD
END:VTIMEZONE
BEGIN:VEVENT
DTSTAMP:20260421T202802Z
DTSTART;TZID=Europe/Berlin:20221017T200000
DTEND;TZID=Europe/Berlin:20221017T230000
SUMMARY:HE 5. Liga Gr. 3 Huttwil vs Langenthal IV (16)
UID:bd5b0444-0f1c-47c1-8d29-bbf0db527799
STATUS:CONFIRMED
LAST-MODIFIED:20221018T114717Z
DESCRIPTION:5. Liga Herren Gruppe 3\nBegegnungs-Nr: 16\nHeim: Huttwil\nGast: Langenthal IV\n\nAdresse: Dornackerweg 2 (untere Halle)\, 4950 Huttwil\n
LOCATION:Dornackerweg 2 (untere Halle)\, 4950 Huttwil
CATEGORIES:Saison 2022/23
END:VEVENT
BEGIN:VEVENT
DTSTAMP:20260421T202802Z
DTSTART;TZID=Europe/Berlin:20220912T200000
DTEND;TZID=Europe/Berlin:20220912T230000
SUMMARY:HE 5. Liga Gr. 3 Huttwil vs Lyss VII (6)
UID:27ed61b6-8281-462b-a6f7-2df6421908c3
STATUS:CONFIRMED
LAST-MODIFIED:20220916T131204Z
DESCRIPTION:5. Liga Herren Gruppe 3\nBegegnungs-Nr: 6\nHeim: Huttwil\nGast: Lyss VII\n\nAdresse: Dornackerweg 2 (untere Halle)\, 4950 Huttwil\n
LOCATION:Dornackerweg 2 (untere Halle)\, 4950 Huttwil
CATEGORIES:Saison 2022/23
END:VEVENT
BEGIN:VEVENT
DTSTAMP:20260421T202802Z
DTSTART;TZID=Europe/Berlin:20230327T200000
DTEND;TZID=Europe/Berlin:20230327T230000
SUMMARY:HE 5. Liga Gr. 3 Huttwil vs Langnau IV (28)
UID:8ce36a5e-eeef-47c1-8534-4c31ed6c58a7
STATUS:CONFIRMED
LAST-MODIFIED:20230328T161603Z
DESCRIPTION:5. Liga Herren Gruppe 3\nBegegnungs-Nr: 28\nHeim: Huttwil\nGast: Langnau IV\n\nAdresse: Dornackerweg 2 (untere Halle)\, 4950 Huttwil\n
LOCATION:Dornackerweg 2 (untere Halle)\, 4950 Huttwil
CATEGORIES:Saison 2022/23
END:VEVENT
BEGIN:VEVENT
DTSTAMP:20260421T202802Z
DTSTART;TZID=Europe/Berlin:20230227T200000
DTEND;TZID=Europe/Berlin:20230227T230000
SUMMARY:HE 5. Liga Gr. 3 Huttwil vs Utzenstorf (20)
UID:93320795-ba17-4f25-962e-e35e311c51fb
STATUS:CONFIRMED
LAST-MODIFIED:20230228T162823Z
DESCRIPTION:5. Liga Herren Gruppe 3\nBegegnungs-Nr: 20\nHeim: Huttwil\nGast: Utzenstorf\n\nAdresse: Dornackerweg 2 (untere Halle)\, 4950 Huttwil\n
LOCATION:Dornackerweg 2 (untere Halle)\, 4950 Huttwil
CATEGORIES:Saison 2022/23
END:VEVENT
BEGIN:VEVENT
DTSTAMP:20260421T202802Z
DTSTART;TZID=Europe/Berlin:20221219T200000
DTEND;TZID=Europe/Berlin:20221219T230000
SUMMARY:HE 5. Liga Gr. 3 Huttwil vs Burgdorf VIII (1)
UID:c8940afc-687c-46cc-aff9-3b6b08ca57e8
STATUS:CONFIRMED
LAST-MODIFIED:20221220T134849Z
DESCRIPTION:5. Liga Herren Gruppe 3\nBegegnungs-Nr: 1\nHeim: Huttwil\nGast: Burgdorf VIII\n\nAdresse: Dornackerweg 2 (untere Halle)\, 4950 Huttwil\n
LOCATION:Dornackerweg 2 (untere Halle)\, 4950 Huttwil
CATEGORIES:Saison 2022/23
END:VEVENT
BEGIN:VEVENT
DTSTAMP:20260421T202802Z
DTSTART;TZID=Europe/Berlin:20230130T200000
DTEND;TZID=Europe/Berlin:20230130T230000
SUMMARY:HE 5. Liga Gr. 3 Huttwil vs Regio Moossee III (11)
UID:2569f30e-cb4b-483b-b8db-6f43ff296ee2
STATUS:CONFIRMED
LAST-MODIFIED:20230201T175634Z
DESCRIPTION:5. Liga Herren Gruppe 3\nBegegnungs-Nr: 11\nHeim: Huttwil\nGast: Regio Moossee III\n\nAdresse: Dornackerweg 2 (untere Halle)\, 4950 Huttwil\n
LOCATION:Dornackerweg 2 (untere Halle)\, 4950 Huttwil
CATEGORIES:Saison 2022/23
END:VEVENT
BEGIN:VEVENT
DTSTAMP:20260421T202802Z
DTSTART;TZID=Europe/Berlin:20221114T200000
DTEND;TZID=Europe/Berlin:20221114T230000
SUMMARY:HE 5. Liga Gr. 3 Huttwil vs Bern VII (23)
UID:03cae14a-5c22-4ed7-9518-d28d17cdd474
STATUS:CONFIRMED
LAST-MODIFIED:20221115T131532Z
DESCRIPTION:5. Liga Herren Gruppe 3\nBegegnungs-Nr: 23\nHeim: Huttwil\nGast: Bern VII\n\nAdresse: Dornackerweg 2 (untere Halle)\, 4950 Huttwil\n
LOCATION:Dornackerweg 2 (untere Halle)\, 4950 Huttwil
CATEGORIES:Saison 2022/23
END:VEVENT
BEGIN:VEVENT
DTSTAMP:20260421T202802Z
DTSTART;TZID=Europe/Berlin:20220920T194500
DTEND;TZID=Europe/Berlin:20220920T224500
SUMMARY:HE 5. Liga Gr. 3 Regio Moossee III vs Huttwil (11)
UID:14b13653-04e4-4227-b6fa-3792a69cd583
STATUS:CONFIRMED
LAST-MODIFIED:20220921T201749Z
DESCRIPTION:5. Liga Herren Gruppe 3\nBegegnungs-Nr: 11\nHeim: Regio Moossee III\nGast: Huttwil\n\nAdresse: Schulhausstrasse 23-25\, 3302 Moosseedorf\n
LOCATION:Schulhausstrasse 23-25\, 3302 Moosseedorf
CATEGORIES:Saison 2022/23
END:VEVENT
BEGIN:VEVENT
DTSTAMP:20260421T202802Z
DTSTART;TZID=Europe/Berlin:20221103T200000
DTEND;TZID=Europe/Berlin:20221103T230000
SUMMARY:HE 5. Liga Gr. 3 Utzenstorf vs Huttwil (20)
UID:f66aad63-92f4-4d41-89ac-520acdbb4362
STATUS:CONFIRMED
LAST-MODIFIED:20221104T213243Z
DESCRIPTION:5. Liga Herren Gruppe 3\nBegegnungs-Nr: 20\nHeim: Utzenstorf\nGast: Huttwil\n\nAdresse: Gotthelfstrasse 15a\, 3427 Utzenstorf\n
LOCATION:Gotthelfstrasse 15a\, 3427 Utzenstorf
CATEGORIES:Saison 2022/23
END:VEVENT
BEGIN:VEVENT
DTSTAMP:20260421T202802Z
DTSTART;TZID=Europe/Berlin:20220827T140000
DTEND;TZID=Europe/Berlin:20220827T170000
SUMMARY:HE 5. Liga Gr. 3 Burgdorf VIII vs Huttwil (1)
UID:7583cc76-a69a-4bdf-8ade-3f562f9eca69
STATUS:CONFIRMED
LAST-MODIFIED:20220829T121254Z
DESCRIPTION:5. Liga Herren Gruppe 3\nBegegnungs-Nr: 1\nHeim: Burgdorf VIII\nGast: Huttwil\n\nAdresse: Pestalozzistrasse 69\, 3400 Burgdorf\n
LOCATION:Pestalozzistrasse 69\, 3400 Burgdorf
CATEGORIES:Saison 2022/23
END:VEVENT
BEGIN:VEVENT
DTSTAMP:20260421T202802Z
DTSTART;TZID=Europe/Berlin:20230316T200000
DTEND;TZID=Europe/Berlin:20230316T230000
SUMMARY:HE 5. Liga Gr. 3 Bern VII vs Huttwil (23)
UID:ed3eb8ea-74e7-478f-a8f9-4d45b495c591
STATUS:CONFIRMED
LAST-MODIFIED:20230320T123908Z
DESCRIPTION:5. Liga Herren Gruppe 3\nBegegnungs-Nr: 23\nHeim: Bern VII\nGast: Huttwil\n\nAdresse: Mädergutstrasse 58\, 3018 Bern\n
LOCATION:Mädergutstrasse 58\, 3018 Bern
CATEGORIES:Saison 2022/23
END:VEVENT
BEGIN:VEVENT
DTSTAMP:20260421T202802Z
DTSTART;TZID=Europe/Berlin:20230213T200000
DTEND;TZID=Europe/Berlin:20230213T230000
SUMMARY:HE 5. Liga Gr. 3 Langenthal IV vs Huttwil (16)
UID:0ca435cc-e47b-496b-9fe6-ebdb6a8bfa3c
STATUS:CONFIRMED
LAST-MODIFIED:20230214T195523Z
DESCRIPTION:5. Liga Herren Gruppe 3\nBegegnungs-Nr: 16\nHeim: Langenthal IV\nGast: Huttwil\n\nAdresse: Weststrasse 29\, 4900 Langenthal\n
LOCATION:Weststrasse 29\, 4900 Langenthal
CATEGORIES:Saison 2022/23
END:VEVENT
BEGIN:VEVENT
DTSTAMP:20260421T202802Z
DTSTART;TZID=Europe/Berlin:20230124T201500
DTEND;TZID=Europe/Berlin:20230124T231500
SUMMARY:HE 5. Liga Gr. 3 Lyss VII vs Huttwil (6)
UID:a379b724-7366-4f87-8988-1ec83b955056
STATUS:CONFIRMED
LAST-MODIFIED:20230125T130334Z
DESCRIPTION:5. Liga Herren Gruppe 3\nBegegnungs-Nr: 6\nHeim: Lyss VII\nGast: Huttwil\n\nAdresse: Stegmattweg 15-17\, 3250 Lyss\n
LOCATION:Stegmattweg 15-17\, 3250 Lyss
CATEGORIES:Saison 2022/23
END:VEVENT
BEGIN:VEVENT
DTSTAMP:20260421T202802Z
DTSTART;TZID=Europe/Berlin:20221214T200000
DTEND;TZID=Europe/Berlin:20221214T230000
SUMMARY:HE 5. Liga Gr. 3 Langnau IV vs Huttwil (28)
UID:60ab8460-7e19-4f0e-8700-efcd7bf64aa8
STATUS:CONFIRMED
LAST-MODIFIED:20221218T194858Z
DESCRIPTION:5. Liga Herren Gruppe 3\nBegegnungs-Nr: 28\nHeim: Langnau IV\nGast: Huttwil\n\nAdresse: Bleicheweg 11\, 3550 Langnau\n
LOCATION:Bleicheweg 11\, 3550 Langnau
CATEGORIES:Saison 2022/23
END:VEVENT
END:VCALENDAR
