BEGIN:VCALENDAR
PRODID:-//nuDatenautomaten//framework iCal4j //DE
VERSION:2.0
CALSCALE:GREGORIAN
BEGIN:VTIMEZONE
TZID:Europe/Berlin
LAST-MODIFIED:20260306T231828Z
TZURL:https://www.tzurl.org/zoneinfo/Europe/Berlin
X-LIC-LOCATION:Europe/Berlin
X-PROLEPTIC-TZNAME:LMT
BEGIN:STANDARD
TZNAME:CET
TZOFFSETFROM:+005328
TZOFFSETTO:+0100
DTSTART:18930401T000000
END:STANDARD
BEGIN:DAYLIGHT
TZNAME:CEST
TZOFFSETFROM:+0100
TZOFFSETTO:+0200
DTSTART:19160430T230000
RDATE:19400401T020000
RDATE:19430329T020000
RDATE:19460414T020000
RDATE:19470406T030000
RDATE:19480418T020000
RDATE:19490410T020000
RDATE:19800406T020000
END:DAYLIGHT
BEGIN:STANDARD
TZNAME:CET
TZOFFSETFROM:+0200
TZOFFSETTO:+0100
DTSTART:19161001T010000
RDATE:19421102T030000
RDATE:19431004T030000
RDATE:19441002T030000
RDATE:19451118T030000
RDATE:19461007T030000
END:STANDARD
BEGIN:DAYLIGHT
TZNAME:CEST
TZOFFSETFROM:+0100
TZOFFSETTO:+0200
DTSTART:19170416T020000
RRULE:FREQ=YEARLY;UNTIL=19180415T010000Z;BYMONTH=4;BYDAY=3MO
END:DAYLIGHT
BEGIN:STANDARD
TZNAME:CET
TZOFFSETFROM:+0200
TZOFFSETTO:+0100
DTSTART:19170917T030000
RRULE:FREQ=YEARLY;UNTIL=19180916T010000Z;BYMONTH=9;BYDAY=3MO
END:STANDARD
BEGIN:DAYLIGHT
TZNAME:CEST
TZOFFSETFROM:+0100
TZOFFSETTO:+0200
DTSTART:19440403T020000
RRULE:FREQ=YEARLY;UNTIL=19450402T010000Z;BYMONTH=4;BYDAY=1MO
END:DAYLIGHT
BEGIN:DAYLIGHT
TZNAME:CEMT
TZOFFSETFROM:+0200
TZOFFSETTO:+0300
DTSTART:19450524T020000
RDATE:19470511T030000
END:DAYLIGHT
BEGIN:DAYLIGHT
TZNAME:CEST
TZOFFSETFROM:+0300
TZOFFSETTO:+0200
DTSTART:19450924T030000
RDATE:19470629T030000
END:DAYLIGHT
BEGIN:STANDARD
TZNAME:CET
TZOFFSETFROM:+0100
TZOFFSETTO:+0100
DTSTART:19460101T000000
RDATE:19800101T000000
END:STANDARD
BEGIN:STANDARD
TZNAME:CET
TZOFFSETFROM:+0200
TZOFFSETTO:+0100
DTSTART:19471005T030000
RRULE:FREQ=YEARLY;UNTIL=19491002T010000Z;BYMONTH=10;BYDAY=1SU
END:STANDARD
BEGIN:STANDARD
TZNAME:CET
TZOFFSETFROM:+0200
TZOFFSETTO:+0100
DTSTART:19800928T030000
RRULE:FREQ=YEARLY;UNTIL=19950924T010000Z;BYMONTH=9;BYDAY=-1SU
END:STANDARD
BEGIN:DAYLIGHT
TZNAME:CEST
TZOFFSETFROM:+0100
TZOFFSETTO:+0200
DTSTART:19810329T020000
RRULE:FREQ=YEARLY;BYMONTH=3;BYDAY=-1SU
END:DAYLIGHT
BEGIN:STANDARD
TZNAME:CET
TZOFFSETFROM:+0200
TZOFFSETTO:+0100
DTSTART:19961027T030000
RRULE:FREQ=YEARLY;BYMONTH=10;BYDAY=-1SU
END:STANDARD
END:VTIMEZONE
BEGIN:VEVENT
DTSTAMP:20260426T033352Z
DTSTART;TZID=Europe/Berlin:20220902T194500
DTEND;TZID=Europe/Berlin:20220902T224500
SUMMARY:HE 6. Liga Gr. 7 Affoltern A/A VI vs Horgen V (0)
UID:b99301fd-1dff-439f-8620-fc0965508158
STATUS:CONFIRMED
LAST-MODIFIED:20220905T093451Z
DESCRIPTION:6. Liga Herren Gruppe 7\nBegegnungs-Nr: 0\nHeim: Affoltern A/A VI\nGast: Horgen V\n\nAdresse: Butzenstr. 2\, 8910 Affoltern am Albis\n
LOCATION:Butzenstr. 2\, 8910 Affoltern am Albis
CATEGORIES:Saison 2022/23
END:VEVENT
BEGIN:VEVENT
DTSTAMP:20260426T033352Z
DTSTART;TZID=Europe/Berlin:20220923T194500
DTEND;TZID=Europe/Berlin:20220923T224500
SUMMARY:HE 6. Liga Gr. 7 Affoltern A/A VI vs Thalwil IV (0)
UID:200cf800-993f-49c3-bd2e-5c7951115a5a
STATUS:CONFIRMED
LAST-MODIFIED:20221014T175026Z
DESCRIPTION:6. Liga Herren Gruppe 7\nBegegnungs-Nr: 0\nHeim: Affoltern A/A VI\nGast: Thalwil IV\n\nAdresse: Butzenstr. 2\, 8910 Affoltern am Albis\n
LOCATION:Butzenstr. 2\, 8910 Affoltern am Albis
CATEGORIES:Saison 2022/23
END:VEVENT
BEGIN:VEVENT
DTSTAMP:20260426T033352Z
DTSTART;TZID=Europe/Berlin:20221111T194500
DTEND;TZID=Europe/Berlin:20221111T224500
SUMMARY:HE 6. Liga Gr. 7 Affoltern A/A VI vs Seebach-Kügeliloo IV (0)
UID:f4e66446-4955-4cc9-be56-48356fddffd0
STATUS:CONFIRMED
LAST-MODIFIED:20221118T153031Z
DESCRIPTION:6. Liga Herren Gruppe 7\nBegegnungs-Nr: 0\nHeim: Affoltern A/A VI\nGast: Seebach-Kügeliloo IV\n\nAdresse: Butzenstr. 2\, 8910 Affoltern am Albis\n
LOCATION:Butzenstr. 2\, 8910 Affoltern am Albis
CATEGORIES:Saison 2022/23
END:VEVENT
BEGIN:VEVENT
DTSTAMP:20260426T033352Z
DTSTART;TZID=Europe/Berlin:20221202T194500
DTEND;TZID=Europe/Berlin:20221202T224500
SUMMARY:HE 6. Liga Gr. 7 Affoltern A/A VI vs Sihltal II (0)
UID:5b3be291-c98a-4ee2-b08a-59a831d5f171
STATUS:CONFIRMED
LAST-MODIFIED:20221208T121147Z
DESCRIPTION:6. Liga Herren Gruppe 7\nBegegnungs-Nr: 0\nHeim: Affoltern A/A VI\nGast: Sihltal II\n\nAdresse: Butzenstr. 2\, 8910 Affoltern am Albis\n
LOCATION:Butzenstr. 2\, 8910 Affoltern am Albis
CATEGORIES:Saison 2022/23
END:VEVENT
BEGIN:VEVENT
DTSTAMP:20260426T033352Z
DTSTART;TZID=Europe/Berlin:20230310T194500
DTEND;TZID=Europe/Berlin:20230310T224500
SUMMARY:HE 6. Liga Gr. 7 Affoltern A/A VI vs Pinguin Zürich VII (0)
UID:383fc233-ae0d-4f93-9489-5af26ec8fe77
STATUS:CONFIRMED
LAST-MODIFIED:20230316T095126Z
DESCRIPTION:6. Liga Herren Gruppe 7\nBegegnungs-Nr: 0\nHeim: Affoltern A/A VI\nGast: Pinguin Zürich VII\n\nAdresse: Butzenstr. 2\, 8910 Affoltern am Albis\n
LOCATION:Butzenstr. 2\, 8910 Affoltern am Albis
CATEGORIES:Saison 2022/23
END:VEVENT
BEGIN:VEVENT
DTSTAMP:20260426T033352Z
DTSTART;TZID=Europe/Berlin:20230119T194500
DTEND;TZID=Europe/Berlin:20230119T224500
SUMMARY:HE 6. Liga Gr. 7 Affoltern A/A VI vs Oberrieden II (0)
UID:72c2fe64-d4ae-4de2-acef-4ab501249a1a
STATUS:CONFIRMED
LAST-MODIFIED:20230127T163138Z
DESCRIPTION:6. Liga Herren Gruppe 7\nBegegnungs-Nr: 0\nHeim: Affoltern A/A VI\nGast: Oberrieden II\n\nAdresse: Butzenstrasse 8\, 8910 Affoltern am Albis\n
LOCATION:Butzenstrasse 8\, 8910 Affoltern am Albis
CATEGORIES:Saison 2022/23
END:VEVENT
BEGIN:VEVENT
DTSTAMP:20260426T033352Z
DTSTART;TZID=Europe/Berlin:20230203T194500
DTEND;TZID=Europe/Berlin:20230203T224500
SUMMARY:HE 6. Liga Gr. 7 Affoltern A/A VI vs Wettswil II (0)
UID:84d8fdaf-651a-4d98-9973-a3b7f66372b8
STATUS:CONFIRMED
LAST-MODIFIED:20230209T124123Z
DESCRIPTION:6. Liga Herren Gruppe 7\nBegegnungs-Nr: 0\nHeim: Affoltern A/A VI\nGast: Wettswil II\n\nAdresse: Butzenstr. 2\, 8910 Affoltern am Albis\n
LOCATION:Butzenstr. 2\, 8910 Affoltern am Albis
CATEGORIES:Saison 2022/23
END:VEVENT
BEGIN:VEVENT
DTSTAMP:20260426T033352Z
DTSTART;TZID=Europe/Berlin:20220906T194500
DTEND;TZID=Europe/Berlin:20220906T224500
SUMMARY:HE 6. Liga Gr. 7 Wettswil II vs Affoltern A/A VI (0)
UID:2c68ab37-045c-4c8c-9908-01bdf4255661
STATUS:CONFIRMED
LAST-MODIFIED:20220909T132817Z
DESCRIPTION:6. Liga Herren Gruppe 7\nBegegnungs-Nr: 0\nHeim: Wettswil II\nGast: Affoltern A/A VI\n\nAdresse: Hirsächersteig\, 8907 Wettswil\n
LOCATION:Hirsächersteig\, 8907 Wettswil
CATEGORIES:Saison 2022/23
END:VEVENT
BEGIN:VEVENT
DTSTAMP:20260426T033352Z
DTSTART;TZID=Europe/Berlin:20221006T194500
DTEND;TZID=Europe/Berlin:20221006T224500
SUMMARY:HE 6. Liga Gr. 7 Oberrieden II vs Affoltern A/A VI (0)
UID:8866a549-f27c-4865-a9d0-a1baa3be5e15
STATUS:CONFIRMED
LAST-MODIFIED:20221011T100520Z
DESCRIPTION:6. Liga Herren Gruppe 7\nBegegnungs-Nr: 0\nHeim: Oberrieden II\nGast: Affoltern A/A VI\n\nAdresse: Langweg 2\, 8942 Oberrieden\n
LOCATION:Langweg 2\, 8942 Oberrieden
CATEGORIES:Saison 2022/23
END:VEVENT
BEGIN:VEVENT
DTSTAMP:20260426T033352Z
DTSTART;TZID=Europe/Berlin:20230328T201500
DTEND;TZID=Europe/Berlin:20230328T231500
SUMMARY:HE 6. Liga Gr. 7 Sihltal II vs Affoltern A/A VI (0)
UID:fb7b935b-fa01-4110-b638-e41c2fccfdde
STATUS:CONFIRMED
LAST-MODIFIED:20230329T093615Z
DESCRIPTION:6. Liga Herren Gruppe 7\nBegegnungs-Nr: 0\nHeim: Sihltal II\nGast: Affoltern A/A VI\n\nAdresse: In der Schwerzi 4\, 8135 Langnau a/A\n
LOCATION:In der Schwerzi 4\, 8135 Langnau a/A
CATEGORIES:Saison 2022/23
END:VEVENT
BEGIN:VEVENT
DTSTAMP:20260426T033352Z
DTSTART;TZID=Europe/Berlin:20230315T193000
DTEND;TZID=Europe/Berlin:20230315T223000
SUMMARY:HE 6. Liga Gr. 7 Seebach-Kügeliloo IV vs Affoltern A/A VI (0)
UID:9463389e-0cca-4042-88a7-6afe8bd5d2a3
STATUS:CONFIRMED
LAST-MODIFIED:20230316T095743Z
DESCRIPTION:6. Liga Herren Gruppe 7\nBegegnungs-Nr: 0\nHeim: Seebach-Kügeliloo IV\nGast: Affoltern A/A VI\n\nAdresse: Maienstrasse 9\, 8050 Zürich\n
LOCATION:Maienstrasse 9\, 8050 Zürich
CATEGORIES:Saison 2022/23
END:VEVENT
BEGIN:VEVENT
DTSTAMP:20260426T033352Z
DTSTART;TZID=Europe/Berlin:20230211T100000
DTEND;TZID=Europe/Berlin:20230211T130000
SUMMARY:HE 6. Liga Gr. 7 Thalwil IV vs Affoltern A/A VI (0)
UID:eeee9b2f-1092-4d40-84d2-fd7dce3500bf
STATUS:CONFIRMED
LAST-MODIFIED:20230215T132432Z
DESCRIPTION:6. Liga Herren Gruppe 7\nBegegnungs-Nr: 0\nHeim: Thalwil IV\nGast: Affoltern A/A VI\n\nAdresse: Langweg 2\, 8942 Oberrieden\n
LOCATION:Langweg 2\, 8942 Oberrieden
CATEGORIES:Saison 2022/23
END:VEVENT
BEGIN:VEVENT
DTSTAMP:20260426T033352Z
DTSTART;TZID=Europe/Berlin:20230110T200000
DTEND;TZID=Europe/Berlin:20230110T230000
SUMMARY:HE 6. Liga Gr. 7 Horgen V vs Affoltern A/A VI (0)
UID:ad7580fb-d631-452d-8902-6b100ee068ec
STATUS:CONFIRMED
LAST-MODIFIED:20230112T112427Z
DESCRIPTION:6. Liga Herren Gruppe 7\nBegegnungs-Nr: 0\nHeim: Horgen V\nGast: Affoltern A/A VI\n\nAdresse: Seestrasse 110\, 8810 Horgen\n
LOCATION:Seestrasse 110\, 8810 Horgen
CATEGORIES:Saison 2022/23
END:VEVENT
BEGIN:VEVENT
DTSTAMP:20260426T033352Z
DTSTART;TZID=Europe/Berlin:20221031T193000
DTEND;TZID=Europe/Berlin:20221031T223000
SUMMARY:HE 6. Liga Gr. 7 Pinguin Zürich VII vs Affoltern A/A VI (0)
UID:0006c33a-ccfe-4cc4-8051-0056cb79c984
STATUS:CONFIRMED
LAST-MODIFIED:20221101T091226Z
DESCRIPTION:6. Liga Herren Gruppe 7\nBegegnungs-Nr: 0\nHeim: Pinguin Zürich VII\nGast: Affoltern A/A VI\n\nAdresse: Basteiplatz\, 8001 Zürich\n
LOCATION:Basteiplatz\, 8001 Zürich
CATEGORIES:Saison 2022/23
END:VEVENT
END:VCALENDAR
