BEGIN:VCALENDAR
PRODID:-//nuDatenautomaten//framework iCal4j //DE
VERSION:2.0
CALSCALE:GREGORIAN
BEGIN:VTIMEZONE
TZID:Europe/Berlin
LAST-MODIFIED:20260306T231828Z
TZURL:https://www.tzurl.org/zoneinfo/Europe/Berlin
X-LIC-LOCATION:Europe/Berlin
X-PROLEPTIC-TZNAME:LMT
BEGIN:STANDARD
TZNAME:CET
TZOFFSETFROM:+005328
TZOFFSETTO:+0100
DTSTART:18930401T000000
END:STANDARD
BEGIN:DAYLIGHT
TZNAME:CEST
TZOFFSETFROM:+0100
TZOFFSETTO:+0200
DTSTART:19160430T230000
RDATE:19400401T020000
RDATE:19430329T020000
RDATE:19460414T020000
RDATE:19470406T030000
RDATE:19480418T020000
RDATE:19490410T020000
RDATE:19800406T020000
END:DAYLIGHT
BEGIN:STANDARD
TZNAME:CET
TZOFFSETFROM:+0200
TZOFFSETTO:+0100
DTSTART:19161001T010000
RDATE:19421102T030000
RDATE:19431004T030000
RDATE:19441002T030000
RDATE:19451118T030000
RDATE:19461007T030000
END:STANDARD
BEGIN:DAYLIGHT
TZNAME:CEST
TZOFFSETFROM:+0100
TZOFFSETTO:+0200
DTSTART:19170416T020000
RRULE:FREQ=YEARLY;UNTIL=19180415T010000Z;BYMONTH=4;BYDAY=3MO
END:DAYLIGHT
BEGIN:STANDARD
TZNAME:CET
TZOFFSETFROM:+0200
TZOFFSETTO:+0100
DTSTART:19170917T030000
RRULE:FREQ=YEARLY;UNTIL=19180916T010000Z;BYMONTH=9;BYDAY=3MO
END:STANDARD
BEGIN:DAYLIGHT
TZNAME:CEST
TZOFFSETFROM:+0100
TZOFFSETTO:+0200
DTSTART:19440403T020000
RRULE:FREQ=YEARLY;UNTIL=19450402T010000Z;BYMONTH=4;BYDAY=1MO
END:DAYLIGHT
BEGIN:DAYLIGHT
TZNAME:CEMT
TZOFFSETFROM:+0200
TZOFFSETTO:+0300
DTSTART:19450524T020000
RDATE:19470511T030000
END:DAYLIGHT
BEGIN:DAYLIGHT
TZNAME:CEST
TZOFFSETFROM:+0300
TZOFFSETTO:+0200
DTSTART:19450924T030000
RDATE:19470629T030000
END:DAYLIGHT
BEGIN:STANDARD
TZNAME:CET
TZOFFSETFROM:+0100
TZOFFSETTO:+0100
DTSTART:19460101T000000
RDATE:19800101T000000
END:STANDARD
BEGIN:STANDARD
TZNAME:CET
TZOFFSETFROM:+0200
TZOFFSETTO:+0100
DTSTART:19471005T030000
RRULE:FREQ=YEARLY;UNTIL=19491002T010000Z;BYMONTH=10;BYDAY=1SU
END:STANDARD
BEGIN:STANDARD
TZNAME:CET
TZOFFSETFROM:+0200
TZOFFSETTO:+0100
DTSTART:19800928T030000
RRULE:FREQ=YEARLY;UNTIL=19950924T010000Z;BYMONTH=9;BYDAY=-1SU
END:STANDARD
BEGIN:DAYLIGHT
TZNAME:CEST
TZOFFSETFROM:+0100
TZOFFSETTO:+0200
DTSTART:19810329T020000
RRULE:FREQ=YEARLY;BYMONTH=3;BYDAY=-1SU
END:DAYLIGHT
BEGIN:STANDARD
TZNAME:CET
TZOFFSETFROM:+0200
TZOFFSETTO:+0100
DTSTART:19961027T030000
RRULE:FREQ=YEARLY;BYMONTH=10;BYDAY=-1SU
END:STANDARD
END:VTIMEZONE
BEGIN:VEVENT
DTSTAMP:20260421T202826Z
DTSTART;TZID=Europe/Berlin:20221203T180000
DTEND;TZID=Europe/Berlin:20221203T210000
SUMMARY:HE 4. Liga Gr. 1 Heimberg V vs Interlaken (31)
UID:9d996cf8-7aef-4ce6-bd1d-800e3e5babbb
STATUS:CONFIRMED
LAST-MODIFIED:20221205T142944Z
DESCRIPTION:4. Liga Herren Gruppe 1\nBegegnungs-Nr: 31\nHeim: Heimberg V\nGast: Interlaken\n\nAdresse: Niesenstrasse 38\, 3627 Heimberg\n
LOCATION:Niesenstrasse 38\, 3627 Heimberg
CATEGORIES:Saison 2022/23
END:VEVENT
BEGIN:VEVENT
DTSTAMP:20260421T202826Z
DTSTART;TZID=Europe/Berlin:20221112T150000
DTEND;TZID=Europe/Berlin:20221112T180000
SUMMARY:HE 4. Liga Gr. 1 Heimberg V vs Bern V (23)
UID:5a1dcf67-f31d-49fd-a47f-e3416f3f7b48
STATUS:CONFIRMED
LAST-MODIFIED:20221113T105916Z
DESCRIPTION:4. Liga Herren Gruppe 1\nBegegnungs-Nr: 23\nHeim: Heimberg V\nGast: Bern V\n\nAdresse: Niesenstrasse 38\, 3627 Heimberg\n
LOCATION:Niesenstrasse 38\, 3627 Heimberg
CATEGORIES:Saison 2022/23
END:VEVENT
BEGIN:VEVENT
DTSTAMP:20260421T202826Z
DTSTART;TZID=Europe/Berlin:20221029T150000
DTEND;TZID=Europe/Berlin:20221029T180000
SUMMARY:HE 4. Liga Gr. 1 Heimberg V vs Thun IV (20)
UID:836cb71d-9e95-412b-b011-aaa92354dd6a
STATUS:CONFIRMED
LAST-MODIFIED:20221030T095649Z
DESCRIPTION:4. Liga Herren Gruppe 1\nBegegnungs-Nr: 20\nHeim: Heimberg V\nGast: Thun IV\n\nAdresse: Niesenstrasse 38\, 3627 Heimberg\n
LOCATION:Niesenstrasse 38\, 3627 Heimberg
CATEGORIES:Saison 2022/23
END:VEVENT
BEGIN:VEVENT
DTSTAMP:20260421T202826Z
DTSTART;TZID=Europe/Berlin:20221024T193000
DTEND;TZID=Europe/Berlin:20221024T223000
SUMMARY:HE 4. Liga Gr. 1 Heimberg V vs bls Spiez II (14)
UID:f30de81a-7b4b-4b41-9169-38343343f3f1
STATUS:CONFIRMED
LAST-MODIFIED:20221024T212504Z
DESCRIPTION:4. Liga Herren Gruppe 1\nBegegnungs-Nr: 14\nHeim: Heimberg V\nGast: bls Spiez II\n\nAdresse: Schulhausstrasse 20\, 3672 Oberdiessbach\n
LOCATION:Schulhausstrasse 20\, 3672 Oberdiessbach
CATEGORIES:Saison 2022/23
END:VEVENT
BEGIN:VEVENT
DTSTAMP:20260421T202826Z
DTSTART;TZID=Europe/Berlin:20220905T193000
DTEND;TZID=Europe/Berlin:20220905T223000
SUMMARY:HE 4. Liga Gr. 1 Heimberg V vs Münsingen IV (8)
UID:464cf282-4d75-4bdd-b973-ef37ca35ecdf
STATUS:CONFIRMED
LAST-MODIFIED:20220909T160722Z
DESCRIPTION:4. Liga Herren Gruppe 1\nBegegnungs-Nr: 8\nHeim: Heimberg V\nGast: Münsingen IV\n\nAdresse: Schulhausstrasse 20\, 3672 Oberdiessbach\n
LOCATION:Schulhausstrasse 20\, 3672 Oberdiessbach
CATEGORIES:Saison 2022/23
END:VEVENT
BEGIN:VEVENT
DTSTAMP:20260421T202826Z
DTSTART;TZID=Europe/Berlin:20230327T193000
DTEND;TZID=Europe/Berlin:20230327T223000
SUMMARY:HE 4. Liga Gr. 1 Heimberg V vs Langnau III (28)
UID:6a515c23-cefb-48f0-b1c3-c7eea2103787
STATUS:CONFIRMED
LAST-MODIFIED:20230328T162111Z
DESCRIPTION:4. Liga Herren Gruppe 1\nBegegnungs-Nr: 28\nHeim: Heimberg V\nGast: Langnau III\n\nAdresse: Schulhausstrasse 20\, 3672 Oberdiessbach\n
LOCATION:Schulhausstrasse 20\, 3672 Oberdiessbach
CATEGORIES:Saison 2022/23
END:VEVENT
BEGIN:VEVENT
DTSTAMP:20260421T202826Z
DTSTART;TZID=Europe/Berlin:20230126T194500
DTEND;TZID=Europe/Berlin:20230126T224500
SUMMARY:HE 4. Liga Gr. 1 Heimberg V vs Worb III (9)
UID:c36f169c-6e1c-438b-a44b-7e2fac16d472
STATUS:CONFIRMED
LAST-MODIFIED:20230129T125249Z
DESCRIPTION:4. Liga Herren Gruppe 1\nBegegnungs-Nr: 9\nHeim: Heimberg V\nGast: Worb III\n\nAdresse: Niesenstrasse 38\, 3627 Heimberg\n
LOCATION:Niesenstrasse 38\, 3627 Heimberg
CATEGORIES:Saison 2022/23
END:VEVENT
BEGIN:VEVENT
DTSTAMP:20260421T202826Z
DTSTART;TZID=Europe/Berlin:20221219T193000
DTEND;TZID=Europe/Berlin:20221219T223000
SUMMARY:HE 4. Liga Gr. 1 Heimberg V vs Steffisburg (4)
UID:1715f620-1ff8-4fb2-8916-01f35216c6ca
STATUS:CONFIRMED
LAST-MODIFIED:20221220T134632Z
DESCRIPTION:4. Liga Herren Gruppe 1\nBegegnungs-Nr: 4\nHeim: Heimberg V\nGast: Steffisburg\n\nAdresse: Schulhausstrasse 20\, 3672 Oberdiessbach\n
LOCATION:Schulhausstrasse 20\, 3672 Oberdiessbach
CATEGORIES:Saison 2022/23
END:VEVENT
BEGIN:VEVENT
DTSTAMP:20260421T202826Z
DTSTART;TZID=Europe/Berlin:20220823T194500
DTEND;TZID=Europe/Berlin:20220823T224500
SUMMARY:HE 4. Liga Gr. 1 Steffisburg vs Heimberg V (4)
UID:ba7b73ed-8202-4e5d-a124-dbb6a4b4ea42
STATUS:CONFIRMED
LAST-MODIFIED:20220829T120757Z
DESCRIPTION:4. Liga Herren Gruppe 1\nBegegnungs-Nr: 4\nHeim: Steffisburg\nGast: Heimberg V\n\nAdresse: Sonnenfeldstrasse 10\, 3613 Steffisburg\n
LOCATION:Sonnenfeldstrasse 10\, 3613 Steffisburg
CATEGORIES:Saison 2022/23
END:VEVENT
BEGIN:VEVENT
DTSTAMP:20260421T202826Z
DTSTART;TZID=Europe/Berlin:20221123T200000
DTEND;TZID=Europe/Berlin:20221123T230000
SUMMARY:HE 4. Liga Gr. 1 Langnau III vs Heimberg V (28)
UID:5024deac-693e-4b0c-a1a3-9ed8a7b23b96
STATUS:CONFIRMED
LAST-MODIFIED:20221124T091950Z
DESCRIPTION:4. Liga Herren Gruppe 1\nBegegnungs-Nr: 28\nHeim: Langnau III\nGast: Heimberg V\n\nAdresse: Bleicheweg 11\, 3550 Langnau\n
LOCATION:Bleicheweg 11\, 3550 Langnau
CATEGORIES:Saison 2022/23
END:VEVENT
BEGIN:VEVENT
DTSTAMP:20260421T202826Z
DTSTART;TZID=Europe/Berlin:20220914T200000
DTEND;TZID=Europe/Berlin:20220914T230000
SUMMARY:HE 4. Liga Gr. 1 Worb III vs Heimberg V (9)
UID:f50a7dd4-b1c3-4070-b597-27655566efb3
STATUS:CONFIRMED
LAST-MODIFIED:20220916T081732Z
DESCRIPTION:4. Liga Herren Gruppe 1\nBegegnungs-Nr: 9\nHeim: Worb III\nGast: Heimberg V\n\nAdresse: Rosenweg 9\, 3075 Rüfenacht BE\n
LOCATION:Rosenweg 9\, 3075 Rüfenacht BE
CATEGORIES:Saison 2022/23
END:VEVENT
BEGIN:VEVENT
DTSTAMP:20260421T202826Z
DTSTART;TZID=Europe/Berlin:20230320T203000
DTEND;TZID=Europe/Berlin:20230320T233000
SUMMARY:HE 4. Liga Gr. 1 Interlaken vs Heimberg V (31)
UID:c68bef70-0c0c-411d-9e6c-18131295bb7c
STATUS:CONFIRMED
LAST-MODIFIED:20230322T143126Z
DESCRIPTION:4. Liga Herren Gruppe 1\nBegegnungs-Nr: 31\nHeim: Interlaken\nGast: Heimberg V\n\nAdresse: Burgweg 239R\, 3852 Ringgenberg\n
LOCATION:Burgweg 239R\, 3852 Ringgenberg
CATEGORIES:Saison 2022/23
END:VEVENT
BEGIN:VEVENT
DTSTAMP:20260421T202826Z
DTSTART;TZID=Europe/Berlin:20230225T130000
DTEND;TZID=Europe/Berlin:20230225T160000
SUMMARY:HE 4. Liga Gr. 1 Thun IV vs Heimberg V (20)
UID:fe6f0229-3059-41d6-9f02-86cdf07d3f36
STATUS:CONFIRMED
LAST-MODIFIED:20230226T201619Z
DESCRIPTION:4. Liga Herren Gruppe 1\nBegegnungs-Nr: 20\nHeim: Thun IV\nGast: Heimberg V\n\nAdresse: Hallerstrasse 28\, 3604 Thun\n
LOCATION:Hallerstrasse 28\, 3604 Thun
CATEGORIES:Saison 2022/23
END:VEVENT
BEGIN:VEVENT
DTSTAMP:20260421T202826Z
DTSTART;TZID=Europe/Berlin:20230308T193000
DTEND;TZID=Europe/Berlin:20230308T223000
SUMMARY:HE 4. Liga Gr. 1 Bern V vs Heimberg V (23)
UID:0e74998a-ba92-44d0-9691-885f757a7bc7
STATUS:CONFIRMED
LAST-MODIFIED:20230309T115500Z
DESCRIPTION:4. Liga Herren Gruppe 1\nBegegnungs-Nr: 23\nHeim: Bern V\nGast: Heimberg V\n\nAdresse: Papiermühlestrasse 81\, 3014 Bern\n
LOCATION:Papiermühlestrasse 81\, 3014 Bern
CATEGORIES:Saison 2022/23
END:VEVENT
BEGIN:VEVENT
DTSTAMP:20260421T202826Z
DTSTART;TZID=Europe/Berlin:20230214T194500
DTEND;TZID=Europe/Berlin:20230214T224500
SUMMARY:HE 4. Liga Gr. 1 bls Spiez II vs Heimberg V (14)
UID:78700580-3475-4245-baf8-a0f662371261
STATUS:CONFIRMED
LAST-MODIFIED:20230216T204733Z
DESCRIPTION:4. Liga Herren Gruppe 1\nBegegnungs-Nr: 14\nHeim: bls Spiez II\nGast: Heimberg V\n\nAdresse: Hofachernweg 19 / Oberlandstr. 89\, 3700 Spiez\n
LOCATION:Hofachernweg 19 / Oberlandstr. 89\, 3700 Spiez
CATEGORIES:Saison 2022/23
END:VEVENT
BEGIN:VEVENT
DTSTAMP:20260421T202826Z
DTSTART;TZID=Europe/Berlin:20230118T200000
DTEND;TZID=Europe/Berlin:20230118T230000
SUMMARY:HE 4. Liga Gr. 1 Münsingen IV vs Heimberg V (8)
UID:058f325b-d1ba-49df-a976-7b718462a703
STATUS:CONFIRMED
LAST-MODIFIED:20230119T112410Z
DESCRIPTION:4. Liga Herren Gruppe 1\nBegegnungs-Nr: 8\nHeim: Münsingen IV\nGast: Heimberg V\n\nAdresse: Turnhallenweg 8\, 3110 Münsingen\n
LOCATION:Turnhallenweg 8\, 3110 Münsingen
CATEGORIES:Saison 2022/23
END:VEVENT
END:VCALENDAR
