BEGIN:VCALENDAR
PRODID:-//nuDatenautomaten//framework iCal4j //DE
VERSION:2.0
CALSCALE:GREGORIAN
BEGIN:VTIMEZONE
TZID:Europe/Berlin
LAST-MODIFIED:20260306T231828Z
TZURL:https://www.tzurl.org/zoneinfo/Europe/Berlin
X-LIC-LOCATION:Europe/Berlin
X-PROLEPTIC-TZNAME:LMT
BEGIN:STANDARD
TZNAME:CET
TZOFFSETFROM:+005328
TZOFFSETTO:+0100
DTSTART:18930401T000000
END:STANDARD
BEGIN:DAYLIGHT
TZNAME:CEST
TZOFFSETFROM:+0100
TZOFFSETTO:+0200
DTSTART:19160430T230000
RDATE:19400401T020000
RDATE:19430329T020000
RDATE:19460414T020000
RDATE:19470406T030000
RDATE:19480418T020000
RDATE:19490410T020000
RDATE:19800406T020000
END:DAYLIGHT
BEGIN:STANDARD
TZNAME:CET
TZOFFSETFROM:+0200
TZOFFSETTO:+0100
DTSTART:19161001T010000
RDATE:19421102T030000
RDATE:19431004T030000
RDATE:19441002T030000
RDATE:19451118T030000
RDATE:19461007T030000
END:STANDARD
BEGIN:DAYLIGHT
TZNAME:CEST
TZOFFSETFROM:+0100
TZOFFSETTO:+0200
DTSTART:19170416T020000
RRULE:FREQ=YEARLY;UNTIL=19180415T010000Z;BYMONTH=4;BYDAY=3MO
END:DAYLIGHT
BEGIN:STANDARD
TZNAME:CET
TZOFFSETFROM:+0200
TZOFFSETTO:+0100
DTSTART:19170917T030000
RRULE:FREQ=YEARLY;UNTIL=19180916T010000Z;BYMONTH=9;BYDAY=3MO
END:STANDARD
BEGIN:DAYLIGHT
TZNAME:CEST
TZOFFSETFROM:+0100
TZOFFSETTO:+0200
DTSTART:19440403T020000
RRULE:FREQ=YEARLY;UNTIL=19450402T010000Z;BYMONTH=4;BYDAY=1MO
END:DAYLIGHT
BEGIN:DAYLIGHT
TZNAME:CEMT
TZOFFSETFROM:+0200
TZOFFSETTO:+0300
DTSTART:19450524T020000
RDATE:19470511T030000
END:DAYLIGHT
BEGIN:DAYLIGHT
TZNAME:CEST
TZOFFSETFROM:+0300
TZOFFSETTO:+0200
DTSTART:19450924T030000
RDATE:19470629T030000
END:DAYLIGHT
BEGIN:STANDARD
TZNAME:CET
TZOFFSETFROM:+0100
TZOFFSETTO:+0100
DTSTART:19460101T000000
RDATE:19800101T000000
END:STANDARD
BEGIN:STANDARD
TZNAME:CET
TZOFFSETFROM:+0200
TZOFFSETTO:+0100
DTSTART:19471005T030000
RRULE:FREQ=YEARLY;UNTIL=19491002T010000Z;BYMONTH=10;BYDAY=1SU
END:STANDARD
BEGIN:STANDARD
TZNAME:CET
TZOFFSETFROM:+0200
TZOFFSETTO:+0100
DTSTART:19800928T030000
RRULE:FREQ=YEARLY;UNTIL=19950924T010000Z;BYMONTH=9;BYDAY=-1SU
END:STANDARD
BEGIN:DAYLIGHT
TZNAME:CEST
TZOFFSETFROM:+0100
TZOFFSETTO:+0200
DTSTART:19810329T020000
RRULE:FREQ=YEARLY;BYMONTH=3;BYDAY=-1SU
END:DAYLIGHT
BEGIN:STANDARD
TZNAME:CET
TZOFFSETFROM:+0200
TZOFFSETTO:+0100
DTSTART:19961027T030000
RRULE:FREQ=YEARLY;BYMONTH=10;BYDAY=-1SU
END:STANDARD
END:VTIMEZONE
BEGIN:VEVENT
DTSTAMP:20260426T032123Z
DTSTART;TZID=Europe/Berlin:20230403T200000
DTEND;TZID=Europe/Berlin:20230403T230000
SUMMARY:O40 4. Liga Gr. 1 Bronschhofen vs Arbon (0)
UID:6a880e22-fac2-48ee-b122-129b57b262f4
STATUS:CONFIRMED
LAST-MODIFIED:20230405T121519Z
DESCRIPTION:4. Liga O40 Gruppe 1\nBegegnungs-Nr: 0\nHeim: Bronschhofen\nGast: Arbon\n\nAdresse: Schulstrasse 6\, 9552 Bronschhofen\n
LOCATION:Schulstrasse 6\, 9552 Bronschhofen
CATEGORIES:Saison 2022/23
END:VEVENT
BEGIN:VEVENT
DTSTAMP:20260426T032123Z
DTSTART;TZID=Europe/Berlin:20220822T200000
DTEND;TZID=Europe/Berlin:20220822T230000
SUMMARY:O40 4. Liga Gr. 1 Bronschhofen vs Weinfelden (0)
UID:5299d23f-2b64-43c6-af99-039a99f79f3a
STATUS:CONFIRMED
LAST-MODIFIED:20220823T062148Z
DESCRIPTION:4. Liga O40 Gruppe 1\nBegegnungs-Nr: 0\nHeim: Bronschhofen\nGast: Weinfelden\n\nAdresse: Schulstrasse 6\, 9552 Bronschhofen\n
LOCATION:Schulstrasse 6\, 9552 Bronschhofen
CATEGORIES:Saison 2022/23
END:VEVENT
BEGIN:VEVENT
DTSTAMP:20260426T032123Z
DTSTART;TZID=Europe/Berlin:20221024T200000
DTEND;TZID=Europe/Berlin:20221024T230000
SUMMARY:O40 4. Liga Gr. 1 Bronschhofen vs St. Gallen III (0)
UID:49cf7f34-a76e-4eb7-8ba6-5ab9754ff275
STATUS:CONFIRMED
LAST-MODIFIED:20221101T092050Z
DESCRIPTION:4. Liga O40 Gruppe 1\nBegegnungs-Nr: 0\nHeim: Bronschhofen\nGast: St. Gallen III\n\nAdresse: Schulstrasse 6\, 9552 Bronschhofen\n
LOCATION:Schulstrasse 6\, 9552 Bronschhofen
CATEGORIES:Saison 2022/23
END:VEVENT
BEGIN:VEVENT
DTSTAMP:20260426T032123Z
DTSTART;TZID=Europe/Berlin:20230130T200000
DTEND;TZID=Europe/Berlin:20230130T230000
SUMMARY:O40 4. Liga Gr. 1 Bronschhofen vs Gossau St.Gallen II (0)
UID:6a1d1af8-0cda-45bf-a6c9-1e6ad44adf80
STATUS:CONFIRMED
LAST-MODIFIED:20230201T131440Z
DESCRIPTION:4. Liga O40 Gruppe 1\nBegegnungs-Nr: 0\nHeim: Bronschhofen\nGast: Gossau St.Gallen II\n\nAdresse: Schulstrasse 6\, 9552 Bronschhofen\n
LOCATION:Schulstrasse 6\, 9552 Bronschhofen
CATEGORIES:Saison 2022/23
END:VEVENT
BEGIN:VEVENT
DTSTAMP:20260426T032123Z
DTSTART;TZID=Europe/Berlin:20230320T200000
DTEND;TZID=Europe/Berlin:20230320T230000
SUMMARY:O40 4. Liga Gr. 1 Bronschhofen vs Muolen (0)
UID:ca0819fc-b7af-430d-b70d-f82a76114769
STATUS:CONFIRMED
LAST-MODIFIED:20230328T102254Z
DESCRIPTION:4. Liga O40 Gruppe 1\nBegegnungs-Nr: 0\nHeim: Bronschhofen\nGast: Muolen\n\nAdresse: Schulstrasse 6\, 9552 Bronschhofen\n
LOCATION:Schulstrasse 6\, 9552 Bronschhofen
CATEGORIES:Saison 2022/23
END:VEVENT
BEGIN:VEVENT
DTSTAMP:20260426T032123Z
DTSTART;TZID=Europe/Berlin:20230525T200000
DTEND;TZID=Europe/Berlin:20230525T230000
SUMMARY:O40 4. Liga Aufstieg Bronschhofen vs Young Stars ZH (721)
UID:9f880ad3-76e2-43ad-81c4-6f8ba33cbcb2
STATUS:CONFIRMED
LAST-MODIFIED:20230526T061238Z
DESCRIPTION:4. Liga O40 Aufstieg\nBegegnungs-Nr: 721\nHeim: Bronschhofen\nGast: Young Stars ZH\n
LOCATION:
CATEGORIES:Saison 2022/23
END:VEVENT
BEGIN:VEVENT
DTSTAMP:20260426T032123Z
DTSTART;TZID=Europe/Berlin:20220912T200000
DTEND;TZID=Europe/Berlin:20220912T230000
SUMMARY:O40 4. Liga Gr. 1 Gossau St.Gallen II vs Bronschhofen (0)
UID:9ad17bb8-0f71-4daa-b5ca-f77deb57ee1d
STATUS:CONFIRMED
LAST-MODIFIED:20220914T081311Z
DESCRIPTION:4. Liga O40 Gruppe 1\nBegegnungs-Nr: 0\nHeim: Gossau St.Gallen II\nGast: Bronschhofen\n\nAdresse: Falkenstrasse 21\, 9200 Gossau\n
LOCATION:Falkenstrasse 21\, 9200 Gossau
CATEGORIES:Saison 2022/23
END:VEVENT
BEGIN:VEVENT
DTSTAMP:20260426T032123Z
DTSTART;TZID=Europe/Berlin:20221123T200000
DTEND;TZID=Europe/Berlin:20221123T230000
SUMMARY:O40 4. Liga Gr. 1 Muolen vs Bronschhofen (0)
UID:bd3fd5d3-c47f-47a5-b329-98055922074e
STATUS:CONFIRMED
LAST-MODIFIED:20221128T150251Z
DESCRIPTION:4. Liga O40 Gruppe 1\nBegegnungs-Nr: 0\nHeim: Muolen\nGast: Bronschhofen\n\nAdresse: Dorfstrasse 31\, 9313 Muolen\n
LOCATION:Dorfstrasse 31\, 9313 Muolen
CATEGORIES:Saison 2022/23
END:VEVENT
BEGIN:VEVENT
DTSTAMP:20260426T032123Z
DTSTART;TZID=Europe/Berlin:20221208T200000
DTEND;TZID=Europe/Berlin:20221208T230000
SUMMARY:O40 4. Liga Gr. 1 Arbon vs Bronschhofen (0)
UID:ad686251-c03d-45bc-8158-d1ae70f087bf
STATUS:CONFIRMED
LAST-MODIFIED:20221212T145449Z
DESCRIPTION:4. Liga O40 Gruppe 1\nBegegnungs-Nr: 0\nHeim: Arbon\nGast: Bronschhofen\n\nAdresse: Promenadenstrasse 17\, 9320 Arbon\n
LOCATION:Promenadenstrasse 17\, 9320 Arbon
CATEGORIES:Saison 2022/23
END:VEVENT
BEGIN:VEVENT
DTSTAMP:20260426T032123Z
DTSTART;TZID=Europe/Berlin:20230119T200000
DTEND;TZID=Europe/Berlin:20230119T230000
SUMMARY:O40 4. Liga Gr. 1 Weinfelden vs Bronschhofen (0)
UID:fa58fcdc-3808-4c86-86e5-66fb517aaa0f
STATUS:CONFIRMED
LAST-MODIFIED:20230127T163800Z
DESCRIPTION:4. Liga O40 Gruppe 1\nBegegnungs-Nr: 0\nHeim: Weinfelden\nGast: Bronschhofen\n\nAdresse: Bleichestrasse 3 (neben Hallenbad)\, 8570 Weinfelden\n
LOCATION:Bleichestrasse 3 (neben Hallenbad)\, 8570 Weinfelden
CATEGORIES:Saison 2022/23
END:VEVENT
BEGIN:VEVENT
DTSTAMP:20260426T032123Z
DTSTART;TZID=Europe/Berlin:20230217T200000
DTEND;TZID=Europe/Berlin:20230217T230000
SUMMARY:O40 4. Liga Gr. 1 St. Gallen III vs Bronschhofen (0)
UID:75d14a04-a797-4d80-9532-6d6d100b6143
STATUS:CONFIRMED
LAST-MODIFIED:20230223T094457Z
DESCRIPTION:4. Liga O40 Gruppe 1\nBegegnungs-Nr: 0\nHeim: St. Gallen III\nGast: Bronschhofen\n\nAdresse: Zilstrasse 61\, 9016 St.Gallen\n
LOCATION:Zilstrasse 61\, 9016 St.Gallen
CATEGORIES:Saison 2022/23
END:VEVENT
END:VCALENDAR
