BEGIN:VCALENDAR
PRODID:-//nuDatenautomaten//framework iCal4j //DE
VERSION:2.0
CALSCALE:GREGORIAN
BEGIN:VTIMEZONE
TZID:Europe/Berlin
LAST-MODIFIED:20260306T231828Z
TZURL:https://www.tzurl.org/zoneinfo/Europe/Berlin
X-LIC-LOCATION:Europe/Berlin
X-PROLEPTIC-TZNAME:LMT
BEGIN:STANDARD
TZNAME:CET
TZOFFSETFROM:+005328
TZOFFSETTO:+0100
DTSTART:18930401T000000
END:STANDARD
BEGIN:DAYLIGHT
TZNAME:CEST
TZOFFSETFROM:+0100
TZOFFSETTO:+0200
DTSTART:19160430T230000
RDATE:19400401T020000
RDATE:19430329T020000
RDATE:19460414T020000
RDATE:19470406T030000
RDATE:19480418T020000
RDATE:19490410T020000
RDATE:19800406T020000
END:DAYLIGHT
BEGIN:STANDARD
TZNAME:CET
TZOFFSETFROM:+0200
TZOFFSETTO:+0100
DTSTART:19161001T010000
RDATE:19421102T030000
RDATE:19431004T030000
RDATE:19441002T030000
RDATE:19451118T030000
RDATE:19461007T030000
END:STANDARD
BEGIN:DAYLIGHT
TZNAME:CEST
TZOFFSETFROM:+0100
TZOFFSETTO:+0200
DTSTART:19170416T020000
RRULE:FREQ=YEARLY;UNTIL=19180415T010000Z;BYMONTH=4;BYDAY=3MO
END:DAYLIGHT
BEGIN:STANDARD
TZNAME:CET
TZOFFSETFROM:+0200
TZOFFSETTO:+0100
DTSTART:19170917T030000
RRULE:FREQ=YEARLY;UNTIL=19180916T010000Z;BYMONTH=9;BYDAY=3MO
END:STANDARD
BEGIN:DAYLIGHT
TZNAME:CEST
TZOFFSETFROM:+0100
TZOFFSETTO:+0200
DTSTART:19440403T020000
RRULE:FREQ=YEARLY;UNTIL=19450402T010000Z;BYMONTH=4;BYDAY=1MO
END:DAYLIGHT
BEGIN:DAYLIGHT
TZNAME:CEMT
TZOFFSETFROM:+0200
TZOFFSETTO:+0300
DTSTART:19450524T020000
RDATE:19470511T030000
END:DAYLIGHT
BEGIN:DAYLIGHT
TZNAME:CEST
TZOFFSETFROM:+0300
TZOFFSETTO:+0200
DTSTART:19450924T030000
RDATE:19470629T030000
END:DAYLIGHT
BEGIN:STANDARD
TZNAME:CET
TZOFFSETFROM:+0100
TZOFFSETTO:+0100
DTSTART:19460101T000000
RDATE:19800101T000000
END:STANDARD
BEGIN:STANDARD
TZNAME:CET
TZOFFSETFROM:+0200
TZOFFSETTO:+0100
DTSTART:19471005T030000
RRULE:FREQ=YEARLY;UNTIL=19491002T010000Z;BYMONTH=10;BYDAY=1SU
END:STANDARD
BEGIN:STANDARD
TZNAME:CET
TZOFFSETFROM:+0200
TZOFFSETTO:+0100
DTSTART:19800928T030000
RRULE:FREQ=YEARLY;UNTIL=19950924T010000Z;BYMONTH=9;BYDAY=-1SU
END:STANDARD
BEGIN:DAYLIGHT
TZNAME:CEST
TZOFFSETFROM:+0100
TZOFFSETTO:+0200
DTSTART:19810329T020000
RRULE:FREQ=YEARLY;BYMONTH=3;BYDAY=-1SU
END:DAYLIGHT
BEGIN:STANDARD
TZNAME:CET
TZOFFSETFROM:+0200
TZOFFSETTO:+0100
DTSTART:19961027T030000
RRULE:FREQ=YEARLY;BYMONTH=10;BYDAY=-1SU
END:STANDARD
END:VTIMEZONE
BEGIN:VEVENT
DTSTAMP:20260426T033924Z
DTSTART;TZID=Europe/Berlin:20220913T201500
DTEND;TZID=Europe/Berlin:20220913T231500
SUMMARY:O40 4. Liga Gr. 3 Seebach-Kügeliloo vs Buchs Zürich II (0)
UID:95e9d810-ef9d-41fd-9285-9993a28559d9
STATUS:CONFIRMED
LAST-MODIFIED:20220914T081515Z
DESCRIPTION:4. Liga O40 Gruppe 3\nBegegnungs-Nr: 0\nHeim: Seebach-Kügeliloo\nGast: Buchs Zürich II\n\nAdresse: Sperletweg 71\, 8052 Zürich\n
LOCATION:Sperletweg 71\, 8052 Zürich
CATEGORIES:Saison 2022/23
END:VEVENT
BEGIN:VEVENT
DTSTAMP:20260426T033924Z
DTSTART;TZID=Europe/Berlin:20221122T201500
DTEND;TZID=Europe/Berlin:20221122T231500
SUMMARY:O40 4. Liga Gr. 3 Seebach-Kügeliloo vs Niederhasli III (0)
UID:e13bc13c-5bda-4679-b7d7-6dd8c5dc4bc1
STATUS:CONFIRMED
LAST-MODIFIED:20221128T150352Z
DESCRIPTION:4. Liga O40 Gruppe 3\nBegegnungs-Nr: 0\nHeim: Seebach-Kügeliloo\nGast: Niederhasli III\n\nAdresse: Sperletweg 71\, 8052 Zürich\n
LOCATION:Sperletweg 71\, 8052 Zürich
CATEGORIES:Saison 2022/23
END:VEVENT
BEGIN:VEVENT
DTSTAMP:20260426T033924Z
DTSTART;TZID=Europe/Berlin:20230117T201500
DTEND;TZID=Europe/Berlin:20230117T231500
SUMMARY:O40 4. Liga Gr. 3 Seebach-Kügeliloo vs Bülach III (0)
UID:2993f0a7-1541-4f6a-ba1f-c66622ad5a5e
STATUS:CONFIRMED
LAST-MODIFIED:20230127T163846Z
DESCRIPTION:4. Liga O40 Gruppe 3\nBegegnungs-Nr: 0\nHeim: Seebach-Kügeliloo\nGast: Bülach III\n\nAdresse: Sperletweg 71\, 8052 Zürich\n
LOCATION:Sperletweg 71\, 8052 Zürich
CATEGORIES:Saison 2022/23
END:VEVENT
BEGIN:VEVENT
DTSTAMP:20260426T033924Z
DTSTART;TZID=Europe/Berlin:20230228T201500
DTEND;TZID=Europe/Berlin:20230228T231500
SUMMARY:O40 4. Liga Gr. 3 Seebach-Kügeliloo vs Urdorf II (0)
UID:b75d6941-e1b7-437b-ae9c-2ae21625b73e
STATUS:CONFIRMED
LAST-MODIFIED:20230307T104545Z
DESCRIPTION:4. Liga O40 Gruppe 3\nBegegnungs-Nr: 0\nHeim: Seebach-Kügeliloo\nGast: Urdorf II\n\nAdresse: Sperletweg 71\, 8052 Zürich\n
LOCATION:Sperletweg 71\, 8052 Zürich
CATEGORIES:Saison 2022/23
END:VEVENT
BEGIN:VEVENT
DTSTAMP:20260426T033924Z
DTSTART;TZID=Europe/Berlin:20230404T201500
DTEND;TZID=Europe/Berlin:20230404T231500
SUMMARY:O40 4. Liga Gr. 3 Seebach-Kügeliloo vs Höngg II (0)
UID:6dba2704-b6bc-41ac-b464-c83ed2b3d730
STATUS:CONFIRMED
LAST-MODIFIED:20230405T121537Z
DESCRIPTION:4. Liga O40 Gruppe 3\nBegegnungs-Nr: 0\nHeim: Seebach-Kügeliloo\nGast: Höngg II\n\nAdresse: Sperletweg 71\, 8052 Zürich\n
LOCATION:Sperletweg 71\, 8052 Zürich
CATEGORIES:Saison 2022/23
END:VEVENT
BEGIN:VEVENT
DTSTAMP:20260426T033924Z
DTSTART;TZID=Europe/Berlin:20220826T193000
DTEND;TZID=Europe/Berlin:20220826T223000
SUMMARY:O40 4. Liga Gr. 3 Bülach III vs Seebach-Kügeliloo (0)
UID:018bc06c-46e7-4063-b12a-8a2329452b99
STATUS:CONFIRMED
LAST-MODIFIED:20220829T054338Z
DESCRIPTION:4. Liga O40 Gruppe 3\nBegegnungs-Nr: 0\nHeim: Bülach III\nGast: Seebach-Kügeliloo\n\nAdresse: Schwerzgruebstrasse 28\, 8180 Bülach\n
LOCATION:Schwerzgruebstrasse 28\, 8180 Bülach
CATEGORIES:Saison 2022/23
END:VEVENT
BEGIN:VEVENT
DTSTAMP:20260426T033924Z
DTSTART;TZID=Europe/Berlin:20221024T201500
DTEND;TZID=Europe/Berlin:20221024T231500
SUMMARY:O40 4. Liga Gr. 3 Urdorf II vs Seebach-Kügeliloo (0)
UID:5a0c5185-b147-4d14-b33c-990568f0eed4
STATUS:CONFIRMED
LAST-MODIFIED:20221025T062659Z
DESCRIPTION:4. Liga O40 Gruppe 3\nBegegnungs-Nr: 0\nHeim: Urdorf II\nGast: Seebach-Kügeliloo\n\nAdresse: Weihermattstrasse 50\, 8902 Urdorf\n
LOCATION:Weihermattstrasse 50\, 8902 Urdorf
CATEGORIES:Saison 2022/23
END:VEVENT
BEGIN:VEVENT
DTSTAMP:20260426T033924Z
DTSTART;TZID=Europe/Berlin:20221207T200000
DTEND;TZID=Europe/Berlin:20221207T230000
SUMMARY:O40 4. Liga Gr. 3 Höngg II vs Seebach-Kügeliloo (0)
UID:09ed4358-6f5a-46f6-9f5e-56a442309f1c
STATUS:CONFIRMED
LAST-MODIFIED:20221212T145527Z
DESCRIPTION:4. Liga O40 Gruppe 3\nBegegnungs-Nr: 0\nHeim: Höngg II\nGast: Seebach-Kügeliloo\n\nAdresse: Bläsistrasse 2\, 8049 Zürich\n
LOCATION:Bläsistrasse 2\, 8049 Zürich
CATEGORIES:Saison 2022/23
END:VEVENT
BEGIN:VEVENT
DTSTAMP:20260426T033924Z
DTSTART;TZID=Europe/Berlin:20230201T201500
DTEND;TZID=Europe/Berlin:20230201T231500
SUMMARY:O40 4. Liga Gr. 3 Buchs Zürich II vs Seebach-Kügeliloo (0)
UID:ae504950-e27e-461c-9105-74840bfc9fae
STATUS:CONFIRMED
LAST-MODIFIED:20230228T144942Z
DESCRIPTION:4. Liga O40 Gruppe 3\nBegegnungs-Nr: 0\nHeim: Buchs Zürich II\nGast: Seebach-Kügeliloo\n\nAdresse: Schulstrasse 73\, 8105 Regensdorf\n
LOCATION:Schulstrasse 73\, 8105 Regensdorf
CATEGORIES:Saison 2022/23
END:VEVENT
BEGIN:VEVENT
DTSTAMP:20260426T033924Z
DTSTART;TZID=Europe/Berlin:20230320T193000
DTEND;TZID=Europe/Berlin:20230320T223000
SUMMARY:O40 4. Liga Gr. 3 Niederhasli III vs Seebach-Kügeliloo (0)
UID:c3c13c3b-0817-4d76-aeef-7df742bec86e
STATUS:CONFIRMED
LAST-MODIFIED:20230328T113721Z
DESCRIPTION:4. Liga O40 Gruppe 3\nBegegnungs-Nr: 0\nHeim: Niederhasli III\nGast: Seebach-Kügeliloo\n\nAdresse: Dorfstrasse 22\, 8155 Niederhasli\n
LOCATION:Dorfstrasse 22\, 8155 Niederhasli
CATEGORIES:Saison 2022/23
END:VEVENT
END:VCALENDAR
