BEGIN:VCALENDAR
PRODID:-//nuDatenautomaten//framework iCal4j //DE
VERSION:2.0
CALSCALE:GREGORIAN
BEGIN:VTIMEZONE
TZID:Europe/Berlin
LAST-MODIFIED:20260306T231828Z
TZURL:https://www.tzurl.org/zoneinfo/Europe/Berlin
X-LIC-LOCATION:Europe/Berlin
X-PROLEPTIC-TZNAME:LMT
BEGIN:STANDARD
TZNAME:CET
TZOFFSETFROM:+005328
TZOFFSETTO:+0100
DTSTART:18930401T000000
END:STANDARD
BEGIN:DAYLIGHT
TZNAME:CEST
TZOFFSETFROM:+0100
TZOFFSETTO:+0200
DTSTART:19160430T230000
RDATE:19400401T020000
RDATE:19430329T020000
RDATE:19460414T020000
RDATE:19470406T030000
RDATE:19480418T020000
RDATE:19490410T020000
RDATE:19800406T020000
END:DAYLIGHT
BEGIN:STANDARD
TZNAME:CET
TZOFFSETFROM:+0200
TZOFFSETTO:+0100
DTSTART:19161001T010000
RDATE:19421102T030000
RDATE:19431004T030000
RDATE:19441002T030000
RDATE:19451118T030000
RDATE:19461007T030000
END:STANDARD
BEGIN:DAYLIGHT
TZNAME:CEST
TZOFFSETFROM:+0100
TZOFFSETTO:+0200
DTSTART:19170416T020000
RRULE:FREQ=YEARLY;UNTIL=19180415T010000Z;BYMONTH=4;BYDAY=3MO
END:DAYLIGHT
BEGIN:STANDARD
TZNAME:CET
TZOFFSETFROM:+0200
TZOFFSETTO:+0100
DTSTART:19170917T030000
RRULE:FREQ=YEARLY;UNTIL=19180916T010000Z;BYMONTH=9;BYDAY=3MO
END:STANDARD
BEGIN:DAYLIGHT
TZNAME:CEST
TZOFFSETFROM:+0100
TZOFFSETTO:+0200
DTSTART:19440403T020000
RRULE:FREQ=YEARLY;UNTIL=19450402T010000Z;BYMONTH=4;BYDAY=1MO
END:DAYLIGHT
BEGIN:DAYLIGHT
TZNAME:CEMT
TZOFFSETFROM:+0200
TZOFFSETTO:+0300
DTSTART:19450524T020000
RDATE:19470511T030000
END:DAYLIGHT
BEGIN:DAYLIGHT
TZNAME:CEST
TZOFFSETFROM:+0300
TZOFFSETTO:+0200
DTSTART:19450924T030000
RDATE:19470629T030000
END:DAYLIGHT
BEGIN:STANDARD
TZNAME:CET
TZOFFSETFROM:+0100
TZOFFSETTO:+0100
DTSTART:19460101T000000
RDATE:19800101T000000
END:STANDARD
BEGIN:STANDARD
TZNAME:CET
TZOFFSETFROM:+0200
TZOFFSETTO:+0100
DTSTART:19471005T030000
RRULE:FREQ=YEARLY;UNTIL=19491002T010000Z;BYMONTH=10;BYDAY=1SU
END:STANDARD
BEGIN:STANDARD
TZNAME:CET
TZOFFSETFROM:+0200
TZOFFSETTO:+0100
DTSTART:19800928T030000
RRULE:FREQ=YEARLY;UNTIL=19950924T010000Z;BYMONTH=9;BYDAY=-1SU
END:STANDARD
BEGIN:DAYLIGHT
TZNAME:CEST
TZOFFSETFROM:+0100
TZOFFSETTO:+0200
DTSTART:19810329T020000
RRULE:FREQ=YEARLY;BYMONTH=3;BYDAY=-1SU
END:DAYLIGHT
BEGIN:STANDARD
TZNAME:CET
TZOFFSETFROM:+0200
TZOFFSETTO:+0100
DTSTART:19961027T030000
RRULE:FREQ=YEARLY;BYMONTH=10;BYDAY=-1SU
END:STANDARD
END:VTIMEZONE
BEGIN:VEVENT
DTSTAMP:20260421T202705Z
DTSTART;TZID=Europe/Berlin:20230213T194500
DTEND;TZID=Europe/Berlin:20230213T224500
SUMMARY:HE 3. Liga Gr. 2 Wohlensee vs Regio Moossee (16)
UID:88ee104d-8e79-4047-9bae-875277ca1514
STATUS:CONFIRMED
LAST-MODIFIED:20230214T195324Z
DESCRIPTION:3. Liga Herren Gruppe 2\nBegegnungs-Nr: 16\nHeim: Wohlensee\nGast: Regio Moossee\n\nAdresse: Kappelenring 36 a\, 3032 Hinterkappelen\n
LOCATION:Kappelenring 36 a\, 3032 Hinterkappelen
CATEGORIES:Saison 2022/23
END:VEVENT
BEGIN:VEVENT
DTSTAMP:20260421T202705Z
DTSTART;TZID=Europe/Berlin:20230302T194500
DTEND;TZID=Europe/Berlin:20230302T224500
SUMMARY:HE 3. Liga Gr. 2 Wohlensee vs Düdingen (17)
UID:5fcab308-2f9d-4667-9eb5-02f47a1af9c0
STATUS:CONFIRMED
LAST-MODIFIED:20230304T170339Z
DESCRIPTION:3. Liga Herren Gruppe 2\nBegegnungs-Nr: 17\nHeim: Wohlensee\nGast: Düdingen\n\nAdresse: Kappelenring 36 a\, 3032 Hinterkappelen\n
LOCATION:Kappelenring 36 a\, 3032 Hinterkappelen
CATEGORIES:Saison 2022/23
END:VEVENT
BEGIN:VEVENT
DTSTAMP:20260421T202705Z
DTSTART;TZID=Europe/Berlin:20230330T194500
DTEND;TZID=Europe/Berlin:20230330T224500
SUMMARY:HE 3. Liga Gr. 2 Wohlensee vs Port IV (26)
UID:1d2c51cf-71ab-4f77-b81e-eda35796a916
STATUS:CONFIRMED
LAST-MODIFIED:20230402T073633Z
DESCRIPTION:3. Liga Herren Gruppe 2\nBegegnungs-Nr: 26\nHeim: Wohlensee\nGast: Port IV\n\nAdresse: Kappelenring 36 a\, 3032 Hinterkappelen\n
LOCATION:Kappelenring 36 a\, 3032 Hinterkappelen
CATEGORIES:Saison 2022/23
END:VEVENT
BEGIN:VEVENT
DTSTAMP:20260421T202705Z
DTSTART;TZID=Europe/Berlin:20220825T194500
DTEND;TZID=Europe/Berlin:20220825T224500
SUMMARY:HE 3. Liga Gr. 2 Wohlensee vs Bern III (4)
UID:37a5a716-776a-4908-8abc-51c56a8a3641
STATUS:CONFIRMED
LAST-MODIFIED:20220829T120611Z
DESCRIPTION:3. Liga Herren Gruppe 2\nBegegnungs-Nr: 4\nHeim: Wohlensee\nGast: Bern III\n\nAdresse: Kappelenring 36 a\, 3032 Hinterkappelen\n
LOCATION:Kappelenring 36 a\, 3032 Hinterkappelen
CATEGORIES:Saison 2022/23
END:VEVENT
BEGIN:VEVENT
DTSTAMP:20260421T202705Z
DTSTART;TZID=Europe/Berlin:20220919T194500
DTEND;TZID=Europe/Berlin:20220919T224500
SUMMARY:HE 3. Liga Gr. 2 Wohlensee vs Ittigen (12)
UID:21ebc261-f231-40fc-b2f9-4334b142980f
STATUS:CONFIRMED
LAST-MODIFIED:20220920T115859Z
DESCRIPTION:3. Liga Herren Gruppe 2\nBegegnungs-Nr: 12\nHeim: Wohlensee\nGast: Ittigen\n\nAdresse: Kappelenring 36 a\, 3032 Hinterkappelen\n
LOCATION:Kappelenring 36 a\, 3032 Hinterkappelen
CATEGORIES:Saison 2022/23
END:VEVENT
BEGIN:VEVENT
DTSTAMP:20260421T202705Z
DTSTART;TZID=Europe/Berlin:20230209T194500
DTEND;TZID=Europe/Berlin:20230209T224500
SUMMARY:HE 3. Liga Gr. 2 Wohlensee vs Langnau (8)
UID:7138697e-11db-4842-8208-6b4946f763a6
STATUS:CONFIRMED
LAST-MODIFIED:20230209T225421Z
DESCRIPTION:3. Liga Herren Gruppe 2\nBegegnungs-Nr: 8\nHeim: Wohlensee\nGast: Langnau\n\nAdresse: Kappelenring 36 a\, 3032 Hinterkappelen\n
LOCATION:Kappelenring 36 a\, 3032 Hinterkappelen
CATEGORIES:Saison 2022/23
END:VEVENT
BEGIN:VEVENT
DTSTAMP:20260421T202705Z
DTSTART;TZID=Europe/Berlin:20221130T194500
DTEND;TZID=Europe/Berlin:20221130T224500
SUMMARY:HE 3. Liga Gr. 2 Wohlensee vs Burgdorf VI (22)
UID:95d75ca6-a777-4cdc-95fd-1041876605d2
STATUS:CONFIRMED
LAST-MODIFIED:20221203T164229Z
DESCRIPTION:3. Liga Herren Gruppe 2\nBegegnungs-Nr: 22\nHeim: Wohlensee\nGast: Burgdorf VI\n\nAdresse: Kappelenring 36 a\, 3032 Hinterkappelen\n
LOCATION:Kappelenring 36 a\, 3032 Hinterkappelen
CATEGORIES:Saison 2022/23
END:VEVENT
BEGIN:VEVENT
DTSTAMP:20260421T202705Z
DTSTART;TZID=Europe/Berlin:20230130T194500
DTEND;TZID=Europe/Berlin:20230130T224500
SUMMARY:HE 3. Liga Gr. 2 Ittigen vs Wohlensee (12)
UID:63c8e195-512d-4522-ad0e-d77f5ba42e44
STATUS:CONFIRMED
LAST-MODIFIED:20230201T175932Z
DESCRIPTION:3. Liga Herren Gruppe 2\nBegegnungs-Nr: 12\nHeim: Ittigen\nGast: Wohlensee\n\nAdresse: Fischrainweg 17\, 3048 Worblaufen\n
LOCATION:Fischrainweg 17\, 3048 Worblaufen
CATEGORIES:Saison 2022/23
END:VEVENT
BEGIN:VEVENT
DTSTAMP:20260421T202705Z
DTSTART;TZID=Europe/Berlin:20230318T160000
DTEND;TZID=Europe/Berlin:20230318T190000
SUMMARY:HE 3. Liga Gr. 2 Burgdorf VI vs Wohlensee (22)
UID:b20f5f0b-88c0-4178-970e-5862bc63eb6f
STATUS:CONFIRMED
LAST-MODIFIED:20230320T123421Z
DESCRIPTION:3. Liga Herren Gruppe 2\nBegegnungs-Nr: 22\nHeim: Burgdorf VI\nGast: Wohlensee\n\nAdresse: Pestalozzistrasse 69\, 3400 Burgdorf\n
LOCATION:Pestalozzistrasse 69\, 3400 Burgdorf
CATEGORIES:Saison 2022/23
END:VEVENT
BEGIN:VEVENT
DTSTAMP:20260421T202705Z
DTSTART;TZID=Europe/Berlin:20220910T140000
DTEND;TZID=Europe/Berlin:20220910T170000
SUMMARY:HE 3. Liga Gr. 2 Langnau vs Wohlensee (8)
UID:944d62e6-85ba-408f-8ad4-680ca42943b6
STATUS:CONFIRMED
LAST-MODIFIED:20220911T211821Z
DESCRIPTION:3. Liga Herren Gruppe 2\nBegegnungs-Nr: 8\nHeim: Langnau\nGast: Wohlensee\n\nAdresse: Bleicheweg 11\, 3550 Langnau\n
LOCATION:Bleicheweg 11\, 3550 Langnau
CATEGORIES:Saison 2022/23
END:VEVENT
BEGIN:VEVENT
DTSTAMP:20260421T202705Z
DTSTART;TZID=Europe/Berlin:20221018T194500
DTEND;TZID=Europe/Berlin:20221018T224500
SUMMARY:HE 3. Liga Gr. 2 Regio Moossee vs Wohlensee (16)
UID:5d20b5cc-d5dc-4fce-9d25-a581c2da7fa5
STATUS:CONFIRMED
LAST-MODIFIED:20221019T084948Z
DESCRIPTION:3. Liga Herren Gruppe 2\nBegegnungs-Nr: 16\nHeim: Regio Moossee\nGast: Wohlensee\n\nAdresse: Schulhausstrasse 23-25\, 3302 Moosseedorf\n
LOCATION:Schulhausstrasse 23-25\, 3302 Moosseedorf
CATEGORIES:Saison 2022/23
END:VEVENT
BEGIN:VEVENT
DTSTAMP:20260421T202705Z
DTSTART;TZID=Europe/Berlin:20221103T194500
DTEND;TZID=Europe/Berlin:20221103T224500
SUMMARY:HE 3. Liga Gr. 2 Düdingen vs Wohlensee (17)
UID:e702b1d8-844f-4e83-8516-70f712295343
STATUS:CONFIRMED
LAST-MODIFIED:20221104T213405Z
DESCRIPTION:3. Liga Herren Gruppe 2\nBegegnungs-Nr: 17\nHeim: Düdingen\nGast: Wohlensee\n\nAdresse: Alfons-Aeby-Strasse\, 3186 Düdingen\n
LOCATION:Alfons-Aeby-Strasse\, 3186 Düdingen
CATEGORIES:Saison 2022/23
END:VEVENT
BEGIN:VEVENT
DTSTAMP:20260421T202705Z
DTSTART;TZID=Europe/Berlin:20230125T193000
DTEND;TZID=Europe/Berlin:20230125T223000
SUMMARY:HE 3. Liga Gr. 2 Bern III vs Wohlensee (4)
UID:0712d771-0098-443f-b1d6-7955d721e068
STATUS:CONFIRMED
LAST-MODIFIED:20230126T204457Z
DESCRIPTION:3. Liga Herren Gruppe 2\nBegegnungs-Nr: 4\nHeim: Bern III\nGast: Wohlensee\n\nAdresse: Papiermühlestrasse 81\, 3014 Bern\n
LOCATION:Papiermühlestrasse 81\, 3014 Bern
CATEGORIES:Saison 2022/23
END:VEVENT
BEGIN:VEVENT
DTSTAMP:20260421T202705Z
DTSTART;TZID=Europe/Berlin:20221129T194500
DTEND;TZID=Europe/Berlin:20221129T224500
SUMMARY:HE 3. Liga Gr. 2 Port IV vs Wohlensee (26)
UID:7f469170-6239-479b-9b3a-c7a5d034bcf5
STATUS:CONFIRMED
LAST-MODIFIED:20221130T114522Z
DESCRIPTION:3. Liga Herren Gruppe 2\nBegegnungs-Nr: 26\nHeim: Port IV\nGast: Wohlensee\n\nAdresse: Allmendstrasse 23\, 2562 Port\n
LOCATION:Allmendstrasse 23\, 2562 Port
CATEGORIES:Saison 2022/23
END:VEVENT
END:VCALENDAR
