BEGIN:VCALENDAR
PRODID:-//nuDatenautomaten//framework iCal4j //DE
VERSION:2.0
CALSCALE:GREGORIAN
BEGIN:VTIMEZONE
TZID:Europe/Berlin
LAST-MODIFIED:20260306T231828Z
TZURL:https://www.tzurl.org/zoneinfo/Europe/Berlin
X-LIC-LOCATION:Europe/Berlin
X-PROLEPTIC-TZNAME:LMT
BEGIN:STANDARD
TZNAME:CET
TZOFFSETFROM:+005328
TZOFFSETTO:+0100
DTSTART:18930401T000000
END:STANDARD
BEGIN:DAYLIGHT
TZNAME:CEST
TZOFFSETFROM:+0100
TZOFFSETTO:+0200
DTSTART:19160430T230000
RDATE:19400401T020000
RDATE:19430329T020000
RDATE:19460414T020000
RDATE:19470406T030000
RDATE:19480418T020000
RDATE:19490410T020000
RDATE:19800406T020000
END:DAYLIGHT
BEGIN:STANDARD
TZNAME:CET
TZOFFSETFROM:+0200
TZOFFSETTO:+0100
DTSTART:19161001T010000
RDATE:19421102T030000
RDATE:19431004T030000
RDATE:19441002T030000
RDATE:19451118T030000
RDATE:19461007T030000
END:STANDARD
BEGIN:DAYLIGHT
TZNAME:CEST
TZOFFSETFROM:+0100
TZOFFSETTO:+0200
DTSTART:19170416T020000
RRULE:FREQ=YEARLY;UNTIL=19180415T010000Z;BYMONTH=4;BYDAY=3MO
END:DAYLIGHT
BEGIN:STANDARD
TZNAME:CET
TZOFFSETFROM:+0200
TZOFFSETTO:+0100
DTSTART:19170917T030000
RRULE:FREQ=YEARLY;UNTIL=19180916T010000Z;BYMONTH=9;BYDAY=3MO
END:STANDARD
BEGIN:DAYLIGHT
TZNAME:CEST
TZOFFSETFROM:+0100
TZOFFSETTO:+0200
DTSTART:19440403T020000
RRULE:FREQ=YEARLY;UNTIL=19450402T010000Z;BYMONTH=4;BYDAY=1MO
END:DAYLIGHT
BEGIN:DAYLIGHT
TZNAME:CEMT
TZOFFSETFROM:+0200
TZOFFSETTO:+0300
DTSTART:19450524T020000
RDATE:19470511T030000
END:DAYLIGHT
BEGIN:DAYLIGHT
TZNAME:CEST
TZOFFSETFROM:+0300
TZOFFSETTO:+0200
DTSTART:19450924T030000
RDATE:19470629T030000
END:DAYLIGHT
BEGIN:STANDARD
TZNAME:CET
TZOFFSETFROM:+0100
TZOFFSETTO:+0100
DTSTART:19460101T000000
RDATE:19800101T000000
END:STANDARD
BEGIN:STANDARD
TZNAME:CET
TZOFFSETFROM:+0200
TZOFFSETTO:+0100
DTSTART:19471005T030000
RRULE:FREQ=YEARLY;UNTIL=19491002T010000Z;BYMONTH=10;BYDAY=1SU
END:STANDARD
BEGIN:STANDARD
TZNAME:CET
TZOFFSETFROM:+0200
TZOFFSETTO:+0100
DTSTART:19800928T030000
RRULE:FREQ=YEARLY;UNTIL=19950924T010000Z;BYMONTH=9;BYDAY=-1SU
END:STANDARD
BEGIN:DAYLIGHT
TZNAME:CEST
TZOFFSETFROM:+0100
TZOFFSETTO:+0200
DTSTART:19810329T020000
RRULE:FREQ=YEARLY;BYMONTH=3;BYDAY=-1SU
END:DAYLIGHT
BEGIN:STANDARD
TZNAME:CET
TZOFFSETFROM:+0200
TZOFFSETTO:+0100
DTSTART:19961027T030000
RRULE:FREQ=YEARLY;BYMONTH=10;BYDAY=-1SU
END:STANDARD
END:VTIMEZONE
BEGIN:VEVENT
DTSTAMP:20260426T033322Z
DTSTART;TZID=Europe/Berlin:20230128T160000
DTEND;TZID=Europe/Berlin:20230128T190000
SUMMARY:O50 1.Liga Gr.1 Affoltern A/A vs Pinguin Zürich (20)
UID:951fa688-89a4-4df6-b051-a2d3cf357023
STATUS:CONFIRMED
LAST-MODIFIED:20230131T125208Z
DESCRIPTION:1. Liga O50 Gruppe 1\nBegegnungs-Nr: 20\nHeim: Affoltern A/A\nGast: Pinguin Zürich\nHalle: Poule in Affoltern a.A. Unteres Butzen\nAdresse: Butzenstrasse 8\, 8910 Affoltern am Albis\n
LOCATION:Poule in Affoltern a.A. Unteres Butzen Butzenstrasse 8\, 8910 Affoltern am Albis
CATEGORIES:Saison 2022/23
END:VEVENT
BEGIN:VEVENT
DTSTAMP:20260426T033322Z
DTSTART;TZID=Europe/Berlin:20230128T140000
DTEND;TZID=Europe/Berlin:20230128T170000
SUMMARY:O50 1.Liga Gr.1 Affoltern A/A vs Zürich-Affoltern (18)
UID:f6daacf3-2e6b-4938-b2fe-5f2e78498bee
STATUS:CONFIRMED
LAST-MODIFIED:20230131T125146Z
DESCRIPTION:1. Liga O50 Gruppe 1\nBegegnungs-Nr: 18\nHeim: Affoltern A/A\nGast: Zürich-Affoltern\nHalle: Poule in Affoltern a.A. Unteres Butzen\nAdresse: Butzenstrasse 8\, 8910 Affoltern am Albis\n
LOCATION:Poule in Affoltern a.A. Unteres Butzen Butzenstrasse 8\, 8910 Affoltern am Albis
CATEGORIES:Saison 2022/23
END:VEVENT
BEGIN:VEVENT
DTSTAMP:20260426T033322Z
DTSTART;TZID=Europe/Berlin:20221112T160000
DTEND;TZID=Europe/Berlin:20221112T190000
SUMMARY:O50 1.Liga Gr.1 Affoltern A/A vs Gossau St.Gallen (17)
UID:3f9f434f-be1d-4702-b90a-ff9460b488fa
STATUS:CONFIRMED
LAST-MODIFIED:20221118T153203Z
DESCRIPTION:1. Liga O50 Gruppe 1\nBegegnungs-Nr: 17\nHeim: Affoltern A/A\nGast: Gossau St.Gallen\nHalle: Poule in Winterthur\, TH Schachen\nAdresse: Butzenstrasse 8\, 8910 Affoltern am Albis\n
LOCATION:Poule in Winterthur\, TH Schachen Butzenstrasse 8\, 8910 Affoltern am Albis
CATEGORIES:Saison 2022/23
END:VEVENT
BEGIN:VEVENT
DTSTAMP:20260426T033322Z
DTSTART;TZID=Europe/Berlin:20221028T201500
DTEND;TZID=Europe/Berlin:20221028T231500
SUMMARY:O50 1.Liga Gr.1 BW-Wollishofen vs Affoltern A/A (8)
UID:c496bd45-b93b-43cf-863c-b64672b5010a
STATUS:CONFIRMED
LAST-MODIFIED:20221101T092300Z
DESCRIPTION:1. Liga O50 Gruppe 1\nBegegnungs-Nr: 8\nHeim: BW-Wollishofen\nGast: Affoltern A/A\n\nAdresse: Kilchbergstr. 28\, 8038 Zürich\n
LOCATION:Kilchbergstr. 28\, 8038 Zürich
CATEGORIES:Saison 2022/23
END:VEVENT
BEGIN:VEVENT
DTSTAMP:20260426T033322Z
DTSTART;TZID=Europe/Berlin:20221112T140000
DTEND;TZID=Europe/Berlin:20221112T170000
SUMMARY:O50 1.Liga Gr.1 Winterthur vs Affoltern A/A (14)
UID:b5e97f60-bc22-4af1-8807-3b9263f4137f
STATUS:CONFIRMED
LAST-MODIFIED:20221118T153135Z
DESCRIPTION:1. Liga O50 Gruppe 1\nBegegnungs-Nr: 14\nHeim: Winterthur\nGast: Affoltern A/A\nHalle: Poule in Winterthur\, TH Schachen\nAdresse: Buchackerstrasse 54\, 8400 Winterthur\n
LOCATION:Poule in Winterthur\, TH Schachen Buchackerstrasse 54\, 8400 Winterthur
CATEGORIES:Saison 2022/23
END:VEVENT
BEGIN:VEVENT
DTSTAMP:20260426T033322Z
DTSTART;TZID=Europe/Berlin:20221117T201500
DTEND;TZID=Europe/Berlin:20221117T231500
SUMMARY:O50 1.Liga Gr.1 Wädenswil vs Affoltern A/A (7)
UID:fcc662e1-6343-453b-9995-ebd99ef25728
STATUS:CONFIRMED
LAST-MODIFIED:20221118T153211Z
DESCRIPTION:1. Liga O50 Gruppe 1\nBegegnungs-Nr: 7\nHeim: Wädenswil\nGast: Affoltern A/A\n\nAdresse: Speerstrasse 95\, 8820 Wädenswil\n
LOCATION:Speerstrasse 95\, 8820 Wädenswil
CATEGORIES:Saison 2022/23
END:VEVENT
END:VCALENDAR
