BEGIN:VCALENDAR
PRODID:-//nuDatenautomaten//framework iCal4j //DE
VERSION:2.0
CALSCALE:GREGORIAN
BEGIN:VTIMEZONE
TZID:Europe/Berlin
LAST-MODIFIED:20260306T231828Z
TZURL:https://www.tzurl.org/zoneinfo/Europe/Berlin
X-LIC-LOCATION:Europe/Berlin
X-PROLEPTIC-TZNAME:LMT
BEGIN:STANDARD
TZNAME:CET
TZOFFSETFROM:+005328
TZOFFSETTO:+0100
DTSTART:18930401T000000
END:STANDARD
BEGIN:DAYLIGHT
TZNAME:CEST
TZOFFSETFROM:+0100
TZOFFSETTO:+0200
DTSTART:19160430T230000
RDATE:19400401T020000
RDATE:19430329T020000
RDATE:19460414T020000
RDATE:19470406T030000
RDATE:19480418T020000
RDATE:19490410T020000
RDATE:19800406T020000
END:DAYLIGHT
BEGIN:STANDARD
TZNAME:CET
TZOFFSETFROM:+0200
TZOFFSETTO:+0100
DTSTART:19161001T010000
RDATE:19421102T030000
RDATE:19431004T030000
RDATE:19441002T030000
RDATE:19451118T030000
RDATE:19461007T030000
END:STANDARD
BEGIN:DAYLIGHT
TZNAME:CEST
TZOFFSETFROM:+0100
TZOFFSETTO:+0200
DTSTART:19170416T020000
RRULE:FREQ=YEARLY;UNTIL=19180415T010000Z;BYMONTH=4;BYDAY=3MO
END:DAYLIGHT
BEGIN:STANDARD
TZNAME:CET
TZOFFSETFROM:+0200
TZOFFSETTO:+0100
DTSTART:19170917T030000
RRULE:FREQ=YEARLY;UNTIL=19180916T010000Z;BYMONTH=9;BYDAY=3MO
END:STANDARD
BEGIN:DAYLIGHT
TZNAME:CEST
TZOFFSETFROM:+0100
TZOFFSETTO:+0200
DTSTART:19440403T020000
RRULE:FREQ=YEARLY;UNTIL=19450402T010000Z;BYMONTH=4;BYDAY=1MO
END:DAYLIGHT
BEGIN:DAYLIGHT
TZNAME:CEMT
TZOFFSETFROM:+0200
TZOFFSETTO:+0300
DTSTART:19450524T020000
RDATE:19470511T030000
END:DAYLIGHT
BEGIN:DAYLIGHT
TZNAME:CEST
TZOFFSETFROM:+0300
TZOFFSETTO:+0200
DTSTART:19450924T030000
RDATE:19470629T030000
END:DAYLIGHT
BEGIN:STANDARD
TZNAME:CET
TZOFFSETFROM:+0100
TZOFFSETTO:+0100
DTSTART:19460101T000000
RDATE:19800101T000000
END:STANDARD
BEGIN:STANDARD
TZNAME:CET
TZOFFSETFROM:+0200
TZOFFSETTO:+0100
DTSTART:19471005T030000
RRULE:FREQ=YEARLY;UNTIL=19491002T010000Z;BYMONTH=10;BYDAY=1SU
END:STANDARD
BEGIN:STANDARD
TZNAME:CET
TZOFFSETFROM:+0200
TZOFFSETTO:+0100
DTSTART:19800928T030000
RRULE:FREQ=YEARLY;UNTIL=19950924T010000Z;BYMONTH=9;BYDAY=-1SU
END:STANDARD
BEGIN:DAYLIGHT
TZNAME:CEST
TZOFFSETFROM:+0100
TZOFFSETTO:+0200
DTSTART:19810329T020000
RRULE:FREQ=YEARLY;BYMONTH=3;BYDAY=-1SU
END:DAYLIGHT
BEGIN:STANDARD
TZNAME:CET
TZOFFSETFROM:+0200
TZOFFSETTO:+0100
DTSTART:19961027T030000
RRULE:FREQ=YEARLY;BYMONTH=10;BYDAY=-1SU
END:STANDARD
END:VTIMEZONE
BEGIN:VEVENT
DTSTAMP:20260426T034010Z
DTSTART;TZID=Europe/Berlin:20220901T200000
DTEND;TZID=Europe/Berlin:20220901T230000
SUMMARY:HE 4. Liga Gr. 8 Balzers vs Flums III (0)
UID:6eb74bc2-d993-4a39-a3c0-966d69f26578
STATUS:CONFIRMED
LAST-MODIFIED:20220905T093014Z
DESCRIPTION:4. Liga Herren Gruppe 8\nBegegnungs-Nr: 0\nHeim: Balzers\nGast: Flums III\n\nAdresse: Gnetsch 41\, 9496 Balzers\n
LOCATION:Gnetsch 41\, 9496 Balzers
CATEGORIES:Saison 2022/23
END:VEVENT
BEGIN:VEVENT
DTSTAMP:20260426T034010Z
DTSTART;TZID=Europe/Berlin:20221128T193000
DTEND;TZID=Europe/Berlin:20221128T223000
SUMMARY:HE 4. Liga Gr. 8 Balzers vs Ruggell (0)
UID:856a7c93-e6b5-4b47-b564-dbf9d6c4feb3
STATUS:CONFIRMED
LAST-MODIFIED:20221130T142500Z
DESCRIPTION:4. Liga Herren Gruppe 8\nBegegnungs-Nr: 0\nHeim: Balzers\nGast: Ruggell\n\nAdresse: Gnetsch 41\, 9496 Balzers\n
LOCATION:Gnetsch 41\, 9496 Balzers
CATEGORIES:Saison 2022/23
END:VEVENT
BEGIN:VEVENT
DTSTAMP:20260426T034010Z
DTSTART;TZID=Europe/Berlin:20221103T200000
DTEND;TZID=Europe/Berlin:20221103T230000
SUMMARY:HE 4. Liga Gr. 8 Balzers vs Glarus II (0)
UID:fa20a408-3a9a-48a8-be51-ca065b0ce94d
STATUS:CONFIRMED
LAST-MODIFIED:20221108T160735Z
DESCRIPTION:4. Liga Herren Gruppe 8\nBegegnungs-Nr: 0\nHeim: Balzers\nGast: Glarus II\n\nAdresse: Gnetsch 41\, 9496 Balzers\n
LOCATION:Gnetsch 41\, 9496 Balzers
CATEGORIES:Saison 2022/23
END:VEVENT
BEGIN:VEVENT
DTSTAMP:20260426T034010Z
DTSTART;TZID=Europe/Berlin:20221201T200000
DTEND;TZID=Europe/Berlin:20221201T230000
SUMMARY:HE 4. Liga Gr. 8 Balzers vs Chur IV (0)
UID:dd74d064-6528-466b-8589-35b830f9d0d0
STATUS:CONFIRMED
LAST-MODIFIED:20221208T114244Z
DESCRIPTION:4. Liga Herren Gruppe 8\nBegegnungs-Nr: 0\nHeim: Balzers\nGast: Chur IV\n\nAdresse: Gnetsch 41\, 9496 Balzers\n
LOCATION:Gnetsch 41\, 9496 Balzers
CATEGORIES:Saison 2022/23
END:VEVENT
BEGIN:VEVENT
DTSTAMP:20260426T034010Z
DTSTART;TZID=Europe/Berlin:20230126T200000
DTEND;TZID=Europe/Berlin:20230126T230000
SUMMARY:HE 4. Liga Gr. 8 Balzers vs Rüti (0)
UID:d169d180-12e9-4baf-ad25-66af1ffd1b68
STATUS:CONFIRMED
LAST-MODIFIED:20230127T162302Z
DESCRIPTION:4. Liga Herren Gruppe 8\nBegegnungs-Nr: 0\nHeim: Balzers\nGast: Rüti\n\nAdresse: Gnetsch 41\, 9496 Balzers\n
LOCATION:Gnetsch 41\, 9496 Balzers
CATEGORIES:Saison 2022/23
END:VEVENT
BEGIN:VEVENT
DTSTAMP:20260426T034010Z
DTSTART;TZID=Europe/Berlin:20230209T200000
DTEND;TZID=Europe/Berlin:20230209T230000
SUMMARY:HE 4. Liga Gr. 8 Balzers vs Oberriet II (0)
UID:374b9f05-c9a7-490e-a426-b54e0ac08d05
STATUS:CONFIRMED
LAST-MODIFIED:20230215T125159Z
DESCRIPTION:4. Liga Herren Gruppe 8\nBegegnungs-Nr: 0\nHeim: Balzers\nGast: Oberriet II\n\nAdresse: Gnetsch 41\, 9496 Balzers\n
LOCATION:Gnetsch 41\, 9496 Balzers
CATEGORIES:Saison 2022/23
END:VEVENT
BEGIN:VEVENT
DTSTAMP:20260426T034010Z
DTSTART;TZID=Europe/Berlin:20230316T200000
DTEND;TZID=Europe/Berlin:20230316T230000
SUMMARY:HE 4. Liga Gr. 8 Balzers vs Rapperswil-Jona VI (0)
UID:9c8541a1-7c76-4fd0-9804-af1ec1c77fa6
STATUS:CONFIRMED
LAST-MODIFIED:20230322T140513Z
DESCRIPTION:4. Liga Herren Gruppe 8\nBegegnungs-Nr: 0\nHeim: Balzers\nGast: Rapperswil-Jona VI\n\nAdresse: Gnetsch 41\, 9496 Balzers\n
LOCATION:Gnetsch 41\, 9496 Balzers
CATEGORIES:Saison 2022/23
END:VEVENT
BEGIN:VEVENT
DTSTAMP:20260426T034010Z
DTSTART;TZID=Europe/Berlin:20220906T200000
DTEND;TZID=Europe/Berlin:20220906T230000
SUMMARY:HE 4. Liga Gr. 8 Rüti vs Balzers (0)
UID:ee704ba7-5e97-4caa-88ca-7e0de7a3fade
STATUS:CONFIRMED
LAST-MODIFIED:20220909T124956Z
DESCRIPTION:4. Liga Herren Gruppe 8\nBegegnungs-Nr: 0\nHeim: Rüti\nGast: Balzers\n\nAdresse: Spitalstrasse 20\, 8630 Rüti\n
LOCATION:Spitalstrasse 20\, 8630 Rüti
CATEGORIES:Saison 2022/23
END:VEVENT
BEGIN:VEVENT
DTSTAMP:20260426T034010Z
DTSTART;TZID=Europe/Berlin:20221111T193000
DTEND;TZID=Europe/Berlin:20221111T223000
SUMMARY:HE 4. Liga Gr. 8 Rapperswil-Jona VI vs Balzers (0)
UID:2c29d356-26ef-47f4-aa44-ca0a71d5deed
STATUS:CONFIRMED
LAST-MODIFIED:20221118T151626Z
DESCRIPTION:4. Liga Herren Gruppe 8\nBegegnungs-Nr: 0\nHeim: Rapperswil-Jona VI\nGast: Balzers\n\nAdresse: Kreuzstrasse 43\, 8640 Rapperswil\n
LOCATION:Kreuzstrasse 43\, 8640 Rapperswil
CATEGORIES:Saison 2022/23
END:VEVENT
BEGIN:VEVENT
DTSTAMP:20260426T034010Z
DTSTART;TZID=Europe/Berlin:20230113T201500
DTEND;TZID=Europe/Berlin:20230113T231500
SUMMARY:HE 4. Liga Gr. 8 Flums III vs Balzers (0)
UID:3756a599-db12-4aa1-82e6-3a0433289e1b
STATUS:CONFIRMED
LAST-MODIFIED:20230117T082401Z
DESCRIPTION:4. Liga Herren Gruppe 8\nBegegnungs-Nr: 0\nHeim: Flums III\nGast: Balzers\n\nAdresse: Bahnhofstrasse 23\, 8890 Flums\n
LOCATION:Bahnhofstrasse 23\, 8890 Flums
CATEGORIES:Saison 2022/23
END:VEVENT
BEGIN:VEVENT
DTSTAMP:20260426T034010Z
DTSTART;TZID=Europe/Berlin:20230218T140000
DTEND;TZID=Europe/Berlin:20230218T170000
SUMMARY:HE 4. Liga Gr. 8 Ruggell vs Balzers (0)
UID:80254652-67e2-47ef-8ffd-1cb1a8d7db24
STATUS:CONFIRMED
LAST-MODIFIED:20230223T094054Z
DESCRIPTION:4. Liga Herren Gruppe 8\nBegegnungs-Nr: 0\nHeim: Ruggell\nGast: Balzers\n\nAdresse: Nellengasse 40\, 9491 Ruggell\n
LOCATION:Nellengasse 40\, 9491 Ruggell
CATEGORIES:Saison 2022/23
END:VEVENT
BEGIN:VEVENT
DTSTAMP:20260426T034010Z
DTSTART;TZID=Europe/Berlin:20220930T201500
DTEND;TZID=Europe/Berlin:20220930T231500
SUMMARY:HE 4. Liga Gr. 8 Oberriet II vs Balzers (0)
UID:f9af6a45-d52b-4b6b-8331-a14d1a08e57e
STATUS:CONFIRMED
LAST-MODIFIED:20221005T111557Z
DESCRIPTION:4. Liga Herren Gruppe 8\nBegegnungs-Nr: 0\nHeim: Oberriet II\nGast: Balzers\n\nAdresse: Neugutstrasse 2\, 9463 Oberriet SG\n
LOCATION:Neugutstrasse 2\, 9463 Oberriet SG
CATEGORIES:Saison 2022/23
END:VEVENT
BEGIN:VEVENT
DTSTAMP:20260426T034010Z
DTSTART;TZID=Europe/Berlin:20230310T200000
DTEND;TZID=Europe/Berlin:20230310T230000
SUMMARY:HE 4. Liga Gr. 8 Glarus II vs Balzers (0)
UID:92c6c507-b3de-4278-8e75-00318785e128
STATUS:CONFIRMED
LAST-MODIFIED:20230316T093820Z
DESCRIPTION:4. Liga Herren Gruppe 8\nBegegnungs-Nr: 0\nHeim: Glarus II\nGast: Balzers\n\nAdresse: Schwertgasse 23\, 8750 Glarus\n
LOCATION:Schwertgasse 23\, 8750 Glarus
CATEGORIES:Saison 2022/23
END:VEVENT
BEGIN:VEVENT
DTSTAMP:20260426T034010Z
DTSTART;TZID=Europe/Berlin:20230330T200000
DTEND;TZID=Europe/Berlin:20230330T230000
SUMMARY:HE 4. Liga Gr. 8 Chur IV vs Balzers (0)
UID:d41dafa1-885a-40cf-b422-ec3dcef50fcb
STATUS:CONFIRMED
LAST-MODIFIED:20230403T093730Z
DESCRIPTION:4. Liga Herren Gruppe 8\nBegegnungs-Nr: 0\nHeim: Chur IV\nGast: Balzers\n\nAdresse: Sandstr. 35\, 7000 Chur\n
LOCATION:Sandstr. 35\, 7000 Chur
CATEGORIES:Saison 2022/23
END:VEVENT
END:VCALENDAR
