BEGIN:VCALENDAR
PRODID:-//nuDatenautomaten//framework iCal4j //DE
VERSION:2.0
CALSCALE:GREGORIAN
BEGIN:VTIMEZONE
TZID:Europe/Berlin
LAST-MODIFIED:20260306T231828Z
TZURL:https://www.tzurl.org/zoneinfo/Europe/Berlin
X-LIC-LOCATION:Europe/Berlin
X-PROLEPTIC-TZNAME:LMT
BEGIN:STANDARD
TZNAME:CET
TZOFFSETFROM:+005328
TZOFFSETTO:+0100
DTSTART:18930401T000000
END:STANDARD
BEGIN:DAYLIGHT
TZNAME:CEST
TZOFFSETFROM:+0100
TZOFFSETTO:+0200
DTSTART:19160430T230000
RDATE:19400401T020000
RDATE:19430329T020000
RDATE:19460414T020000
RDATE:19470406T030000
RDATE:19480418T020000
RDATE:19490410T020000
RDATE:19800406T020000
END:DAYLIGHT
BEGIN:STANDARD
TZNAME:CET
TZOFFSETFROM:+0200
TZOFFSETTO:+0100
DTSTART:19161001T010000
RDATE:19421102T030000
RDATE:19431004T030000
RDATE:19441002T030000
RDATE:19451118T030000
RDATE:19461007T030000
END:STANDARD
BEGIN:DAYLIGHT
TZNAME:CEST
TZOFFSETFROM:+0100
TZOFFSETTO:+0200
DTSTART:19170416T020000
RRULE:FREQ=YEARLY;UNTIL=19180415T010000Z;BYMONTH=4;BYDAY=3MO
END:DAYLIGHT
BEGIN:STANDARD
TZNAME:CET
TZOFFSETFROM:+0200
TZOFFSETTO:+0100
DTSTART:19170917T030000
RRULE:FREQ=YEARLY;UNTIL=19180916T010000Z;BYMONTH=9;BYDAY=3MO
END:STANDARD
BEGIN:DAYLIGHT
TZNAME:CEST
TZOFFSETFROM:+0100
TZOFFSETTO:+0200
DTSTART:19440403T020000
RRULE:FREQ=YEARLY;UNTIL=19450402T010000Z;BYMONTH=4;BYDAY=1MO
END:DAYLIGHT
BEGIN:DAYLIGHT
TZNAME:CEMT
TZOFFSETFROM:+0200
TZOFFSETTO:+0300
DTSTART:19450524T020000
RDATE:19470511T030000
END:DAYLIGHT
BEGIN:DAYLIGHT
TZNAME:CEST
TZOFFSETFROM:+0300
TZOFFSETTO:+0200
DTSTART:19450924T030000
RDATE:19470629T030000
END:DAYLIGHT
BEGIN:STANDARD
TZNAME:CET
TZOFFSETFROM:+0100
TZOFFSETTO:+0100
DTSTART:19460101T000000
RDATE:19800101T000000
END:STANDARD
BEGIN:STANDARD
TZNAME:CET
TZOFFSETFROM:+0200
TZOFFSETTO:+0100
DTSTART:19471005T030000
RRULE:FREQ=YEARLY;UNTIL=19491002T010000Z;BYMONTH=10;BYDAY=1SU
END:STANDARD
BEGIN:STANDARD
TZNAME:CET
TZOFFSETFROM:+0200
TZOFFSETTO:+0100
DTSTART:19800928T030000
RRULE:FREQ=YEARLY;UNTIL=19950924T010000Z;BYMONTH=9;BYDAY=-1SU
END:STANDARD
BEGIN:DAYLIGHT
TZNAME:CEST
TZOFFSETFROM:+0100
TZOFFSETTO:+0200
DTSTART:19810329T020000
RRULE:FREQ=YEARLY;BYMONTH=3;BYDAY=-1SU
END:DAYLIGHT
BEGIN:STANDARD
TZNAME:CET
TZOFFSETFROM:+0200
TZOFFSETTO:+0100
DTSTART:19961027T030000
RRULE:FREQ=YEARLY;BYMONTH=10;BYDAY=-1SU
END:STANDARD
END:VTIMEZONE
BEGIN:VEVENT
DTSTAMP:20260421T202854Z
DTSTART;TZID=Europe/Berlin:20230401T140000
DTEND;TZID=Europe/Berlin:20230401T170000
SUMMARY:HE 3. Liga Gr. 2 Langnau vs Ittigen (27)
UID:8510bd43-e9e4-4308-bee2-eea909335bb3
STATUS:CONFIRMED
LAST-MODIFIED:20230402T073531Z
DESCRIPTION:3. Liga Herren Gruppe 2\nBegegnungs-Nr: 27\nHeim: Langnau\nGast: Ittigen\n\nAdresse: Bleicheweg 11\, 3550 Langnau\n
LOCATION:Bleicheweg 11\, 3550 Langnau
CATEGORIES:Saison 2022/23
END:VEVENT
BEGIN:VEVENT
DTSTAMP:20260421T202854Z
DTSTART;TZID=Europe/Berlin:20230322T200000
DTEND;TZID=Europe/Berlin:20230322T230000
SUMMARY:HE 3. Liga Gr. 2 Langnau vs Bern III (24)
UID:33262672-7a8a-4e22-bda3-a988e6aded72
STATUS:CONFIRMED
LAST-MODIFIED:20230323T101011Z
DESCRIPTION:3. Liga Herren Gruppe 2\nBegegnungs-Nr: 24\nHeim: Langnau\nGast: Bern III\n\nAdresse: Bleicheweg 11\, 3550 Langnau\n
LOCATION:Bleicheweg 11\, 3550 Langnau
CATEGORIES:Saison 2022/23
END:VEVENT
BEGIN:VEVENT
DTSTAMP:20260421T202854Z
DTSTART;TZID=Europe/Berlin:20221105T140000
DTEND;TZID=Europe/Berlin:20221105T170000
SUMMARY:HE 3. Liga Gr. 2 Langnau vs Regio Moossee (20)
UID:7b2f56ca-9b48-4ccb-ada1-d28fa2c0afbf
STATUS:CONFIRMED
LAST-MODIFIED:20221105T223250Z
DESCRIPTION:3. Liga Herren Gruppe 2\nBegegnungs-Nr: 20\nHeim: Langnau\nGast: Regio Moossee\n\nAdresse: Bleicheweg 11\, 3550 Langnau\n
LOCATION:Bleicheweg 11\, 3550 Langnau
CATEGORIES:Saison 2022/23
END:VEVENT
BEGIN:VEVENT
DTSTAMP:20260421T202854Z
DTSTART;TZID=Europe/Berlin:20220910T140000
DTEND;TZID=Europe/Berlin:20220910T170000
SUMMARY:HE 3. Liga Gr. 2 Langnau vs Wohlensee (8)
UID:944d62e6-85ba-408f-8ad4-680ca42943b6
STATUS:CONFIRMED
LAST-MODIFIED:20220911T211821Z
DESCRIPTION:3. Liga Herren Gruppe 2\nBegegnungs-Nr: 8\nHeim: Langnau\nGast: Wohlensee\n\nAdresse: Bleicheweg 11\, 3550 Langnau\n
LOCATION:Bleicheweg 11\, 3550 Langnau
CATEGORIES:Saison 2022/23
END:VEVENT
BEGIN:VEVENT
DTSTAMP:20260421T202854Z
DTSTART;TZID=Europe/Berlin:20221022T140000
DTEND;TZID=Europe/Berlin:20221022T170000
SUMMARY:HE 3. Liga Gr. 2 Langnau vs Burgdorf VI (14)
UID:16b502ff-457f-47b7-beb5-bb24c98df085
STATUS:CONFIRMED
LAST-MODIFIED:20221022T224841Z
DESCRIPTION:3. Liga Herren Gruppe 2\nBegegnungs-Nr: 14\nHeim: Langnau\nGast: Burgdorf VI\n\nAdresse: Bleicheweg 11\, 3550 Langnau\n
LOCATION:Bleicheweg 11\, 3550 Langnau
CATEGORIES:Saison 2022/23
END:VEVENT
BEGIN:VEVENT
DTSTAMP:20260421T202854Z
DTSTART;TZID=Europe/Berlin:20230218T140000
DTEND;TZID=Europe/Berlin:20230218T170000
SUMMARY:HE 3. Liga Gr. 2 Langnau vs Port IV (3)
UID:0d9644b6-1815-4e21-b322-e7ab66e3ced1
STATUS:CONFIRMED
LAST-MODIFIED:20230220T165213Z
DESCRIPTION:3. Liga Herren Gruppe 2\nBegegnungs-Nr: 3\nHeim: Langnau\nGast: Port IV\n\nAdresse: Bleicheweg 11\, 3550 Langnau\n
LOCATION:Bleicheweg 11\, 3550 Langnau
CATEGORIES:Saison 2022/23
END:VEVENT
BEGIN:VEVENT
DTSTAMP:20260421T202854Z
DTSTART;TZID=Europe/Berlin:20230211T140000
DTEND;TZID=Europe/Berlin:20230211T170000
SUMMARY:HE 3. Liga Gr. 2 Langnau vs Düdingen (9)
UID:b3d3cec5-4133-4c22-ab31-250ef6c99d12
STATUS:CONFIRMED
LAST-MODIFIED:20230212T172515Z
DESCRIPTION:3. Liga Herren Gruppe 2\nBegegnungs-Nr: 9\nHeim: Langnau\nGast: Düdingen\n\nAdresse: Bleicheweg 11\, 3550 Langnau\n
LOCATION:Bleicheweg 11\, 3550 Langnau
CATEGORIES:Saison 2022/23
END:VEVENT
BEGIN:VEVENT
DTSTAMP:20260421T202854Z
DTSTART;TZID=Europe/Berlin:20230311T140000
DTEND;TZID=Europe/Berlin:20230311T170000
SUMMARY:HE 3. Liga Gr. 2 Burgdorf VI vs Langnau (14)
UID:fa75488a-b724-4913-b3be-bf8e6cf46b66
STATUS:CONFIRMED
LAST-MODIFIED:20230311T210853Z
DESCRIPTION:3. Liga Herren Gruppe 2\nBegegnungs-Nr: 14\nHeim: Burgdorf VI\nGast: Langnau\n\nAdresse: Pestalozzistrasse 69\, 3400 Burgdorf\n
LOCATION:Pestalozzistrasse 69\, 3400 Burgdorf
CATEGORIES:Saison 2022/23
END:VEVENT
BEGIN:VEVENT
DTSTAMP:20260421T202854Z
DTSTART;TZID=Europe/Berlin:20230307T194500
DTEND;TZID=Europe/Berlin:20230307T224500
SUMMARY:HE 3. Liga Gr. 2 Regio Moossee vs Langnau (20)
UID:f701bed9-44e8-4593-bce0-db2a33bdcdfc
STATUS:CONFIRMED
LAST-MODIFIED:20230308T144836Z
DESCRIPTION:3. Liga Herren Gruppe 2\nBegegnungs-Nr: 20\nHeim: Regio Moossee\nGast: Langnau\n\nAdresse: Schulhausstrasse 23-25\, 3302 Moosseedorf\n
LOCATION:Schulhausstrasse 23-25\, 3302 Moosseedorf
CATEGORIES:Saison 2022/23
END:VEVENT
BEGIN:VEVENT
DTSTAMP:20260421T202854Z
DTSTART;TZID=Europe/Berlin:20221116T193000
DTEND;TZID=Europe/Berlin:20221116T223000
SUMMARY:HE 3. Liga Gr. 2 Bern III vs Langnau (24)
UID:94a046e1-8fc6-49de-9437-647cbaab55c6
STATUS:CONFIRMED
LAST-MODIFIED:20221117T095740Z
DESCRIPTION:3. Liga Herren Gruppe 2\nBegegnungs-Nr: 24\nHeim: Bern III\nGast: Langnau\n\nAdresse: Papiermühlestrasse 81\, 3014 Bern\n
LOCATION:Papiermühlestrasse 81\, 3014 Bern
CATEGORIES:Saison 2022/23
END:VEVENT
BEGIN:VEVENT
DTSTAMP:20260421T202854Z
DTSTART;TZID=Europe/Berlin:20220823T194500
DTEND;TZID=Europe/Berlin:20220823T224500
SUMMARY:HE 3. Liga Gr. 2 Port IV vs Langnau (3)
UID:489e2117-2e14-43c1-9f4e-8a496326532e
STATUS:CONFIRMED
LAST-MODIFIED:20220829T120557Z
DESCRIPTION:3. Liga Herren Gruppe 2\nBegegnungs-Nr: 3\nHeim: Port IV\nGast: Langnau\n\nAdresse: Allmendstrasse 23\, 2562 Port\n
LOCATION:Allmendstrasse 23\, 2562 Port
CATEGORIES:Saison 2022/23
END:VEVENT
BEGIN:VEVENT
DTSTAMP:20260421T202854Z
DTSTART;TZID=Europe/Berlin:20220905T194500
DTEND;TZID=Europe/Berlin:20220905T224500
SUMMARY:HE 3. Liga Gr. 2 Düdingen vs Langnau (9)
UID:952105b9-080a-4b67-a804-a6e489f48e2f
STATUS:CONFIRMED
LAST-MODIFIED:20220909T160614Z
DESCRIPTION:3. Liga Herren Gruppe 2\nBegegnungs-Nr: 9\nHeim: Düdingen\nGast: Langnau\n\nAdresse: Alfons-Aeby-Strasse\, 3186 Düdingen\n
LOCATION:Alfons-Aeby-Strasse\, 3186 Düdingen
CATEGORIES:Saison 2022/23
END:VEVENT
BEGIN:VEVENT
DTSTAMP:20260421T202854Z
DTSTART;TZID=Europe/Berlin:20221205T194500
DTEND;TZID=Europe/Berlin:20221205T224500
SUMMARY:HE 3. Liga Gr. 2 Ittigen vs Langnau (27)
UID:f78d62fb-bc6d-45cc-9677-07ad37a5f977
STATUS:CONFIRMED
LAST-MODIFIED:20221207T132033Z
DESCRIPTION:3. Liga Herren Gruppe 2\nBegegnungs-Nr: 27\nHeim: Ittigen\nGast: Langnau\n\nAdresse: Fischrainweg 17\, 3048 Worblaufen\n
LOCATION:Fischrainweg 17\, 3048 Worblaufen
CATEGORIES:Saison 2022/23
END:VEVENT
BEGIN:VEVENT
DTSTAMP:20260421T202854Z
DTSTART;TZID=Europe/Berlin:20230209T194500
DTEND;TZID=Europe/Berlin:20230209T224500
SUMMARY:HE 3. Liga Gr. 2 Wohlensee vs Langnau (8)
UID:7138697e-11db-4842-8208-6b4946f763a6
STATUS:CONFIRMED
LAST-MODIFIED:20230209T225421Z
DESCRIPTION:3. Liga Herren Gruppe 2\nBegegnungs-Nr: 8\nHeim: Wohlensee\nGast: Langnau\n\nAdresse: Kappelenring 36 a\, 3032 Hinterkappelen\n
LOCATION:Kappelenring 36 a\, 3032 Hinterkappelen
CATEGORIES:Saison 2022/23
END:VEVENT
END:VCALENDAR
