BEGIN:VCALENDAR
PRODID:-//nuDatenautomaten//framework iCal4j //DE
VERSION:2.0
CALSCALE:GREGORIAN
BEGIN:VTIMEZONE
TZID:Europe/Berlin
LAST-MODIFIED:20260306T231828Z
TZURL:https://www.tzurl.org/zoneinfo/Europe/Berlin
X-LIC-LOCATION:Europe/Berlin
X-PROLEPTIC-TZNAME:LMT
BEGIN:STANDARD
TZNAME:CET
TZOFFSETFROM:+005328
TZOFFSETTO:+0100
DTSTART:18930401T000000
END:STANDARD
BEGIN:DAYLIGHT
TZNAME:CEST
TZOFFSETFROM:+0100
TZOFFSETTO:+0200
DTSTART:19160430T230000
RDATE:19400401T020000
RDATE:19430329T020000
RDATE:19460414T020000
RDATE:19470406T030000
RDATE:19480418T020000
RDATE:19490410T020000
RDATE:19800406T020000
END:DAYLIGHT
BEGIN:STANDARD
TZNAME:CET
TZOFFSETFROM:+0200
TZOFFSETTO:+0100
DTSTART:19161001T010000
RDATE:19421102T030000
RDATE:19431004T030000
RDATE:19441002T030000
RDATE:19451118T030000
RDATE:19461007T030000
END:STANDARD
BEGIN:DAYLIGHT
TZNAME:CEST
TZOFFSETFROM:+0100
TZOFFSETTO:+0200
DTSTART:19170416T020000
RRULE:FREQ=YEARLY;UNTIL=19180415T010000Z;BYMONTH=4;BYDAY=3MO
END:DAYLIGHT
BEGIN:STANDARD
TZNAME:CET
TZOFFSETFROM:+0200
TZOFFSETTO:+0100
DTSTART:19170917T030000
RRULE:FREQ=YEARLY;UNTIL=19180916T010000Z;BYMONTH=9;BYDAY=3MO
END:STANDARD
BEGIN:DAYLIGHT
TZNAME:CEST
TZOFFSETFROM:+0100
TZOFFSETTO:+0200
DTSTART:19440403T020000
RRULE:FREQ=YEARLY;UNTIL=19450402T010000Z;BYMONTH=4;BYDAY=1MO
END:DAYLIGHT
BEGIN:DAYLIGHT
TZNAME:CEMT
TZOFFSETFROM:+0200
TZOFFSETTO:+0300
DTSTART:19450524T020000
RDATE:19470511T030000
END:DAYLIGHT
BEGIN:DAYLIGHT
TZNAME:CEST
TZOFFSETFROM:+0300
TZOFFSETTO:+0200
DTSTART:19450924T030000
RDATE:19470629T030000
END:DAYLIGHT
BEGIN:STANDARD
TZNAME:CET
TZOFFSETFROM:+0100
TZOFFSETTO:+0100
DTSTART:19460101T000000
RDATE:19800101T000000
END:STANDARD
BEGIN:STANDARD
TZNAME:CET
TZOFFSETFROM:+0200
TZOFFSETTO:+0100
DTSTART:19471005T030000
RRULE:FREQ=YEARLY;UNTIL=19491002T010000Z;BYMONTH=10;BYDAY=1SU
END:STANDARD
BEGIN:STANDARD
TZNAME:CET
TZOFFSETFROM:+0200
TZOFFSETTO:+0100
DTSTART:19800928T030000
RRULE:FREQ=YEARLY;UNTIL=19950924T010000Z;BYMONTH=9;BYDAY=-1SU
END:STANDARD
BEGIN:DAYLIGHT
TZNAME:CEST
TZOFFSETFROM:+0100
TZOFFSETTO:+0200
DTSTART:19810329T020000
RRULE:FREQ=YEARLY;BYMONTH=3;BYDAY=-1SU
END:DAYLIGHT
BEGIN:STANDARD
TZNAME:CET
TZOFFSETFROM:+0200
TZOFFSETTO:+0100
DTSTART:19961027T030000
RRULE:FREQ=YEARLY;BYMONTH=10;BYDAY=-1SU
END:STANDARD
END:VTIMEZONE
BEGIN:VEVENT
DTSTAMP:20260426T034045Z
DTSTART;TZID=Europe/Berlin:20220824T200000
DTEND;TZID=Europe/Berlin:20220824T230000
SUMMARY:O40 4. Liga Gr. 1 Muolen vs Gossau St.Gallen II (0)
UID:65e7dc3c-be48-4d32-b19d-3e69de511bf8
STATUS:CONFIRMED
LAST-MODIFIED:20220825T072817Z
DESCRIPTION:4. Liga O40 Gruppe 1\nBegegnungs-Nr: 0\nHeim: Muolen\nGast: Gossau St.Gallen II\n\nAdresse: Dorfstrasse 31\, 9313 Muolen\n
LOCATION:Dorfstrasse 31\, 9313 Muolen
CATEGORIES:Saison 2022/23
END:VEVENT
BEGIN:VEVENT
DTSTAMP:20260426T034045Z
DTSTART;TZID=Europe/Berlin:20221123T200000
DTEND;TZID=Europe/Berlin:20221123T230000
SUMMARY:O40 4. Liga Gr. 1 Muolen vs Bronschhofen (0)
UID:bd3fd5d3-c47f-47a5-b329-98055922074e
STATUS:CONFIRMED
LAST-MODIFIED:20221128T150251Z
DESCRIPTION:4. Liga O40 Gruppe 1\nBegegnungs-Nr: 0\nHeim: Muolen\nGast: Bronschhofen\n\nAdresse: Dorfstrasse 31\, 9313 Muolen\n
LOCATION:Dorfstrasse 31\, 9313 Muolen
CATEGORIES:Saison 2022/23
END:VEVENT
BEGIN:VEVENT
DTSTAMP:20260426T034045Z
DTSTART;TZID=Europe/Berlin:20221207T200000
DTEND;TZID=Europe/Berlin:20221207T230000
SUMMARY:O40 4. Liga Gr. 1 Muolen vs Weinfelden (0)
UID:732f8bc2-1432-4e8a-b51b-23d227cded52
STATUS:CONFIRMED
LAST-MODIFIED:20221208T121815Z
DESCRIPTION:4. Liga O40 Gruppe 1\nBegegnungs-Nr: 0\nHeim: Muolen\nGast: Weinfelden\n\nAdresse: Dorfstrasse 31\, 9313 Muolen\n
LOCATION:Dorfstrasse 31\, 9313 Muolen
CATEGORIES:Saison 2022/23
END:VEVENT
BEGIN:VEVENT
DTSTAMP:20260426T034045Z
DTSTART;TZID=Europe/Berlin:20230208T200000
DTEND;TZID=Europe/Berlin:20230208T230000
SUMMARY:O40 4. Liga Gr. 1 Muolen vs St. Gallen III (0)
UID:efd4d394-61e1-4477-88c7-ef826f442d67
STATUS:CONFIRMED
LAST-MODIFIED:20230210T101327Z
DESCRIPTION:4. Liga O40 Gruppe 1\nBegegnungs-Nr: 0\nHeim: Muolen\nGast: St. Gallen III\n\nAdresse: Dorfstrasse 31\, 9313 Muolen\n
LOCATION:Dorfstrasse 31\, 9313 Muolen
CATEGORIES:Saison 2022/23
END:VEVENT
BEGIN:VEVENT
DTSTAMP:20260426T034045Z
DTSTART;TZID=Europe/Berlin:20230301T200000
DTEND;TZID=Europe/Berlin:20230301T230000
SUMMARY:O40 4. Liga Gr. 1 Muolen vs Arbon (0)
UID:422e458b-2d5b-45ae-a6f2-e9fb057a5826
STATUS:CONFIRMED
LAST-MODIFIED:20230307T103250Z
DESCRIPTION:4. Liga O40 Gruppe 1\nBegegnungs-Nr: 0\nHeim: Muolen\nGast: Arbon\n\nAdresse: Dorfstrasse 31\, 9313 Muolen\n
LOCATION:Dorfstrasse 31\, 9313 Muolen
CATEGORIES:Saison 2022/23
END:VEVENT
BEGIN:VEVENT
DTSTAMP:20260426T034045Z
DTSTART;TZID=Europe/Berlin:20230413T200000
DTEND;TZID=Europe/Berlin:20230413T230000
SUMMARY:O40 4. Liga Gr. 1 Weinfelden vs Muolen (0)
UID:4b3ba098-8436-4c3e-81f2-c817a78ad286
STATUS:CONFIRMED
LAST-MODIFIED:20230420T112239Z
DESCRIPTION:4. Liga O40 Gruppe 1\nBegegnungs-Nr: 0\nHeim: Weinfelden\nGast: Muolen\n\nAdresse: Bleichestrasse 3 (neben Hallenbad)\, 8570 Weinfelden\n
LOCATION:Bleichestrasse 3 (neben Hallenbad)\, 8570 Weinfelden
CATEGORIES:Saison 2022/23
END:VEVENT
BEGIN:VEVENT
DTSTAMP:20260426T034045Z
DTSTART;TZID=Europe/Berlin:20220916T200000
DTEND;TZID=Europe/Berlin:20220916T230000
SUMMARY:O40 4. Liga Gr. 1 St. Gallen III vs Muolen (0)
UID:4ac96232-c04f-44f7-a3fd-695ad2fe987c
STATUS:CONFIRMED
LAST-MODIFIED:20220923T153046Z
DESCRIPTION:4. Liga O40 Gruppe 1\nBegegnungs-Nr: 0\nHeim: St. Gallen III\nGast: Muolen\n\nAdresse: Zilstrasse 61\, 9016 St.Gallen\n
LOCATION:Zilstrasse 61\, 9016 St.Gallen
CATEGORIES:Saison 2022/23
END:VEVENT
BEGIN:VEVENT
DTSTAMP:20260426T034045Z
DTSTART;TZID=Europe/Berlin:20221025T200000
DTEND;TZID=Europe/Berlin:20221025T230000
SUMMARY:O40 4. Liga Gr. 1 Arbon vs Muolen (0)
UID:823bb8dc-b072-49ed-ab98-e9eaca6e4a32
STATUS:CONFIRMED
LAST-MODIFIED:20221101T092106Z
DESCRIPTION:4. Liga O40 Gruppe 1\nBegegnungs-Nr: 0\nHeim: Arbon\nGast: Muolen\n\nAdresse: Promenadenstrasse 17\, 9320 Arbon\n
LOCATION:Promenadenstrasse 17\, 9320 Arbon
CATEGORIES:Saison 2022/23
END:VEVENT
BEGIN:VEVENT
DTSTAMP:20260426T034045Z
DTSTART;TZID=Europe/Berlin:20230116T200000
DTEND;TZID=Europe/Berlin:20230116T230000
SUMMARY:O40 4. Liga Gr. 1 Gossau St.Gallen II vs Muolen (0)
UID:180eaba7-95e1-4840-b105-328fe905cdfe
STATUS:CONFIRMED
LAST-MODIFIED:20230117T083641Z
DESCRIPTION:4. Liga O40 Gruppe 1\nBegegnungs-Nr: 0\nHeim: Gossau St.Gallen II\nGast: Muolen\n\nAdresse: Falkenstrasse 21\, 9200 Gossau\n
LOCATION:Falkenstrasse 21\, 9200 Gossau
CATEGORIES:Saison 2022/23
END:VEVENT
BEGIN:VEVENT
DTSTAMP:20260426T034045Z
DTSTART;TZID=Europe/Berlin:20230320T200000
DTEND;TZID=Europe/Berlin:20230320T230000
SUMMARY:O40 4. Liga Gr. 1 Bronschhofen vs Muolen (0)
UID:ca0819fc-b7af-430d-b70d-f82a76114769
STATUS:CONFIRMED
LAST-MODIFIED:20230328T102254Z
DESCRIPTION:4. Liga O40 Gruppe 1\nBegegnungs-Nr: 0\nHeim: Bronschhofen\nGast: Muolen\n\nAdresse: Schulstrasse 6\, 9552 Bronschhofen\n
LOCATION:Schulstrasse 6\, 9552 Bronschhofen
CATEGORIES:Saison 2022/23
END:VEVENT
END:VCALENDAR
