BEGIN:VCALENDAR
PRODID:-//nuDatenautomaten//framework iCal4j //DE
VERSION:2.0
CALSCALE:GREGORIAN
BEGIN:VTIMEZONE
TZID:Europe/Berlin
LAST-MODIFIED:20260306T231828Z
TZURL:https://www.tzurl.org/zoneinfo/Europe/Berlin
X-LIC-LOCATION:Europe/Berlin
X-PROLEPTIC-TZNAME:LMT
BEGIN:STANDARD
TZNAME:CET
TZOFFSETFROM:+005328
TZOFFSETTO:+0100
DTSTART:18930401T000000
END:STANDARD
BEGIN:DAYLIGHT
TZNAME:CEST
TZOFFSETFROM:+0100
TZOFFSETTO:+0200
DTSTART:19160430T230000
RDATE:19400401T020000
RDATE:19430329T020000
RDATE:19460414T020000
RDATE:19470406T030000
RDATE:19480418T020000
RDATE:19490410T020000
RDATE:19800406T020000
END:DAYLIGHT
BEGIN:STANDARD
TZNAME:CET
TZOFFSETFROM:+0200
TZOFFSETTO:+0100
DTSTART:19161001T010000
RDATE:19421102T030000
RDATE:19431004T030000
RDATE:19441002T030000
RDATE:19451118T030000
RDATE:19461007T030000
END:STANDARD
BEGIN:DAYLIGHT
TZNAME:CEST
TZOFFSETFROM:+0100
TZOFFSETTO:+0200
DTSTART:19170416T020000
RRULE:FREQ=YEARLY;UNTIL=19180415T010000Z;BYMONTH=4;BYDAY=3MO
END:DAYLIGHT
BEGIN:STANDARD
TZNAME:CET
TZOFFSETFROM:+0200
TZOFFSETTO:+0100
DTSTART:19170917T030000
RRULE:FREQ=YEARLY;UNTIL=19180916T010000Z;BYMONTH=9;BYDAY=3MO
END:STANDARD
BEGIN:DAYLIGHT
TZNAME:CEST
TZOFFSETFROM:+0100
TZOFFSETTO:+0200
DTSTART:19440403T020000
RRULE:FREQ=YEARLY;UNTIL=19450402T010000Z;BYMONTH=4;BYDAY=1MO
END:DAYLIGHT
BEGIN:DAYLIGHT
TZNAME:CEMT
TZOFFSETFROM:+0200
TZOFFSETTO:+0300
DTSTART:19450524T020000
RDATE:19470511T030000
END:DAYLIGHT
BEGIN:DAYLIGHT
TZNAME:CEST
TZOFFSETFROM:+0300
TZOFFSETTO:+0200
DTSTART:19450924T030000
RDATE:19470629T030000
END:DAYLIGHT
BEGIN:STANDARD
TZNAME:CET
TZOFFSETFROM:+0100
TZOFFSETTO:+0100
DTSTART:19460101T000000
RDATE:19800101T000000
END:STANDARD
BEGIN:STANDARD
TZNAME:CET
TZOFFSETFROM:+0200
TZOFFSETTO:+0100
DTSTART:19471005T030000
RRULE:FREQ=YEARLY;UNTIL=19491002T010000Z;BYMONTH=10;BYDAY=1SU
END:STANDARD
BEGIN:STANDARD
TZNAME:CET
TZOFFSETFROM:+0200
TZOFFSETTO:+0100
DTSTART:19800928T030000
RRULE:FREQ=YEARLY;UNTIL=19950924T010000Z;BYMONTH=9;BYDAY=-1SU
END:STANDARD
BEGIN:DAYLIGHT
TZNAME:CEST
TZOFFSETFROM:+0100
TZOFFSETTO:+0200
DTSTART:19810329T020000
RRULE:FREQ=YEARLY;BYMONTH=3;BYDAY=-1SU
END:DAYLIGHT
BEGIN:STANDARD
TZNAME:CET
TZOFFSETFROM:+0200
TZOFFSETTO:+0100
DTSTART:19961027T030000
RRULE:FREQ=YEARLY;BYMONTH=10;BYDAY=-1SU
END:STANDARD
END:VTIMEZONE
BEGIN:VEVENT
DTSTAMP:20260424T183611Z
DTSTART;TZID=Europe/Berlin:20220909T193000
DTEND;TZID=Europe/Berlin:20220909T223000
SUMMARY:HE 3. Liga Gr. 3 Pinguin Zürich vs Embrachertal (0)
UID:5b581413-4d1b-4da4-98d7-d7b6c2c2baed
STATUS:CONFIRMED
LAST-MODIFIED:20220912T055252Z
DESCRIPTION:3. Liga Herren Gruppe 3\nBegegnungs-Nr: 0\nHeim: Pinguin Zürich\nGast: Embrachertal\n\nAdresse: Basteiplatz\, 8001 Zürich\n
LOCATION:Basteiplatz\, 8001 Zürich
CATEGORIES:Saison 2022/23
END:VEVENT
BEGIN:VEVENT
DTSTAMP:20260424T183611Z
DTSTART;TZID=Europe/Berlin:20220930T193000
DTEND;TZID=Europe/Berlin:20220930T223000
SUMMARY:HE 3. Liga Gr. 3 Pinguin Zürich vs Wetzikon V (0)
UID:884e7a72-3e96-4cf2-89f9-fa202731fe8e
STATUS:CONFIRMED
LAST-MODIFIED:20221005T110909Z
DESCRIPTION:3. Liga Herren Gruppe 3\nBegegnungs-Nr: 0\nHeim: Pinguin Zürich\nGast: Wetzikon V\n\nAdresse: Basteiplatz\, 8001 Zürich\n
LOCATION:Basteiplatz\, 8001 Zürich
CATEGORIES:Saison 2022/23
END:VEVENT
BEGIN:VEVENT
DTSTAMP:20260424T183611Z
DTSTART;TZID=Europe/Berlin:20230331T193000
DTEND;TZID=Europe/Berlin:20230331T223000
SUMMARY:HE 3. Liga Gr. 3 Pinguin Zürich vs Bülach II (0)
UID:ad41074d-27b5-4649-baf6-4e0aa199cc14
STATUS:CONFIRMED
LAST-MODIFIED:20230403T092413Z
DESCRIPTION:3. Liga Herren Gruppe 3\nBegegnungs-Nr: 0\nHeim: Pinguin Zürich\nGast: Bülach II\n\nAdresse: Basteiplatz\, 8001 Zürich\n
LOCATION:Basteiplatz\, 8001 Zürich
CATEGORIES:Saison 2022/23
END:VEVENT
BEGIN:VEVENT
DTSTAMP:20260424T183611Z
DTSTART;TZID=Europe/Berlin:20230113T193000
DTEND;TZID=Europe/Berlin:20230113T223000
SUMMARY:HE 3. Liga Gr. 3 Pinguin Zürich vs Zürich-Affoltern IV (0)
UID:e9b02992-a153-43cb-852d-883ba4a924f2
STATUS:CONFIRMED
LAST-MODIFIED:20230117T080318Z
DESCRIPTION:3. Liga Herren Gruppe 3\nBegegnungs-Nr: 0\nHeim: Pinguin Zürich\nGast: Zürich-Affoltern IV\n\nAdresse: Basteiplatz\, 8001 Zürich\n
LOCATION:Basteiplatz\, 8001 Zürich
CATEGORIES:Saison 2022/23
END:VEVENT
BEGIN:VEVENT
DTSTAMP:20260424T183611Z
DTSTART;TZID=Europe/Berlin:20230210T193000
DTEND;TZID=Europe/Berlin:20230210T223000
SUMMARY:HE 3. Liga Gr. 3 Pinguin Zürich vs Kloten (0)
UID:d65ee4f6-8c07-4e65-a4be-551afe0c42b8
STATUS:CONFIRMED
LAST-MODIFIED:20230215T123912Z
DESCRIPTION:3. Liga Herren Gruppe 3\nBegegnungs-Nr: 0\nHeim: Pinguin Zürich\nGast: Kloten\n\nAdresse: Basteiplatz\, 8001 Zürich\n
LOCATION:Basteiplatz\, 8001 Zürich
CATEGORIES:Saison 2022/23
END:VEVENT
BEGIN:VEVENT
DTSTAMP:20260424T183611Z
DTSTART;TZID=Europe/Berlin:20230317T193000
DTEND;TZID=Europe/Berlin:20230317T223000
SUMMARY:HE 3. Liga Gr. 3 Pinguin Zürich vs Young Stars ZH V (0)
UID:d5358676-64c3-49d1-98d9-972b81c55d40
STATUS:CONFIRMED
LAST-MODIFIED:20230322T134208Z
DESCRIPTION:3. Liga Herren Gruppe 3\nBegegnungs-Nr: 0\nHeim: Pinguin Zürich\nGast: Young Stars ZH V\n\nAdresse: Basteiplatz\, 8001 Zürich\n
LOCATION:Basteiplatz\, 8001 Zürich
CATEGORIES:Saison 2022/23
END:VEVENT
BEGIN:VEVENT
DTSTAMP:20260424T183611Z
DTSTART;TZID=Europe/Berlin:20221104T193000
DTEND;TZID=Europe/Berlin:20221104T223000
SUMMARY:HE 3. Liga Gr. 3 Pinguin Zürich vs Dübendorf-Volketswil II (0)
UID:c3a6464f-48e7-4e5b-9fe1-090653e32344
STATUS:CONFIRMED
LAST-MODIFIED:20221107T152402Z
DESCRIPTION:3. Liga Herren Gruppe 3\nBegegnungs-Nr: 0\nHeim: Pinguin Zürich\nGast: Dübendorf-Volketswil II\n\nAdresse: Basteiplatz\, 8001 Zürich\n
LOCATION:Basteiplatz\, 8001 Zürich
CATEGORIES:Saison 2022/23
END:VEVENT
BEGIN:VEVENT
DTSTAMP:20260424T183611Z
DTSTART;TZID=Europe/Berlin:20220824T201500
DTEND;TZID=Europe/Berlin:20220824T231500
SUMMARY:HE 3. Liga Gr. 3 Zürich-Affoltern IV vs Pinguin Zürich (0)
UID:3e329587-2337-4a4c-9282-502c0533fcd0
STATUS:CONFIRMED
LAST-MODIFIED:20220825T072653Z
DESCRIPTION:3. Liga Herren Gruppe 3\nBegegnungs-Nr: 0\nHeim: Zürich-Affoltern IV\nGast: Pinguin Zürich\n\nAdresse: Rümlangstr. 89\, 8052 Zürich\n
LOCATION:Rümlangstr. 89\, 8052 Zürich
CATEGORIES:Saison 2022/23
END:VEVENT
BEGIN:VEVENT
DTSTAMP:20260424T183611Z
DTSTART;TZID=Europe/Berlin:20220921T193000
DTEND;TZID=Europe/Berlin:20220921T223000
SUMMARY:HE 3. Liga Gr. 3 Kloten vs Pinguin Zürich (0)
UID:e0cd28d4-8c61-425b-a9a4-45d0245dcd26
STATUS:CONFIRMED
LAST-MODIFIED:20230106T152031Z
DESCRIPTION:3. Liga Herren Gruppe 3\nBegegnungs-Nr: 0\nHeim: Kloten\nGast: Pinguin Zürich\n\nAdresse: Schluefweg 10\, 8302 Kloten\n
LOCATION:Schluefweg 10\, 8302 Kloten
CATEGORIES:Saison 2022/23
END:VEVENT
BEGIN:VEVENT
DTSTAMP:20260424T183611Z
DTSTART;TZID=Europe/Berlin:20221109T201500
DTEND;TZID=Europe/Berlin:20221109T231500
SUMMARY:HE 3. Liga Gr. 3 Young Stars ZH V vs Pinguin Zürich (0)
UID:cc22fb6e-3746-4492-9c29-aab37b7d4604
STATUS:CONFIRMED
LAST-MODIFIED:20221110T110342Z
DESCRIPTION:3. Liga Herren Gruppe 3\nBegegnungs-Nr: 0\nHeim: Young Stars ZH V\nGast: Pinguin Zürich\n\nAdresse: Seefeldstrasse 93\, 8008 Zürich\n
LOCATION:Seefeldstrasse 93\, 8008 Zürich
CATEGORIES:Saison 2022/23
END:VEVENT
BEGIN:VEVENT
DTSTAMP:20260424T183611Z
DTSTART;TZID=Europe/Berlin:20221125T193000
DTEND;TZID=Europe/Berlin:20221125T223000
SUMMARY:HE 3. Liga Gr. 3 Bülach II vs Pinguin Zürich (0)
UID:e5c55db6-537e-439d-8ac3-a03b7bd3765f
STATUS:CONFIRMED
LAST-MODIFIED:20221128T095239Z
DESCRIPTION:3. Liga Herren Gruppe 3\nBegegnungs-Nr: 0\nHeim: Bülach II\nGast: Pinguin Zürich\n\nAdresse: Schwerzgruebstrasse 28\, 8180 Bülach\n
LOCATION:Schwerzgruebstrasse 28\, 8180 Bülach
CATEGORIES:Saison 2022/23
END:VEVENT
BEGIN:VEVENT
DTSTAMP:20260424T183611Z
DTSTART;TZID=Europe/Berlin:20230124T200000
DTEND;TZID=Europe/Berlin:20230124T230000
SUMMARY:HE 3. Liga Gr. 3 Embrachertal vs Pinguin Zürich (0)
UID:76c691ee-9a7a-41cf-a3b0-1f22b37f5c35
STATUS:CONFIRMED
LAST-MODIFIED:20230125T133424Z
DESCRIPTION:3. Liga Herren Gruppe 3\nBegegnungs-Nr: 0\nHeim: Embrachertal\nGast: Pinguin Zürich\n\nAdresse: Hintermarchlenstrasse 31 + 33\, 8426 Lufingen\n
LOCATION:Hintermarchlenstrasse 31 + 33\, 8426 Lufingen
CATEGORIES:Saison 2022/23
END:VEVENT
BEGIN:VEVENT
DTSTAMP:20260424T183611Z
DTSTART;TZID=Europe/Berlin:20230206T194500
DTEND;TZID=Europe/Berlin:20230206T224500
SUMMARY:HE 3. Liga Gr. 3 Wetzikon V vs Pinguin Zürich (0)
UID:2234ae1c-5fdd-45d1-b226-971bd3abcf5b
STATUS:CONFIRMED
LAST-MODIFIED:20230209T103302Z
DESCRIPTION:3. Liga Herren Gruppe 3\nBegegnungs-Nr: 0\nHeim: Wetzikon V\nGast: Pinguin Zürich\n\nAdresse: Usterstrasse 37\, 8620 Wetzikon\n
LOCATION:Usterstrasse 37\, 8620 Wetzikon
CATEGORIES:Saison 2022/23
END:VEVENT
BEGIN:VEVENT
DTSTAMP:20260424T183611Z
DTSTART;TZID=Europe/Berlin:20230307T201500
DTEND;TZID=Europe/Berlin:20230307T231500
SUMMARY:HE 3. Liga Gr. 3 Dübendorf-Volketswil II vs Pinguin Zürich (0)
UID:e48d47b0-c44c-4ea7-a578-47de8242ad62
STATUS:CONFIRMED
LAST-MODIFIED:20230309T072721Z
DESCRIPTION:3. Liga Herren Gruppe 3\nBegegnungs-Nr: 0\nHeim: Dübendorf-Volketswil II\nGast: Pinguin Zürich\n\nAdresse: Dübendorfstrasse 46\, 8602 Wangen ZH\n
LOCATION:Dübendorfstrasse 46\, 8602 Wangen ZH
CATEGORIES:Saison 2022/23
END:VEVENT
END:VCALENDAR
