BEGIN:VCALENDAR
PRODID:-//nuDatenautomaten//framework iCal4j //DE
VERSION:2.0
CALSCALE:GREGORIAN
BEGIN:VTIMEZONE
TZID:Europe/Berlin
LAST-MODIFIED:20260306T231828Z
TZURL:https://www.tzurl.org/zoneinfo/Europe/Berlin
X-LIC-LOCATION:Europe/Berlin
X-PROLEPTIC-TZNAME:LMT
BEGIN:STANDARD
TZNAME:CET
TZOFFSETFROM:+005328
TZOFFSETTO:+0100
DTSTART:18930401T000000
END:STANDARD
BEGIN:DAYLIGHT
TZNAME:CEST
TZOFFSETFROM:+0100
TZOFFSETTO:+0200
DTSTART:19160430T230000
RDATE:19400401T020000
RDATE:19430329T020000
RDATE:19460414T020000
RDATE:19470406T030000
RDATE:19480418T020000
RDATE:19490410T020000
RDATE:19800406T020000
END:DAYLIGHT
BEGIN:STANDARD
TZNAME:CET
TZOFFSETFROM:+0200
TZOFFSETTO:+0100
DTSTART:19161001T010000
RDATE:19421102T030000
RDATE:19431004T030000
RDATE:19441002T030000
RDATE:19451118T030000
RDATE:19461007T030000
END:STANDARD
BEGIN:DAYLIGHT
TZNAME:CEST
TZOFFSETFROM:+0100
TZOFFSETTO:+0200
DTSTART:19170416T020000
RRULE:FREQ=YEARLY;UNTIL=19180415T010000Z;BYMONTH=4;BYDAY=3MO
END:DAYLIGHT
BEGIN:STANDARD
TZNAME:CET
TZOFFSETFROM:+0200
TZOFFSETTO:+0100
DTSTART:19170917T030000
RRULE:FREQ=YEARLY;UNTIL=19180916T010000Z;BYMONTH=9;BYDAY=3MO
END:STANDARD
BEGIN:DAYLIGHT
TZNAME:CEST
TZOFFSETFROM:+0100
TZOFFSETTO:+0200
DTSTART:19440403T020000
RRULE:FREQ=YEARLY;UNTIL=19450402T010000Z;BYMONTH=4;BYDAY=1MO
END:DAYLIGHT
BEGIN:DAYLIGHT
TZNAME:CEMT
TZOFFSETFROM:+0200
TZOFFSETTO:+0300
DTSTART:19450524T020000
RDATE:19470511T030000
END:DAYLIGHT
BEGIN:DAYLIGHT
TZNAME:CEST
TZOFFSETFROM:+0300
TZOFFSETTO:+0200
DTSTART:19450924T030000
RDATE:19470629T030000
END:DAYLIGHT
BEGIN:STANDARD
TZNAME:CET
TZOFFSETFROM:+0100
TZOFFSETTO:+0100
DTSTART:19460101T000000
RDATE:19800101T000000
END:STANDARD
BEGIN:STANDARD
TZNAME:CET
TZOFFSETFROM:+0200
TZOFFSETTO:+0100
DTSTART:19471005T030000
RRULE:FREQ=YEARLY;UNTIL=19491002T010000Z;BYMONTH=10;BYDAY=1SU
END:STANDARD
BEGIN:STANDARD
TZNAME:CET
TZOFFSETFROM:+0200
TZOFFSETTO:+0100
DTSTART:19800928T030000
RRULE:FREQ=YEARLY;UNTIL=19950924T010000Z;BYMONTH=9;BYDAY=-1SU
END:STANDARD
BEGIN:DAYLIGHT
TZNAME:CEST
TZOFFSETFROM:+0100
TZOFFSETTO:+0200
DTSTART:19810329T020000
RRULE:FREQ=YEARLY;BYMONTH=3;BYDAY=-1SU
END:DAYLIGHT
BEGIN:STANDARD
TZNAME:CET
TZOFFSETFROM:+0200
TZOFFSETTO:+0100
DTSTART:19961027T030000
RRULE:FREQ=YEARLY;BYMONTH=10;BYDAY=-1SU
END:STANDARD
END:VTIMEZONE
BEGIN:VEVENT
DTSTAMP:20260426T033747Z
DTSTART;TZID=Europe/Berlin:20230317T200000
DTEND;TZID=Europe/Berlin:20230317T230000
SUMMARY:DA 1. Liga Gr. 1 Bronschhofen vs Uster II (0)
UID:df92c74a-2e3f-48fd-9939-c8de7d8b6987
STATUS:CONFIRMED
LAST-MODIFIED:20230328T100901Z
DESCRIPTION:1. Liga Damen Gruppe 1\nBegegnungs-Nr: 0\nHeim: Bronschhofen\nGast: Uster II\n\nAdresse: Schulstrasse 6\, 9552 Bronschhofen\n
LOCATION:Schulstrasse 6\, 9552 Bronschhofen
CATEGORIES:Saison 2022/23
END:VEVENT
BEGIN:VEVENT
DTSTAMP:20260426T033747Z
DTSTART;TZID=Europe/Berlin:20230331T200000
DTEND;TZID=Europe/Berlin:20230331T230000
SUMMARY:DA 1. Liga Gr. 1 Bronschhofen vs Zürich-Affoltern II (0)
UID:77b44497-962d-475c-87c3-fd124679f9b5
STATUS:CONFIRMED
LAST-MODIFIED:20230405T120834Z
DESCRIPTION:1. Liga Damen Gruppe 1\nBegegnungs-Nr: 0\nHeim: Bronschhofen\nGast: Zürich-Affoltern II\n\nAdresse: Schulstrasse 6\, 9552 Bronschhofen\n
LOCATION:Schulstrasse 6\, 9552 Bronschhofen
CATEGORIES:Saison 2022/23
END:VEVENT
BEGIN:VEVENT
DTSTAMP:20260426T033747Z
DTSTART;TZID=Europe/Berlin:20220909T200000
DTEND;TZID=Europe/Berlin:20220909T230000
SUMMARY:DA 1. Liga Gr. 1 Bronschhofen vs Wetzikon (0)
UID:364e4094-07ff-4435-9698-d5983f671f21
STATUS:CONFIRMED
LAST-MODIFIED:20220923T145400Z
DESCRIPTION:1. Liga Damen Gruppe 1\nBegegnungs-Nr: 0\nHeim: Bronschhofen\nGast: Wetzikon\n\nAdresse: Schulstrasse 6\, 9552 Bronschhofen\n
LOCATION:Schulstrasse 6\, 9552 Bronschhofen
CATEGORIES:Saison 2022/23
END:VEVENT
BEGIN:VEVENT
DTSTAMP:20260426T033747Z
DTSTART;TZID=Europe/Berlin:20221125T200000
DTEND;TZID=Europe/Berlin:20221125T230000
SUMMARY:DA 1. Liga Gr. 1 Bronschhofen vs Rapperswil-Jona (0)
UID:bed8eb16-de23-4f4d-90fd-4d4c3332344b
STATUS:CONFIRMED
LAST-MODIFIED:20221128T141306Z
DESCRIPTION:1. Liga Damen Gruppe 1\nBegegnungs-Nr: 0\nHeim: Bronschhofen\nGast: Rapperswil-Jona\n\nAdresse: Schulstrasse 6\, 9552 Bronschhofen\n
LOCATION:Schulstrasse 6\, 9552 Bronschhofen
CATEGORIES:Saison 2022/23
END:VEVENT
BEGIN:VEVENT
DTSTAMP:20260426T033747Z
DTSTART;TZID=Europe/Berlin:20221104T200000
DTEND;TZID=Europe/Berlin:20221104T230000
SUMMARY:DA 1. Liga Gr. 1 Bronschhofen vs Imperial Winterthur (0)
UID:97a01363-3f8a-4c3b-a263-e9e0ccfbedb7
STATUS:CONFIRMED
LAST-MODIFIED:20221108T162912Z
DESCRIPTION:1. Liga Damen Gruppe 1\nBegegnungs-Nr: 0\nHeim: Bronschhofen\nGast: Imperial Winterthur\n\nAdresse: Schulstrasse 6\, 9552 Bronschhofen\n
LOCATION:Schulstrasse 6\, 9552 Bronschhofen
CATEGORIES:Saison 2022/23
END:VEVENT
BEGIN:VEVENT
DTSTAMP:20260426T033747Z
DTSTART;TZID=Europe/Berlin:20230217T200000
DTEND;TZID=Europe/Berlin:20230217T230000
SUMMARY:DA 1. Liga Gr. 1 Bronschhofen vs Wetzikon II (0)
UID:7664ca50-02a8-4d33-b9c9-f4c792c4f327
STATUS:CONFIRMED
LAST-MODIFIED:20230310T133942Z
DESCRIPTION:1. Liga Damen Gruppe 1\nBegegnungs-Nr: 0\nHeim: Bronschhofen\nGast: Wetzikon II\n\nAdresse: Schulstrasse 6\, 9552 Bronschhofen\n
LOCATION:Schulstrasse 6\, 9552 Bronschhofen
CATEGORIES:Saison 2022/23
END:VEVENT
BEGIN:VEVENT
DTSTAMP:20260426T033747Z
DTSTART;TZID=Europe/Berlin:20230113T200000
DTEND;TZID=Europe/Berlin:20230113T230000
SUMMARY:DA 1. Liga Gr. 1 Bronschhofen vs Wädenswil III (0)
UID:0b741677-3c60-4e98-bcc9-e9947704eb4b
STATUS:CONFIRMED
LAST-MODIFIED:20230117T083608Z
DESCRIPTION:1. Liga Damen Gruppe 1\nBegegnungs-Nr: 0\nHeim: Bronschhofen\nGast: Wädenswil III\n\nAdresse: Schulstrasse 6\, 9552 Bronschhofen\n
LOCATION:Schulstrasse 6\, 9552 Bronschhofen
CATEGORIES:Saison 2022/23
END:VEVENT
BEGIN:VEVENT
DTSTAMP:20260426T033747Z
DTSTART;TZID=Europe/Berlin:20220827T093000
DTEND;TZID=Europe/Berlin:20220827T123000
SUMMARY:DA 1. Liga Gr. 1 Wädenswil III vs Bronschhofen (0)
UID:71e65601-1c40-4d3a-873c-3916dc66eae2
STATUS:CONFIRMED
LAST-MODIFIED:20220829T054054Z
DESCRIPTION:1. Liga Damen Gruppe 1\nBegegnungs-Nr: 0\nHeim: Wädenswil III\nGast: Bronschhofen\n\nAdresse: Fuhrstrasse 16b\, 8820 Wädenswil\n
LOCATION:Fuhrstrasse 16b\, 8820 Wädenswil
CATEGORIES:Saison 2022/23
END:VEVENT
BEGIN:VEVENT
DTSTAMP:20260426T033747Z
DTSTART;TZID=Europe/Berlin:20220923T194500
DTEND;TZID=Europe/Berlin:20220923T224500
SUMMARY:DA 1. Liga Gr. 1 Wetzikon II vs Bronschhofen (0)
UID:a934830b-7f9d-4311-86e8-fa2e2a0637c8
STATUS:CONFIRMED
LAST-MODIFIED:20220923T145551Z
DESCRIPTION:1. Liga Damen Gruppe 1\nBegegnungs-Nr: 0\nHeim: Wetzikon II\nGast: Bronschhofen\n\nAdresse: Usterstrasse 37\, 8620 Wetzikon\n
LOCATION:Usterstrasse 37\, 8620 Wetzikon
CATEGORIES:Saison 2022/23
END:VEVENT
BEGIN:VEVENT
DTSTAMP:20260426T033747Z
DTSTART;TZID=Europe/Berlin:20221107T201500
DTEND;TZID=Europe/Berlin:20221107T231500
SUMMARY:DA 1. Liga Gr. 1 Uster II vs Bronschhofen (0)
UID:b76dccab-e1da-4d43-9d73-195311dac0da
STATUS:CONFIRMED
LAST-MODIFIED:20221108T162946Z
DESCRIPTION:1. Liga Damen Gruppe 1\nBegegnungs-Nr: 0\nHeim: Uster II\nGast: Bronschhofen\n\nAdresse: Wilstrasse 30 / Zürcherstrasse\, 8610 Uster\n
LOCATION:Wilstrasse 30 / Zürcherstrasse\, 8610 Uster
CATEGORIES:Saison 2022/23
END:VEVENT
BEGIN:VEVENT
DTSTAMP:20260426T033747Z
DTSTART;TZID=Europe/Berlin:20221208T201500
DTEND;TZID=Europe/Berlin:20221208T231500
SUMMARY:DA 1. Liga Gr. 1 Zürich-Affoltern II vs Bronschhofen (0)
UID:d0b4f9ea-bc4d-4cd0-bf5a-71daddd9a498
STATUS:CONFIRMED
LAST-MODIFIED:20221212T142654Z
DESCRIPTION:1. Liga Damen Gruppe 1\nBegegnungs-Nr: 0\nHeim: Zürich-Affoltern II\nGast: Bronschhofen\n\nAdresse: Rümlangstr. 89\, 8052 Zürich\n
LOCATION:Rümlangstr. 89\, 8052 Zürich
CATEGORIES:Saison 2022/23
END:VEVENT
BEGIN:VEVENT
DTSTAMP:20260426T033747Z
DTSTART;TZID=Europe/Berlin:20230220T193000
DTEND;TZID=Europe/Berlin:20230220T223000
SUMMARY:DA 1. Liga Gr. 1 Rapperswil-Jona vs Bronschhofen (0)
UID:a4fbb02b-6303-4afa-b756-9a6f52b96ad1
STATUS:CONFIRMED
LAST-MODIFIED:20230223T094443Z
DESCRIPTION:1. Liga Damen Gruppe 1\nBegegnungs-Nr: 0\nHeim: Rapperswil-Jona\nGast: Bronschhofen\n\nAdresse: Holzwiesstrasse 39\, 8645 Jona\n
LOCATION:Holzwiesstrasse 39\, 8645 Jona
CATEGORIES:Saison 2022/23
END:VEVENT
BEGIN:VEVENT
DTSTAMP:20260426T033747Z
DTSTART;TZID=Europe/Berlin:20230116T194500
DTEND;TZID=Europe/Berlin:20230116T224500
SUMMARY:DA 1. Liga Gr. 1 Wetzikon vs Bronschhofen (0)
UID:70dade7d-371a-4e2a-b125-d94b0d56cb1b
STATUS:CONFIRMED
LAST-MODIFIED:20230117T083630Z
DESCRIPTION:1. Liga Damen Gruppe 1\nBegegnungs-Nr: 0\nHeim: Wetzikon\nGast: Bronschhofen\n\nAdresse: Usterstrasse 37\, 8620 Wetzikon\n
LOCATION:Usterstrasse 37\, 8620 Wetzikon
CATEGORIES:Saison 2022/23
END:VEVENT
BEGIN:VEVENT
DTSTAMP:20260426T033747Z
DTSTART;TZID=Europe/Berlin:20230306T200000
DTEND;TZID=Europe/Berlin:20230306T230000
SUMMARY:DA 1. Liga Gr. 1 Imperial Winterthur vs Bronschhofen (0)
UID:704da66e-2172-4b0d-88a7-e9a4b9570a8b
STATUS:CONFIRMED
LAST-MODIFIED:20230307T102325Z
DESCRIPTION:1. Liga Damen Gruppe 1\nBegegnungs-Nr: 0\nHeim: Imperial Winterthur\nGast: Bronschhofen\n\nAdresse: Büelhofstrasse 25a\, 8405 Winterthur\n
LOCATION:Büelhofstrasse 25a\, 8405 Winterthur
CATEGORIES:Saison 2022/23
END:VEVENT
END:VCALENDAR
