BEGIN:VCALENDAR
PRODID:-//nuDatenautomaten//framework iCal4j //DE
VERSION:2.0
CALSCALE:GREGORIAN
BEGIN:VTIMEZONE
TZID:Europe/Berlin
LAST-MODIFIED:20260306T231828Z
TZURL:https://www.tzurl.org/zoneinfo/Europe/Berlin
X-LIC-LOCATION:Europe/Berlin
X-PROLEPTIC-TZNAME:LMT
BEGIN:STANDARD
TZNAME:CET
TZOFFSETFROM:+005328
TZOFFSETTO:+0100
DTSTART:18930401T000000
END:STANDARD
BEGIN:DAYLIGHT
TZNAME:CEST
TZOFFSETFROM:+0100
TZOFFSETTO:+0200
DTSTART:19160430T230000
RDATE:19400401T020000
RDATE:19430329T020000
RDATE:19460414T020000
RDATE:19470406T030000
RDATE:19480418T020000
RDATE:19490410T020000
RDATE:19800406T020000
END:DAYLIGHT
BEGIN:STANDARD
TZNAME:CET
TZOFFSETFROM:+0200
TZOFFSETTO:+0100
DTSTART:19161001T010000
RDATE:19421102T030000
RDATE:19431004T030000
RDATE:19441002T030000
RDATE:19451118T030000
RDATE:19461007T030000
END:STANDARD
BEGIN:DAYLIGHT
TZNAME:CEST
TZOFFSETFROM:+0100
TZOFFSETTO:+0200
DTSTART:19170416T020000
RRULE:FREQ=YEARLY;UNTIL=19180415T010000Z;BYMONTH=4;BYDAY=3MO
END:DAYLIGHT
BEGIN:STANDARD
TZNAME:CET
TZOFFSETFROM:+0200
TZOFFSETTO:+0100
DTSTART:19170917T030000
RRULE:FREQ=YEARLY;UNTIL=19180916T010000Z;BYMONTH=9;BYDAY=3MO
END:STANDARD
BEGIN:DAYLIGHT
TZNAME:CEST
TZOFFSETFROM:+0100
TZOFFSETTO:+0200
DTSTART:19440403T020000
RRULE:FREQ=YEARLY;UNTIL=19450402T010000Z;BYMONTH=4;BYDAY=1MO
END:DAYLIGHT
BEGIN:DAYLIGHT
TZNAME:CEMT
TZOFFSETFROM:+0200
TZOFFSETTO:+0300
DTSTART:19450524T020000
RDATE:19470511T030000
END:DAYLIGHT
BEGIN:DAYLIGHT
TZNAME:CEST
TZOFFSETFROM:+0300
TZOFFSETTO:+0200
DTSTART:19450924T030000
RDATE:19470629T030000
END:DAYLIGHT
BEGIN:STANDARD
TZNAME:CET
TZOFFSETFROM:+0100
TZOFFSETTO:+0100
DTSTART:19460101T000000
RDATE:19800101T000000
END:STANDARD
BEGIN:STANDARD
TZNAME:CET
TZOFFSETFROM:+0200
TZOFFSETTO:+0100
DTSTART:19471005T030000
RRULE:FREQ=YEARLY;UNTIL=19491002T010000Z;BYMONTH=10;BYDAY=1SU
END:STANDARD
BEGIN:STANDARD
TZNAME:CET
TZOFFSETFROM:+0200
TZOFFSETTO:+0100
DTSTART:19800928T030000
RRULE:FREQ=YEARLY;UNTIL=19950924T010000Z;BYMONTH=9;BYDAY=-1SU
END:STANDARD
BEGIN:DAYLIGHT
TZNAME:CEST
TZOFFSETFROM:+0100
TZOFFSETTO:+0200
DTSTART:19810329T020000
RRULE:FREQ=YEARLY;BYMONTH=3;BYDAY=-1SU
END:DAYLIGHT
BEGIN:STANDARD
TZNAME:CET
TZOFFSETFROM:+0200
TZOFFSETTO:+0100
DTSTART:19961027T030000
RRULE:FREQ=YEARLY;BYMONTH=10;BYDAY=-1SU
END:STANDARD
END:VTIMEZONE
BEGIN:VEVENT
DTSTAMP:20260426T033236Z
DTSTART;TZID=Europe/Berlin:20220908T201500
DTEND;TZID=Europe/Berlin:20220908T231500
SUMMARY:HE 4. Liga Gr. 7 Flums IV vs Dübendorf-Volketswil III (0)
UID:7f2aca78-8411-42d4-aaf0-051c13a3fe9c
STATUS:CONFIRMED
LAST-MODIFIED:20220909T124947Z
DESCRIPTION:4. Liga Herren Gruppe 7\nBegegnungs-Nr: 0\nHeim: Flums IV\nGast: Dübendorf-Volketswil III\n\nAdresse: Bergstrasse\, 8890 Flums\n
LOCATION:Bergstrasse\, 8890 Flums
CATEGORIES:Saison 2022/23
END:VEVENT
BEGIN:VEVENT
DTSTAMP:20260426T033236Z
DTSTART;TZID=Europe/Berlin:20220829T201500
DTEND;TZID=Europe/Berlin:20220829T231500
SUMMARY:HE 4. Liga Gr. 7 Flums IV vs Young Stars ZH VIII (0)
UID:9d1b5de0-b17f-4cb2-bc70-3c7510a95893
STATUS:CONFIRMED
LAST-MODIFIED:20220831T123909Z
DESCRIPTION:4. Liga Herren Gruppe 7\nBegegnungs-Nr: 0\nHeim: Flums IV\nGast: Young Stars ZH VIII\n\nAdresse: Bergstrasse\, 8890 Flums\n
LOCATION:Bergstrasse\, 8890 Flums
CATEGORIES:Saison 2022/23
END:VEVENT
BEGIN:VEVENT
DTSTAMP:20260426T033236Z
DTSTART;TZID=Europe/Berlin:20221114T201500
DTEND;TZID=Europe/Berlin:20221114T231500
SUMMARY:HE 4. Liga Gr. 7 Flums IV vs Meilen-Männedorf III (0)
UID:0515b2a1-fab7-4f6a-ba04-58d200997649
STATUS:CONFIRMED
LAST-MODIFIED:20221118T151604Z
DESCRIPTION:4. Liga Herren Gruppe 7\nBegegnungs-Nr: 0\nHeim: Flums IV\nGast: Meilen-Männedorf III\n\nAdresse: Bergstrasse\, 8890 Flums\n
LOCATION:Bergstrasse\, 8890 Flums
CATEGORIES:Saison 2022/23
END:VEVENT
BEGIN:VEVENT
DTSTAMP:20260426T033236Z
DTSTART;TZID=Europe/Berlin:20230327T201500
DTEND;TZID=Europe/Berlin:20230327T231500
SUMMARY:HE 4. Liga Gr. 7 Flums IV vs Uster III (0)
UID:8269fa57-ff57-4aa8-b429-32b67a779c74
STATUS:CONFIRMED
LAST-MODIFIED:20230329T085212Z
DESCRIPTION:4. Liga Herren Gruppe 7\nBegegnungs-Nr: 0\nHeim: Flums IV\nGast: Uster III\n\nAdresse: Bergstrasse\, 8890 Flums\n
LOCATION:Bergstrasse\, 8890 Flums
CATEGORIES:Saison 2022/23
END:VEVENT
BEGIN:VEVENT
DTSTAMP:20260426T033236Z
DTSTART;TZID=Europe/Berlin:20230313T201500
DTEND;TZID=Europe/Berlin:20230313T231500
SUMMARY:HE 4. Liga Gr. 7 Flums IV vs Wetzikon VI (0)
UID:ff7e9605-cfdd-4c82-8366-569ad86e59d1
STATUS:CONFIRMED
LAST-MODIFIED:20230316T093425Z
DESCRIPTION:4. Liga Herren Gruppe 7\nBegegnungs-Nr: 0\nHeim: Flums IV\nGast: Wetzikon VI\n\nAdresse: Bergstrasse\, 8890 Flums\n
LOCATION:Bergstrasse\, 8890 Flums
CATEGORIES:Saison 2022/23
END:VEVENT
BEGIN:VEVENT
DTSTAMP:20260426T033236Z
DTSTART;TZID=Europe/Berlin:20230109T201500
DTEND;TZID=Europe/Berlin:20230109T231500
SUMMARY:HE 4. Liga Gr. 7 Flums IV vs Wolfhausen II (0)
UID:4e6e0327-6eb6-4f2f-a0a3-ffb26e3f278f
STATUS:CONFIRMED
LAST-MODIFIED:20230112T111912Z
DESCRIPTION:4. Liga Herren Gruppe 7\nBegegnungs-Nr: 0\nHeim: Flums IV\nGast: Wolfhausen II\n\nAdresse: Bergstrasse\, 8890 Flums\n
LOCATION:Bergstrasse\, 8890 Flums
CATEGORIES:Saison 2022/23
END:VEVENT
BEGIN:VEVENT
DTSTAMP:20260426T033236Z
DTSTART;TZID=Europe/Berlin:20230206T201500
DTEND;TZID=Europe/Berlin:20230206T231500
SUMMARY:HE 4. Liga Gr. 7 Flums IV vs Gossau Zuerich (0)
UID:326d41e2-ea80-497d-9057-7cbe51a6e330
STATUS:CONFIRMED
LAST-MODIFIED:20230209T105225Z
DESCRIPTION:4. Liga Herren Gruppe 7\nBegegnungs-Nr: 0\nHeim: Flums IV\nGast: Gossau Zuerich\n\nAdresse: Bergstrasse\, 8890 Flums\n
LOCATION:Bergstrasse\, 8890 Flums
CATEGORIES:Saison 2022/23
END:VEVENT
BEGIN:VEVENT
DTSTAMP:20260426T033236Z
DTSTART;TZID=Europe/Berlin:20220912T200000
DTEND;TZID=Europe/Berlin:20220912T230000
SUMMARY:HE 4. Liga Gr. 7 Wolfhausen II vs Flums IV (0)
UID:d5954eed-c7f3-4614-b3e4-93e4de838cec
STATUS:CONFIRMED
LAST-MODIFIED:20220914T081044Z
DESCRIPTION:4. Liga Herren Gruppe 7\nBegegnungs-Nr: 0\nHeim: Wolfhausen II\nGast: Flums IV\n\nAdresse: Schulstrasse 9\, 8633 Wolfhausen\n
LOCATION:Schulstrasse 9\, 8633 Wolfhausen
CATEGORIES:Saison 2022/23
END:VEVENT
BEGIN:VEVENT
DTSTAMP:20260426T033236Z
DTSTART;TZID=Europe/Berlin:20220923T200000
DTEND;TZID=Europe/Berlin:20220923T230000
SUMMARY:HE 4. Liga Gr. 7 Gossau Zuerich vs Flums IV (0)
UID:1d1eb555-9949-4764-8d0b-0ca022d61fb7
STATUS:CONFIRMED
LAST-MODIFIED:20220927T093330Z
DESCRIPTION:4. Liga Herren Gruppe 7\nBegegnungs-Nr: 0\nHeim: Gossau Zuerich\nGast: Flums IV\n\nAdresse: Schulstrasse\, 8624 Grüt-Gossau\n
LOCATION:Schulstrasse\, 8624 Grüt-Gossau
CATEGORIES:Saison 2022/23
END:VEVENT
BEGIN:VEVENT
DTSTAMP:20260426T033236Z
DTSTART;TZID=Europe/Berlin:20221107T194500
DTEND;TZID=Europe/Berlin:20221107T224500
SUMMARY:HE 4. Liga Gr. 7 Wetzikon VI vs Flums IV (0)
UID:4ff5bfd5-042d-4e16-9fd4-5fa3d4d21eff
STATUS:CONFIRMED
LAST-MODIFIED:20221108T160522Z
DESCRIPTION:4. Liga Herren Gruppe 7\nBegegnungs-Nr: 0\nHeim: Wetzikon VI\nGast: Flums IV\n\nAdresse: Usterstrasse 37\, 8620 Wetzikon\n
LOCATION:Usterstrasse 37\, 8620 Wetzikon
CATEGORIES:Saison 2022/23
END:VEVENT
BEGIN:VEVENT
DTSTAMP:20260426T033236Z
DTSTART;TZID=Europe/Berlin:20221201T201500
DTEND;TZID=Europe/Berlin:20221201T231500
SUMMARY:HE 4. Liga Gr. 7 Uster III vs Flums IV (0)
UID:33e33f9a-d881-4f6f-a2a6-474d3bc4a5a8
STATUS:CONFIRMED
LAST-MODIFIED:20221208T114223Z
DESCRIPTION:4. Liga Herren Gruppe 7\nBegegnungs-Nr: 0\nHeim: Uster III\nGast: Flums IV\n\nAdresse: Wilstrasse 30 / Zürcherstrasse\, 8610 Uster\n
LOCATION:Wilstrasse 30 / Zürcherstrasse\, 8610 Uster
CATEGORIES:Saison 2022/23
END:VEVENT
BEGIN:VEVENT
DTSTAMP:20260426T033236Z
DTSTART;TZID=Europe/Berlin:20230111T201500
DTEND;TZID=Europe/Berlin:20230111T231500
SUMMARY:HE 4. Liga Gr. 7 Young Stars ZH VIII vs Flums IV (0)
UID:292267e2-3a8d-4edf-af8c-e9d6b4439500
STATUS:CONFIRMED
LAST-MODIFIED:20230117T082330Z
DESCRIPTION:4. Liga Herren Gruppe 7\nBegegnungs-Nr: 0\nHeim: Young Stars ZH VIII\nGast: Flums IV\n\nAdresse: Seefeldstrasse 93\, 8008 Zürich\n
LOCATION:Seefeldstrasse 93\, 8008 Zürich
CATEGORIES:Saison 2022/23
END:VEVENT
BEGIN:VEVENT
DTSTAMP:20260426T033236Z
DTSTART;TZID=Europe/Berlin:20230320T200000
DTEND;TZID=Europe/Berlin:20230320T230000
SUMMARY:HE 4. Liga Gr. 7 Dübendorf-Volketswil III vs Flums IV (0)
UID:88fa89ca-4d08-4b6e-b8bf-b55086e9fbcd
STATUS:CONFIRMED
LAST-MODIFIED:20230322T140454Z
DESCRIPTION:4. Liga Herren Gruppe 7\nBegegnungs-Nr: 0\nHeim: Dübendorf-Volketswil III\nGast: Flums IV\n\nAdresse: Usterstrasse 35\, 8604 Volketswil\n
LOCATION:Usterstrasse 35\, 8604 Volketswil
CATEGORIES:Saison 2022/23
END:VEVENT
BEGIN:VEVENT
DTSTAMP:20260426T033236Z
DTSTART;TZID=Europe/Berlin:20230309T194500
DTEND;TZID=Europe/Berlin:20230309T224500
SUMMARY:HE 4. Liga Gr. 7 Meilen-Männedorf III vs Flums IV (0)
UID:0843bc20-ba2a-49f4-a926-a3c98672e164
STATUS:CONFIRMED
LAST-MODIFIED:20230310T133557Z
DESCRIPTION:4. Liga Herren Gruppe 7\nBegegnungs-Nr: 0\nHeim: Meilen-Männedorf III\nGast: Flums IV\n\nAdresse: Schulhausstr. 27\, 8706 Meilen\n
LOCATION:Schulhausstr. 27\, 8706 Meilen
CATEGORIES:Saison 2022/23
END:VEVENT
END:VCALENDAR
