BEGIN:VCALENDAR
PRODID:-//nuDatenautomaten//framework iCal4j //DE
VERSION:2.0
CALSCALE:GREGORIAN
BEGIN:VTIMEZONE
TZID:Europe/Berlin
LAST-MODIFIED:20260306T231828Z
TZURL:https://www.tzurl.org/zoneinfo/Europe/Berlin
X-LIC-LOCATION:Europe/Berlin
X-PROLEPTIC-TZNAME:LMT
BEGIN:STANDARD
TZNAME:CET
TZOFFSETFROM:+005328
TZOFFSETTO:+0100
DTSTART:18930401T000000
END:STANDARD
BEGIN:DAYLIGHT
TZNAME:CEST
TZOFFSETFROM:+0100
TZOFFSETTO:+0200
DTSTART:19160430T230000
RDATE:19400401T020000
RDATE:19430329T020000
RDATE:19460414T020000
RDATE:19470406T030000
RDATE:19480418T020000
RDATE:19490410T020000
RDATE:19800406T020000
END:DAYLIGHT
BEGIN:STANDARD
TZNAME:CET
TZOFFSETFROM:+0200
TZOFFSETTO:+0100
DTSTART:19161001T010000
RDATE:19421102T030000
RDATE:19431004T030000
RDATE:19441002T030000
RDATE:19451118T030000
RDATE:19461007T030000
END:STANDARD
BEGIN:DAYLIGHT
TZNAME:CEST
TZOFFSETFROM:+0100
TZOFFSETTO:+0200
DTSTART:19170416T020000
RRULE:FREQ=YEARLY;UNTIL=19180415T010000Z;BYMONTH=4;BYDAY=3MO
END:DAYLIGHT
BEGIN:STANDARD
TZNAME:CET
TZOFFSETFROM:+0200
TZOFFSETTO:+0100
DTSTART:19170917T030000
RRULE:FREQ=YEARLY;UNTIL=19180916T010000Z;BYMONTH=9;BYDAY=3MO
END:STANDARD
BEGIN:DAYLIGHT
TZNAME:CEST
TZOFFSETFROM:+0100
TZOFFSETTO:+0200
DTSTART:19440403T020000
RRULE:FREQ=YEARLY;UNTIL=19450402T010000Z;BYMONTH=4;BYDAY=1MO
END:DAYLIGHT
BEGIN:DAYLIGHT
TZNAME:CEMT
TZOFFSETFROM:+0200
TZOFFSETTO:+0300
DTSTART:19450524T020000
RDATE:19470511T030000
END:DAYLIGHT
BEGIN:DAYLIGHT
TZNAME:CEST
TZOFFSETFROM:+0300
TZOFFSETTO:+0200
DTSTART:19450924T030000
RDATE:19470629T030000
END:DAYLIGHT
BEGIN:STANDARD
TZNAME:CET
TZOFFSETFROM:+0100
TZOFFSETTO:+0100
DTSTART:19460101T000000
RDATE:19800101T000000
END:STANDARD
BEGIN:STANDARD
TZNAME:CET
TZOFFSETFROM:+0200
TZOFFSETTO:+0100
DTSTART:19471005T030000
RRULE:FREQ=YEARLY;UNTIL=19491002T010000Z;BYMONTH=10;BYDAY=1SU
END:STANDARD
BEGIN:STANDARD
TZNAME:CET
TZOFFSETFROM:+0200
TZOFFSETTO:+0100
DTSTART:19800928T030000
RRULE:FREQ=YEARLY;UNTIL=19950924T010000Z;BYMONTH=9;BYDAY=-1SU
END:STANDARD
BEGIN:DAYLIGHT
TZNAME:CEST
TZOFFSETFROM:+0100
TZOFFSETTO:+0200
DTSTART:19810329T020000
RRULE:FREQ=YEARLY;BYMONTH=3;BYDAY=-1SU
END:DAYLIGHT
BEGIN:STANDARD
TZNAME:CET
TZOFFSETFROM:+0200
TZOFFSETTO:+0100
DTSTART:19961027T030000
RRULE:FREQ=YEARLY;BYMONTH=10;BYDAY=-1SU
END:STANDARD
END:VTIMEZONE
BEGIN:VEVENT
DTSTAMP:20260426T034035Z
DTSTART;TZID=Europe/Berlin:20220824T201500
DTEND;TZID=Europe/Berlin:20220824T231500
SUMMARY:O40 4. Liga Gr. 3 Buchs Zürich II vs Urdorf II (0)
UID:f01e76e9-df16-4363-9d52-5b86917aaae1
STATUS:CONFIRMED
LAST-MODIFIED:20220826T074137Z
DESCRIPTION:4. Liga O40 Gruppe 3\nBegegnungs-Nr: 0\nHeim: Buchs Zürich II\nGast: Urdorf II\n
LOCATION:
CATEGORIES:Saison 2022/23
END:VEVENT
BEGIN:VEVENT
DTSTAMP:20260426T034035Z
DTSTART;TZID=Europe/Berlin:20230201T201500
DTEND;TZID=Europe/Berlin:20230201T231500
SUMMARY:O40 4. Liga Gr. 3 Buchs Zürich II vs Seebach-Kügeliloo (0)
UID:ae504950-e27e-461c-9105-74840bfc9fae
STATUS:CONFIRMED
LAST-MODIFIED:20230228T144942Z
DESCRIPTION:4. Liga O40 Gruppe 3\nBegegnungs-Nr: 0\nHeim: Buchs Zürich II\nGast: Seebach-Kügeliloo\n\nAdresse: Schulstrasse 73\, 8105 Regensdorf\n
LOCATION:Schulstrasse 73\, 8105 Regensdorf
CATEGORIES:Saison 2022/23
END:VEVENT
BEGIN:VEVENT
DTSTAMP:20260426T034035Z
DTSTART;TZID=Europe/Berlin:20230322T201500
DTEND;TZID=Europe/Berlin:20230322T231500
SUMMARY:O40 4. Liga Gr. 3 Buchs Zürich II vs Bülach III (0)
UID:8b70170b-ee16-4068-9039-05d901c422d2
STATUS:CONFIRMED
LAST-MODIFIED:20230328T113743Z
DESCRIPTION:4. Liga O40 Gruppe 3\nBegegnungs-Nr: 0\nHeim: Buchs Zürich II\nGast: Bülach III\n\nAdresse: Schulstrasse 73\, 8105 Regensdorf\n
LOCATION:Schulstrasse 73\, 8105 Regensdorf
CATEGORIES:Saison 2022/23
END:VEVENT
BEGIN:VEVENT
DTSTAMP:20260426T034035Z
DTSTART;TZID=Europe/Berlin:20230405T201500
DTEND;TZID=Europe/Berlin:20230405T231500
SUMMARY:O40 4. Liga Gr. 3 Buchs Zürich II vs Niederhasli III (0)
UID:e9159c93-7ba3-427f-aa68-8a8bfbb21ac5
STATUS:CONFIRMED
LAST-MODIFIED:20230420T120411Z
DESCRIPTION:4. Liga O40 Gruppe 3\nBegegnungs-Nr: 0\nHeim: Buchs Zürich II\nGast: Niederhasli III\n\nAdresse: Schulstrasse 73\, 8105 Regensdorf\n
LOCATION:Schulstrasse 73\, 8105 Regensdorf
CATEGORIES:Saison 2022/23
END:VEVENT
BEGIN:VEVENT
DTSTAMP:20260426T034035Z
DTSTART;TZID=Europe/Berlin:20221026T201500
DTEND;TZID=Europe/Berlin:20221026T231500
SUMMARY:O40 4. Liga Gr. 3 Buchs Zürich II vs Höngg II (0)
UID:2673a6ea-0b89-4e41-b176-65a322efe6b1
STATUS:CONFIRMED
LAST-MODIFIED:20221101T092227Z
DESCRIPTION:4. Liga O40 Gruppe 3\nBegegnungs-Nr: 0\nHeim: Buchs Zürich II\nGast: Höngg II\n\nAdresse: Schulstrasse 73\, 8105 Regensdorf\n
LOCATION:Schulstrasse 73\, 8105 Regensdorf
CATEGORIES:Saison 2022/23
END:VEVENT
BEGIN:VEVENT
DTSTAMP:20260426T034035Z
DTSTART;TZID=Europe/Berlin:20230301T200000
DTEND;TZID=Europe/Berlin:20230301T230000
SUMMARY:O40 4. Liga Gr. 3 Höngg II vs Buchs Zürich II (0)
UID:c12d55c2-e32e-46bf-962e-e93556c48bb1
STATUS:CONFIRMED
LAST-MODIFIED:20230302T155315Z
DESCRIPTION:4. Liga O40 Gruppe 3\nBegegnungs-Nr: 0\nHeim: Höngg II\nGast: Buchs Zürich II\n\nAdresse: Bläsistrasse 2\, 8049 Zürich\n
LOCATION:Bläsistrasse 2\, 8049 Zürich
CATEGORIES:Saison 2022/23
END:VEVENT
BEGIN:VEVENT
DTSTAMP:20260426T034035Z
DTSTART;TZID=Europe/Berlin:20220913T201500
DTEND;TZID=Europe/Berlin:20220913T231500
SUMMARY:O40 4. Liga Gr. 3 Seebach-Kügeliloo vs Buchs Zürich II (0)
UID:95e9d810-ef9d-41fd-9285-9993a28559d9
STATUS:CONFIRMED
LAST-MODIFIED:20220914T081515Z
DESCRIPTION:4. Liga O40 Gruppe 3\nBegegnungs-Nr: 0\nHeim: Seebach-Kügeliloo\nGast: Buchs Zürich II\n\nAdresse: Sperletweg 71\, 8052 Zürich\n
LOCATION:Sperletweg 71\, 8052 Zürich
CATEGORIES:Saison 2022/23
END:VEVENT
BEGIN:VEVENT
DTSTAMP:20260426T034035Z
DTSTART;TZID=Europe/Berlin:20221118T193000
DTEND;TZID=Europe/Berlin:20221118T223000
SUMMARY:O40 4. Liga Gr. 3 Bülach III vs Buchs Zürich II (0)
UID:58cdea82-6a25-4377-ba67-08a943a9c984
STATUS:CONFIRMED
LAST-MODIFIED:20221128T150340Z
DESCRIPTION:4. Liga O40 Gruppe 3\nBegegnungs-Nr: 0\nHeim: Bülach III\nGast: Buchs Zürich II\n\nAdresse: Schwerzgruebstrasse 28\, 8180 Bülach\n
LOCATION:Schwerzgruebstrasse 28\, 8180 Bülach
CATEGORIES:Saison 2022/23
END:VEVENT
BEGIN:VEVENT
DTSTAMP:20260426T034035Z
DTSTART;TZID=Europe/Berlin:20221205T193000
DTEND;TZID=Europe/Berlin:20221205T223000
SUMMARY:O40 4. Liga Gr. 3 Niederhasli III vs Buchs Zürich II (0)
UID:ba4855e5-e7ec-4413-8274-ca71b868b0f6
STATUS:CONFIRMED
LAST-MODIFIED:20221208T121837Z
DESCRIPTION:4. Liga O40 Gruppe 3\nBegegnungs-Nr: 0\nHeim: Niederhasli III\nGast: Buchs Zürich II\n\nAdresse: Dorfstrasse 22\, 8155 Niederhasli\n
LOCATION:Dorfstrasse 22\, 8155 Niederhasli
CATEGORIES:Saison 2022/23
END:VEVENT
BEGIN:VEVENT
DTSTAMP:20260426T034035Z
DTSTART;TZID=Europe/Berlin:20230116T201500
DTEND;TZID=Europe/Berlin:20230116T231500
SUMMARY:O40 4. Liga Gr. 3 Urdorf II vs Buchs Zürich II (0)
UID:fd7fa180-7400-44c8-9095-66867b54b54a
STATUS:CONFIRMED
LAST-MODIFIED:20230117T083649Z
DESCRIPTION:4. Liga O40 Gruppe 3\nBegegnungs-Nr: 0\nHeim: Urdorf II\nGast: Buchs Zürich II\n\nAdresse: Weihermattstrasse 50\, 8902 Urdorf\n
LOCATION:Weihermattstrasse 50\, 8902 Urdorf
CATEGORIES:Saison 2022/23
END:VEVENT
END:VCALENDAR
