BEGIN:VCALENDAR
PRODID:-//nuDatenautomaten//framework iCal4j //DE
VERSION:2.0
CALSCALE:GREGORIAN
BEGIN:VTIMEZONE
TZID:Europe/Berlin
LAST-MODIFIED:20260306T231828Z
TZURL:https://www.tzurl.org/zoneinfo/Europe/Berlin
X-LIC-LOCATION:Europe/Berlin
X-PROLEPTIC-TZNAME:LMT
BEGIN:STANDARD
TZNAME:CET
TZOFFSETFROM:+005328
TZOFFSETTO:+0100
DTSTART:18930401T000000
END:STANDARD
BEGIN:DAYLIGHT
TZNAME:CEST
TZOFFSETFROM:+0100
TZOFFSETTO:+0200
DTSTART:19160430T230000
RDATE:19400401T020000
RDATE:19430329T020000
RDATE:19460414T020000
RDATE:19470406T030000
RDATE:19480418T020000
RDATE:19490410T020000
RDATE:19800406T020000
END:DAYLIGHT
BEGIN:STANDARD
TZNAME:CET
TZOFFSETFROM:+0200
TZOFFSETTO:+0100
DTSTART:19161001T010000
RDATE:19421102T030000
RDATE:19431004T030000
RDATE:19441002T030000
RDATE:19451118T030000
RDATE:19461007T030000
END:STANDARD
BEGIN:DAYLIGHT
TZNAME:CEST
TZOFFSETFROM:+0100
TZOFFSETTO:+0200
DTSTART:19170416T020000
RRULE:FREQ=YEARLY;UNTIL=19180415T010000Z;BYMONTH=4;BYDAY=3MO
END:DAYLIGHT
BEGIN:STANDARD
TZNAME:CET
TZOFFSETFROM:+0200
TZOFFSETTO:+0100
DTSTART:19170917T030000
RRULE:FREQ=YEARLY;UNTIL=19180916T010000Z;BYMONTH=9;BYDAY=3MO
END:STANDARD
BEGIN:DAYLIGHT
TZNAME:CEST
TZOFFSETFROM:+0100
TZOFFSETTO:+0200
DTSTART:19440403T020000
RRULE:FREQ=YEARLY;UNTIL=19450402T010000Z;BYMONTH=4;BYDAY=1MO
END:DAYLIGHT
BEGIN:DAYLIGHT
TZNAME:CEMT
TZOFFSETFROM:+0200
TZOFFSETTO:+0300
DTSTART:19450524T020000
RDATE:19470511T030000
END:DAYLIGHT
BEGIN:DAYLIGHT
TZNAME:CEST
TZOFFSETFROM:+0300
TZOFFSETTO:+0200
DTSTART:19450924T030000
RDATE:19470629T030000
END:DAYLIGHT
BEGIN:STANDARD
TZNAME:CET
TZOFFSETFROM:+0100
TZOFFSETTO:+0100
DTSTART:19460101T000000
RDATE:19800101T000000
END:STANDARD
BEGIN:STANDARD
TZNAME:CET
TZOFFSETFROM:+0200
TZOFFSETTO:+0100
DTSTART:19471005T030000
RRULE:FREQ=YEARLY;UNTIL=19491002T010000Z;BYMONTH=10;BYDAY=1SU
END:STANDARD
BEGIN:STANDARD
TZNAME:CET
TZOFFSETFROM:+0200
TZOFFSETTO:+0100
DTSTART:19800928T030000
RRULE:FREQ=YEARLY;UNTIL=19950924T010000Z;BYMONTH=9;BYDAY=-1SU
END:STANDARD
BEGIN:DAYLIGHT
TZNAME:CEST
TZOFFSETFROM:+0100
TZOFFSETTO:+0200
DTSTART:19810329T020000
RRULE:FREQ=YEARLY;BYMONTH=3;BYDAY=-1SU
END:DAYLIGHT
BEGIN:STANDARD
TZNAME:CET
TZOFFSETFROM:+0200
TZOFFSETTO:+0100
DTSTART:19961027T030000
RRULE:FREQ=YEARLY;BYMONTH=10;BYDAY=-1SU
END:STANDARD
END:VTIMEZONE
BEGIN:VEVENT
DTSTAMP:20260424T155421Z
DTSTART;TZID=Europe/Berlin:20220824T193000
DTEND;TZID=Europe/Berlin:20220824T223000
SUMMARY:HE 3. Liga Gr. 3 Kloten vs Dübendorf-Volketswil II (0)
UID:a14bb470-6e0b-4bb3-9412-904c18196036
STATUS:CONFIRMED
LAST-MODIFIED:20230106T152031Z
DESCRIPTION:3. Liga Herren Gruppe 3\nBegegnungs-Nr: 0\nHeim: Kloten\nGast: Dübendorf-Volketswil II\n\nAdresse: Schluefweg 10\, 8302 Kloten\n
LOCATION:Schluefweg 10\, 8302 Kloten
CATEGORIES:Saison 2022/23
END:VEVENT
BEGIN:VEVENT
DTSTAMP:20260424T155421Z
DTSTART;TZID=Europe/Berlin:20220921T193000
DTEND;TZID=Europe/Berlin:20220921T223000
SUMMARY:HE 3. Liga Gr. 3 Kloten vs Pinguin Zürich (0)
UID:e0cd28d4-8c61-425b-a9a4-45d0245dcd26
STATUS:CONFIRMED
LAST-MODIFIED:20230106T152031Z
DESCRIPTION:3. Liga Herren Gruppe 3\nBegegnungs-Nr: 0\nHeim: Kloten\nGast: Pinguin Zürich\n\nAdresse: Schluefweg 10\, 8302 Kloten\n
LOCATION:Schluefweg 10\, 8302 Kloten
CATEGORIES:Saison 2022/23
END:VEVENT
BEGIN:VEVENT
DTSTAMP:20260424T155421Z
DTSTART;TZID=Europe/Berlin:20221130T193000
DTEND;TZID=Europe/Berlin:20221130T223000
SUMMARY:HE 3. Liga Gr. 3 Kloten vs Wetzikon V (0)
UID:ee34b61b-b837-4ffc-8e1d-7416b7927dbe
STATUS:CONFIRMED
LAST-MODIFIED:20230106T152032Z
DESCRIPTION:3. Liga Herren Gruppe 3\nBegegnungs-Nr: 0\nHeim: Kloten\nGast: Wetzikon V\n\nAdresse: Schluefweg 10\, 8302 Kloten\n
LOCATION:Schluefweg 10\, 8302 Kloten
CATEGORIES:Saison 2022/23
END:VEVENT
BEGIN:VEVENT
DTSTAMP:20260424T155421Z
DTSTART;TZID=Europe/Berlin:20221019T193000
DTEND;TZID=Europe/Berlin:20221019T223000
SUMMARY:HE 3. Liga Gr. 3 Kloten vs Bülach II (0)
UID:b3eced8e-4a1e-4cc2-842c-58ffb07c2725
STATUS:CONFIRMED
LAST-MODIFIED:20230106T152032Z
DESCRIPTION:3. Liga Herren Gruppe 3\nBegegnungs-Nr: 0\nHeim: Kloten\nGast: Bülach II\n\nAdresse: Schluefweg 10\, 8302 Kloten\n
LOCATION:Schluefweg 10\, 8302 Kloten
CATEGORIES:Saison 2022/23
END:VEVENT
BEGIN:VEVENT
DTSTAMP:20260424T155421Z
DTSTART;TZID=Europe/Berlin:20230125T193000
DTEND;TZID=Europe/Berlin:20230125T223000
SUMMARY:HE 3. Liga Gr. 3 Kloten vs Young Stars ZH V (0)
UID:02786eb3-bea4-4ba6-8fb8-09a517c8a51d
STATUS:CONFIRMED
LAST-MODIFIED:20230127T161346Z
DESCRIPTION:3. Liga Herren Gruppe 3\nBegegnungs-Nr: 0\nHeim: Kloten\nGast: Young Stars ZH V\n\nAdresse: Schluefweg 10\, 8302 Kloten\n
LOCATION:Schluefweg 10\, 8302 Kloten
CATEGORIES:Saison 2022/23
END:VEVENT
BEGIN:VEVENT
DTSTAMP:20260424T155421Z
DTSTART;TZID=Europe/Berlin:20230222T193000
DTEND;TZID=Europe/Berlin:20230222T223000
SUMMARY:HE 3. Liga Gr. 3 Kloten vs Bülach II (0)
UID:c012096b-8195-4c44-92a2-865bf0d21967
STATUS:CONFIRMED
LAST-MODIFIED:20230223T092756Z
DESCRIPTION:3. Liga Herren Gruppe 3\nBegegnungs-Nr: 0\nHeim: Kloten\nGast: Bülach II\n\nAdresse: Schluefweg 10\, 8302 Kloten\n
LOCATION:Schluefweg 10\, 8302 Kloten
CATEGORIES:Saison 2022/23
END:VEVENT
BEGIN:VEVENT
DTSTAMP:20260424T155421Z
DTSTART;TZID=Europe/Berlin:20230322T193000
DTEND;TZID=Europe/Berlin:20230322T223000
SUMMARY:HE 3. Liga Gr. 3 Kloten vs Embrachertal (0)
UID:6ac184bd-8c8d-4009-8979-7f6bde7786ce
STATUS:CONFIRMED
LAST-MODIFIED:20230327T081924Z
DESCRIPTION:3. Liga Herren Gruppe 3\nBegegnungs-Nr: 0\nHeim: Kloten\nGast: Embrachertal\n\nAdresse: Schluefweg 10\, 8302 Kloten\n
LOCATION:Schluefweg 10\, 8302 Kloten
CATEGORIES:Saison 2022/23
END:VEVENT
BEGIN:VEVENT
DTSTAMP:20260424T155421Z
DTSTART;TZID=Europe/Berlin:20230315T193000
DTEND;TZID=Europe/Berlin:20230315T223000
SUMMARY:HE 3. Liga Gr. 3 Kloten vs Zürich-Affoltern IV (0)
UID:3d20e81c-47c5-46f7-9706-23f0e43051d7
STATUS:CONFIRMED
LAST-MODIFIED:20230316T090220Z
DESCRIPTION:3. Liga Herren Gruppe 3\nBegegnungs-Nr: 0\nHeim: Kloten\nGast: Zürich-Affoltern IV\n\nAdresse: Schluefweg 10\, 8302 Kloten\n
LOCATION:Schluefweg 10\, 8302 Kloten
CATEGORIES:Saison 2022/23
END:VEVENT
BEGIN:VEVENT
DTSTAMP:20260424T155421Z
DTSTART;TZID=Europe/Berlin:20221005T201500
DTEND;TZID=Europe/Berlin:20221005T231500
SUMMARY:HE 3. Liga Gr. 3 Young Stars ZH V vs Kloten (0)
UID:0a924f6a-6d69-4fd2-9b8b-4704d98dd4d2
STATUS:CONFIRMED
LAST-MODIFIED:20230106T152031Z
DESCRIPTION:3. Liga Herren Gruppe 3\nBegegnungs-Nr: 0\nHeim: Young Stars ZH V\nGast: Kloten\n\nAdresse: Seefeldstrasse 93\, 8008 Zürich\n
LOCATION:Seefeldstrasse 93\, 8008 Zürich
CATEGORIES:Saison 2022/23
END:VEVENT
BEGIN:VEVENT
DTSTAMP:20260424T155421Z
DTSTART;TZID=Europe/Berlin:20221101T200000
DTEND;TZID=Europe/Berlin:20221101T230000
SUMMARY:HE 3. Liga Gr. 3 Embrachertal vs Kloten (0)
UID:f3ec3ea1-3f4a-46d1-b34b-9ac207cdd46a
STATUS:CONFIRMED
LAST-MODIFIED:20230106T152031Z
DESCRIPTION:3. Liga Herren Gruppe 3\nBegegnungs-Nr: 0\nHeim: Embrachertal\nGast: Kloten\n\nAdresse: Hintermarchlenstrasse 31 + 33\, 8426 Lufingen\n
LOCATION:Hintermarchlenstrasse 31 + 33\, 8426 Lufingen
CATEGORIES:Saison 2022/23
END:VEVENT
BEGIN:VEVENT
DTSTAMP:20260424T155421Z
DTSTART;TZID=Europe/Berlin:20230110T201500
DTEND;TZID=Europe/Berlin:20230110T231500
SUMMARY:HE 3. Liga Gr. 3 Dübendorf-Volketswil II vs Kloten (0)
UID:6d420d6b-c4f1-4327-b115-cc523de41104
STATUS:CONFIRMED
LAST-MODIFIED:20230112T110905Z
DESCRIPTION:3. Liga Herren Gruppe 3\nBegegnungs-Nr: 0\nHeim: Dübendorf-Volketswil II\nGast: Kloten\n\nAdresse: Dübendorfstrasse 46\, 8602 Wangen ZH\n
LOCATION:Dübendorfstrasse 46\, 8602 Wangen ZH
CATEGORIES:Saison 2022/23
END:VEVENT
BEGIN:VEVENT
DTSTAMP:20260424T155421Z
DTSTART;TZID=Europe/Berlin:20230210T193000
DTEND;TZID=Europe/Berlin:20230210T223000
SUMMARY:HE 3. Liga Gr. 3 Pinguin Zürich vs Kloten (0)
UID:d65ee4f6-8c07-4e65-a4be-551afe0c42b8
STATUS:CONFIRMED
LAST-MODIFIED:20230215T123912Z
DESCRIPTION:3. Liga Herren Gruppe 3\nBegegnungs-Nr: 0\nHeim: Pinguin Zürich\nGast: Kloten\n\nAdresse: Basteiplatz\, 8001 Zürich\n
LOCATION:Basteiplatz\, 8001 Zürich
CATEGORIES:Saison 2022/23
END:VEVENT
BEGIN:VEVENT
DTSTAMP:20260424T155421Z
DTSTART;TZID=Europe/Berlin:20230320T194500
DTEND;TZID=Europe/Berlin:20230320T224500
SUMMARY:HE 3. Liga Gr. 3 Wetzikon V vs Kloten (0)
UID:ba08f6d8-6f9e-467f-a74a-b4f0be477e90
STATUS:CONFIRMED
LAST-MODIFIED:20230322T134218Z
DESCRIPTION:3. Liga Herren Gruppe 3\nBegegnungs-Nr: 0\nHeim: Wetzikon V\nGast: Kloten\n\nAdresse: Usterstrasse 37\, 8620 Wetzikon\n
LOCATION:Usterstrasse 37\, 8620 Wetzikon
CATEGORIES:Saison 2022/23
END:VEVENT
BEGIN:VEVENT
DTSTAMP:20260424T155421Z
DTSTART;TZID=Europe/Berlin:20221109T201500
DTEND;TZID=Europe/Berlin:20221109T231500
SUMMARY:HE 3. Liga Gr. 3 Zürich-Affoltern IV vs Kloten (0)
UID:6da9736e-f966-4b57-8527-2b55f6ad02ea
STATUS:CONFIRMED
LAST-MODIFIED:20230106T152032Z
DESCRIPTION:3. Liga Herren Gruppe 3\nBegegnungs-Nr: 0\nHeim: Zürich-Affoltern IV\nGast: Kloten\n\nAdresse: Rümlangstr. 89\, 8052 Zürich\n
LOCATION:Rümlangstr. 89\, 8052 Zürich
CATEGORIES:Saison 2022/23
END:VEVENT
END:VCALENDAR
