BEGIN:VCALENDAR
PRODID:-//nuDatenautomaten//framework iCal4j //DE
VERSION:2.0
CALSCALE:GREGORIAN
BEGIN:VTIMEZONE
TZID:Europe/Berlin
LAST-MODIFIED:20260306T231828Z
TZURL:https://www.tzurl.org/zoneinfo/Europe/Berlin
X-LIC-LOCATION:Europe/Berlin
X-PROLEPTIC-TZNAME:LMT
BEGIN:STANDARD
TZNAME:CET
TZOFFSETFROM:+005328
TZOFFSETTO:+0100
DTSTART:18930401T000000
END:STANDARD
BEGIN:DAYLIGHT
TZNAME:CEST
TZOFFSETFROM:+0100
TZOFFSETTO:+0200
DTSTART:19160430T230000
RDATE:19400401T020000
RDATE:19430329T020000
RDATE:19460414T020000
RDATE:19470406T030000
RDATE:19480418T020000
RDATE:19490410T020000
RDATE:19800406T020000
END:DAYLIGHT
BEGIN:STANDARD
TZNAME:CET
TZOFFSETFROM:+0200
TZOFFSETTO:+0100
DTSTART:19161001T010000
RDATE:19421102T030000
RDATE:19431004T030000
RDATE:19441002T030000
RDATE:19451118T030000
RDATE:19461007T030000
END:STANDARD
BEGIN:DAYLIGHT
TZNAME:CEST
TZOFFSETFROM:+0100
TZOFFSETTO:+0200
DTSTART:19170416T020000
RRULE:FREQ=YEARLY;UNTIL=19180415T010000Z;BYMONTH=4;BYDAY=3MO
END:DAYLIGHT
BEGIN:STANDARD
TZNAME:CET
TZOFFSETFROM:+0200
TZOFFSETTO:+0100
DTSTART:19170917T030000
RRULE:FREQ=YEARLY;UNTIL=19180916T010000Z;BYMONTH=9;BYDAY=3MO
END:STANDARD
BEGIN:DAYLIGHT
TZNAME:CEST
TZOFFSETFROM:+0100
TZOFFSETTO:+0200
DTSTART:19440403T020000
RRULE:FREQ=YEARLY;UNTIL=19450402T010000Z;BYMONTH=4;BYDAY=1MO
END:DAYLIGHT
BEGIN:DAYLIGHT
TZNAME:CEMT
TZOFFSETFROM:+0200
TZOFFSETTO:+0300
DTSTART:19450524T020000
RDATE:19470511T030000
END:DAYLIGHT
BEGIN:DAYLIGHT
TZNAME:CEST
TZOFFSETFROM:+0300
TZOFFSETTO:+0200
DTSTART:19450924T030000
RDATE:19470629T030000
END:DAYLIGHT
BEGIN:STANDARD
TZNAME:CET
TZOFFSETFROM:+0100
TZOFFSETTO:+0100
DTSTART:19460101T000000
RDATE:19800101T000000
END:STANDARD
BEGIN:STANDARD
TZNAME:CET
TZOFFSETFROM:+0200
TZOFFSETTO:+0100
DTSTART:19471005T030000
RRULE:FREQ=YEARLY;UNTIL=19491002T010000Z;BYMONTH=10;BYDAY=1SU
END:STANDARD
BEGIN:STANDARD
TZNAME:CET
TZOFFSETFROM:+0200
TZOFFSETTO:+0100
DTSTART:19800928T030000
RRULE:FREQ=YEARLY;UNTIL=19950924T010000Z;BYMONTH=9;BYDAY=-1SU
END:STANDARD
BEGIN:DAYLIGHT
TZNAME:CEST
TZOFFSETFROM:+0100
TZOFFSETTO:+0200
DTSTART:19810329T020000
RRULE:FREQ=YEARLY;BYMONTH=3;BYDAY=-1SU
END:DAYLIGHT
BEGIN:STANDARD
TZNAME:CET
TZOFFSETFROM:+0200
TZOFFSETTO:+0100
DTSTART:19961027T030000
RRULE:FREQ=YEARLY;BYMONTH=10;BYDAY=-1SU
END:STANDARD
END:VTIMEZONE
BEGIN:VEVENT
DTSTAMP:20260426T043737Z
DTSTART;TZID=Europe/Berlin:20220829T200000
DTEND;TZID=Europe/Berlin:20220829T230000
SUMMARY:HE 5. Liga Gr. 8 Buchs St.Gallen vs Triesen III (0)
UID:576af171-d5f0-4c43-a02e-74ca89fc496c
STATUS:CONFIRMED
LAST-MODIFIED:20220831T124130Z
DESCRIPTION:5. Liga Herren Gruppe 8\nBegegnungs-Nr: 0\nHeim: Buchs St.Gallen\nGast: Triesen III\n\nAdresse: Hanflandstrasse 17\, 9470 Buchs SG\n
LOCATION:Hanflandstrasse 17\, 9470 Buchs SG
CATEGORIES:Saison 2022/23
END:VEVENT
BEGIN:VEVENT
DTSTAMP:20260426T043737Z
DTSTART;TZID=Europe/Berlin:20221107T200000
DTEND;TZID=Europe/Berlin:20221107T230000
SUMMARY:HE 5. Liga Gr. 8 Buchs St.Gallen vs Flums V (0)
UID:fc0fcada-e254-4948-bd4d-a11c84cab7e8
STATUS:CONFIRMED
LAST-MODIFIED:20221108T162437Z
DESCRIPTION:5. Liga Herren Gruppe 8\nBegegnungs-Nr: 0\nHeim: Buchs St.Gallen\nGast: Flums V\n\nAdresse: Hanflandstrasse 17\, 9470 Buchs SG\n
LOCATION:Hanflandstrasse 17\, 9470 Buchs SG
CATEGORIES:Saison 2022/23
END:VEVENT
BEGIN:VEVENT
DTSTAMP:20260426T043737Z
DTSTART;TZID=Europe/Berlin:20230123T200000
DTEND;TZID=Europe/Berlin:20230123T230000
SUMMARY:HE 5. Liga Gr. 8 Buchs St.Gallen vs Chur VI (0)
UID:da2cc011-8933-4be1-b53f-277dae2fea18
STATUS:CONFIRMED
LAST-MODIFIED:20230127T162641Z
DESCRIPTION:5. Liga Herren Gruppe 8\nBegegnungs-Nr: 0\nHeim: Buchs St.Gallen\nGast: Chur VI\n\nAdresse: Hanflandstrasse 17\, 9470 Buchs SG\n
LOCATION:Hanflandstrasse 17\, 9470 Buchs SG
CATEGORIES:Saison 2022/23
END:VEVENT
BEGIN:VEVENT
DTSTAMP:20260426T043737Z
DTSTART;TZID=Europe/Berlin:20230116T200000
DTEND;TZID=Europe/Berlin:20230116T230000
SUMMARY:HE 5. Liga Gr. 8 Buchs St.Gallen vs Schaan-Eschen/Mauren II (0)
UID:bcb82d6b-9616-4269-9935-6dbe5ba361a4
STATUS:CONFIRMED
LAST-MODIFIED:20230127T162633Z
DESCRIPTION:5. Liga Herren Gruppe 8\nBegegnungs-Nr: 0\nHeim: Buchs St.Gallen\nGast: Schaan-Eschen/Mauren II\n\nAdresse: Hanflandstrasse 17\, 9470 Buchs SG\n
LOCATION:Hanflandstrasse 17\, 9470 Buchs SG
CATEGORIES:Saison 2022/23
END:VEVENT
BEGIN:VEVENT
DTSTAMP:20260426T043737Z
DTSTART;TZID=Europe/Berlin:20230306T200000
DTEND;TZID=Europe/Berlin:20230306T230000
SUMMARY:HE 5. Liga Gr. 8 Buchs St.Gallen vs Chur V (0)
UID:e972ac0d-db5e-47f7-97f4-51e4d3d9f5ce
STATUS:CONFIRMED
LAST-MODIFIED:20230307T102029Z
DESCRIPTION:5. Liga Herren Gruppe 8\nBegegnungs-Nr: 0\nHeim: Buchs St.Gallen\nGast: Chur V\n\nAdresse: Hanflandstrasse 17\, 9470 Buchs SG\n
LOCATION:Hanflandstrasse 17\, 9470 Buchs SG
CATEGORIES:Saison 2022/23
END:VEVENT
BEGIN:VEVENT
DTSTAMP:20260426T043737Z
DTSTART;TZID=Europe/Berlin:20221205T200000
DTEND;TZID=Europe/Berlin:20221205T230000
SUMMARY:HE 5. Liga Gr. 8 Buchs St.Gallen vs Balzers II (0)
UID:715d2a47-22d9-4408-8c87-344d1cc66d40
STATUS:CONFIRMED
LAST-MODIFIED:20221208T114521Z
DESCRIPTION:5. Liga Herren Gruppe 8\nBegegnungs-Nr: 0\nHeim: Buchs St.Gallen\nGast: Balzers II\n\nAdresse: Hanflandstrasse 17\, 9470 Buchs SG\n
LOCATION:Hanflandstrasse 17\, 9470 Buchs SG
CATEGORIES:Saison 2022/23
END:VEVENT
BEGIN:VEVENT
DTSTAMP:20260426T043737Z
DTSTART;TZID=Europe/Berlin:20230522T200000
DTEND;TZID=Europe/Berlin:20230522T230000
SUMMARY:HE 5.Liga Aufstieg 2. Rd. Buchs St.Gallen vs Bülach IV (517)
UID:b6e9b611-392a-4706-890e-6633984f7b39
STATUS:CONFIRMED
LAST-MODIFIED:20230601T112940Z
DESCRIPTION:5. Liga Herren  Aufstieg 2. Runde\nBegegnungs-Nr: 517\nHeim: Buchs St.Gallen\nGast: Bülach IV\n\nAdresse: Hanflandstrasse 17\, 9470 Buchs SG\n
LOCATION:Hanflandstrasse 17\, 9470 Buchs SG
CATEGORIES:Saison 2022/23
END:VEVENT
BEGIN:VEVENT
DTSTAMP:20260426T043737Z
DTSTART;TZID=Europe/Berlin:20220908T200000
DTEND;TZID=Europe/Berlin:20220908T230000
SUMMARY:HE 5. Liga Gr. 8 Chur VI vs Buchs St.Gallen (0)
UID:09046da9-24a7-4c0a-a9ed-9f03bee2086a
STATUS:CONFIRMED
LAST-MODIFIED:20220909T132233Z
DESCRIPTION:5. Liga Herren Gruppe 8\nBegegnungs-Nr: 0\nHeim: Chur VI\nGast: Buchs St.Gallen\n\nAdresse: Sandstr. 35\, 7000 Chur\n
LOCATION:Sandstr. 35\, 7000 Chur
CATEGORIES:Saison 2022/23
END:VEVENT
BEGIN:VEVENT
DTSTAMP:20260426T043737Z
DTSTART;TZID=Europe/Berlin:20221111T200000
DTEND;TZID=Europe/Berlin:20221111T230000
SUMMARY:HE 5. Liga Gr. 8 Chur V vs Buchs St.Gallen (0)
UID:fe319397-9828-49a8-80e1-dff72c5eb3be
STATUS:CONFIRMED
LAST-MODIFIED:20221118T151926Z
DESCRIPTION:5. Liga Herren Gruppe 8\nBegegnungs-Nr: 0\nHeim: Chur V\nGast: Buchs St.Gallen\n\nAdresse: Bodmerstrasse 10\, 7000 Chur\n
LOCATION:Bodmerstrasse 10\, 7000 Chur
CATEGORIES:Saison 2022/23
END:VEVENT
BEGIN:VEVENT
DTSTAMP:20260426T043737Z
DTSTART;TZID=Europe/Berlin:20230113T194500
DTEND;TZID=Europe/Berlin:20230113T224500
SUMMARY:HE 5. Liga Gr. 8 Triesen III vs Buchs St.Gallen (0)
UID:bf80f0ec-bbf7-42d5-971e-e321caab1cae
STATUS:CONFIRMED
LAST-MODIFIED:20230127T162613Z
DESCRIPTION:5. Liga Herren Gruppe 8\nBegegnungs-Nr: 0\nHeim: Triesen III\nGast: Buchs St.Gallen\n\nAdresse: Gässle 12\, 9495 Triesen\n
LOCATION:Gässle 12\, 9495 Triesen
CATEGORIES:Saison 2022/23
END:VEVENT
BEGIN:VEVENT
DTSTAMP:20260426T043737Z
DTSTART;TZID=Europe/Berlin:20230327T200000
DTEND;TZID=Europe/Berlin:20230327T230000
SUMMARY:HE 5. Liga Gr. 8 Balzers II vs Buchs St.Gallen (0)
UID:5367a080-12e3-42d5-bab3-b1387dca33b8
STATUS:CONFIRMED
LAST-MODIFIED:20230329T093531Z
DESCRIPTION:5. Liga Herren Gruppe 8\nBegegnungs-Nr: 0\nHeim: Balzers II\nGast: Buchs St.Gallen\n\nAdresse: Gnetsch 41\, 9496 Balzers\n
LOCATION:Gnetsch 41\, 9496 Balzers
CATEGORIES:Saison 2022/23
END:VEVENT
BEGIN:VEVENT
DTSTAMP:20260426T043737Z
DTSTART;TZID=Europe/Berlin:20230313T201500
DTEND;TZID=Europe/Berlin:20230313T231500
SUMMARY:HE 5. Liga Gr. 8 Flums V vs Buchs St.Gallen (0)
UID:357d59ca-9d24-4395-911f-b82dac9aa39a
STATUS:CONFIRMED
LAST-MODIFIED:20230316T094641Z
DESCRIPTION:5. Liga Herren Gruppe 8\nBegegnungs-Nr: 0\nHeim: Flums V\nGast: Buchs St.Gallen\n\nAdresse: Bergstrasse\, 8890 Flums\n
LOCATION:Bergstrasse\, 8890 Flums
CATEGORIES:Saison 2022/23
END:VEVENT
BEGIN:VEVENT
DTSTAMP:20260426T043737Z
DTSTART;TZID=Europe/Berlin:20221122T200000
DTEND;TZID=Europe/Berlin:20221122T230000
SUMMARY:HE 5. Liga Gr. 8 Schaan-Eschen/Mauren II vs Buchs St.Gallen (0)
UID:ea851612-c9d8-45b2-9291-66c3e95d316f
STATUS:CONFIRMED
LAST-MODIFIED:20221128T100149Z
DESCRIPTION:5. Liga Herren Gruppe 8\nBegegnungs-Nr: 0\nHeim: Schaan-Eschen/Mauren II\nGast: Buchs St.Gallen\n\nAdresse: Simsgasse 10\, 9492 Eschen\n
LOCATION:Simsgasse 10\, 9492 Eschen
CATEGORIES:Saison 2022/23
END:VEVENT
BEGIN:VEVENT
DTSTAMP:20260426T043737Z
DTSTART;TZID=Europe/Berlin:20230505T200000
DTEND;TZID=Europe/Berlin:20230505T230000
SUMMARY:HE 5. Liga Aufstieg Horgen IV vs Buchs St.Gallen (514)
UID:cd415ab3-ff92-4ca6-bf3a-5106ba98e32a
STATUS:CONFIRMED
LAST-MODIFIED:20230510T122530Z
DESCRIPTION:5. Liga Herren Aufstieg\nBegegnungs-Nr: 514\nHeim: Horgen IV\nGast: Buchs St.Gallen\n
LOCATION:
CATEGORIES:Saison 2022/23
END:VEVENT
BEGIN:VEVENT
DTSTAMP:20260426T043737Z
DTSTART;TZID=Europe/Berlin:20230530T201500
DTEND;TZID=Europe/Berlin:20230530T231500
SUMMARY:HE 5.Liga Aufstieg 2. Rd. Weinfelden II vs Buchs St.Gallen (515)
UID:575c2d8d-a039-41fa-8178-84f24e8359e1
STATUS:CONFIRMED
LAST-MODIFIED:20230601T112954Z
DESCRIPTION:5. Liga Herren  Aufstieg 2. Runde\nBegegnungs-Nr: 515\nHeim: Weinfelden II\nGast: Buchs St.Gallen\n\nAdresse: Bleichestrasse 3 (neben Hallenbad)\, 8570 Weinfelden\n
LOCATION:Bleichestrasse 3 (neben Hallenbad)\, 8570 Weinfelden
CATEGORIES:Saison 2022/23
END:VEVENT
END:VCALENDAR
