BEGIN:VCALENDAR
PRODID:-//nuDatenautomaten//framework iCal4j //DE
VERSION:2.0
CALSCALE:GREGORIAN
BEGIN:VTIMEZONE
TZID:Europe/Berlin
LAST-MODIFIED:20260306T231828Z
TZURL:https://www.tzurl.org/zoneinfo/Europe/Berlin
X-LIC-LOCATION:Europe/Berlin
X-PROLEPTIC-TZNAME:LMT
BEGIN:STANDARD
TZNAME:CET
TZOFFSETFROM:+005328
TZOFFSETTO:+0100
DTSTART:18930401T000000
END:STANDARD
BEGIN:DAYLIGHT
TZNAME:CEST
TZOFFSETFROM:+0100
TZOFFSETTO:+0200
DTSTART:19160430T230000
RDATE:19400401T020000
RDATE:19430329T020000
RDATE:19460414T020000
RDATE:19470406T030000
RDATE:19480418T020000
RDATE:19490410T020000
RDATE:19800406T020000
END:DAYLIGHT
BEGIN:STANDARD
TZNAME:CET
TZOFFSETFROM:+0200
TZOFFSETTO:+0100
DTSTART:19161001T010000
RDATE:19421102T030000
RDATE:19431004T030000
RDATE:19441002T030000
RDATE:19451118T030000
RDATE:19461007T030000
END:STANDARD
BEGIN:DAYLIGHT
TZNAME:CEST
TZOFFSETFROM:+0100
TZOFFSETTO:+0200
DTSTART:19170416T020000
RRULE:FREQ=YEARLY;UNTIL=19180415T010000Z;BYMONTH=4;BYDAY=3MO
END:DAYLIGHT
BEGIN:STANDARD
TZNAME:CET
TZOFFSETFROM:+0200
TZOFFSETTO:+0100
DTSTART:19170917T030000
RRULE:FREQ=YEARLY;UNTIL=19180916T010000Z;BYMONTH=9;BYDAY=3MO
END:STANDARD
BEGIN:DAYLIGHT
TZNAME:CEST
TZOFFSETFROM:+0100
TZOFFSETTO:+0200
DTSTART:19440403T020000
RRULE:FREQ=YEARLY;UNTIL=19450402T010000Z;BYMONTH=4;BYDAY=1MO
END:DAYLIGHT
BEGIN:DAYLIGHT
TZNAME:CEMT
TZOFFSETFROM:+0200
TZOFFSETTO:+0300
DTSTART:19450524T020000
RDATE:19470511T030000
END:DAYLIGHT
BEGIN:DAYLIGHT
TZNAME:CEST
TZOFFSETFROM:+0300
TZOFFSETTO:+0200
DTSTART:19450924T030000
RDATE:19470629T030000
END:DAYLIGHT
BEGIN:STANDARD
TZNAME:CET
TZOFFSETFROM:+0100
TZOFFSETTO:+0100
DTSTART:19460101T000000
RDATE:19800101T000000
END:STANDARD
BEGIN:STANDARD
TZNAME:CET
TZOFFSETFROM:+0200
TZOFFSETTO:+0100
DTSTART:19471005T030000
RRULE:FREQ=YEARLY;UNTIL=19491002T010000Z;BYMONTH=10;BYDAY=1SU
END:STANDARD
BEGIN:STANDARD
TZNAME:CET
TZOFFSETFROM:+0200
TZOFFSETTO:+0100
DTSTART:19800928T030000
RRULE:FREQ=YEARLY;UNTIL=19950924T010000Z;BYMONTH=9;BYDAY=-1SU
END:STANDARD
BEGIN:DAYLIGHT
TZNAME:CEST
TZOFFSETFROM:+0100
TZOFFSETTO:+0200
DTSTART:19810329T020000
RRULE:FREQ=YEARLY;BYMONTH=3;BYDAY=-1SU
END:DAYLIGHT
BEGIN:STANDARD
TZNAME:CET
TZOFFSETFROM:+0200
TZOFFSETTO:+0100
DTSTART:19961027T030000
RRULE:FREQ=YEARLY;BYMONTH=10;BYDAY=-1SU
END:STANDARD
END:VTIMEZONE
BEGIN:VEVENT
DTSTAMP:20260421T202826Z
DTSTART;TZID=Europe/Berlin:20230311T140000
DTEND;TZID=Europe/Berlin:20230311T170000
SUMMARY:HE 3. Liga Gr. 2 Burgdorf VI vs Langnau (14)
UID:fa75488a-b724-4913-b3be-bf8e6cf46b66
STATUS:CONFIRMED
LAST-MODIFIED:20230311T210853Z
DESCRIPTION:3. Liga Herren Gruppe 2\nBegegnungs-Nr: 14\nHeim: Burgdorf VI\nGast: Langnau\n\nAdresse: Pestalozzistrasse 69\, 3400 Burgdorf\n
LOCATION:Pestalozzistrasse 69\, 3400 Burgdorf
CATEGORIES:Saison 2022/23
END:VEVENT
BEGIN:VEVENT
DTSTAMP:20260421T202826Z
DTSTART;TZID=Europe/Berlin:20230318T160000
DTEND;TZID=Europe/Berlin:20230318T190000
SUMMARY:HE 3. Liga Gr. 2 Burgdorf VI vs Wohlensee (22)
UID:b20f5f0b-88c0-4178-970e-5862bc63eb6f
STATUS:CONFIRMED
LAST-MODIFIED:20230320T123421Z
DESCRIPTION:3. Liga Herren Gruppe 2\nBegegnungs-Nr: 22\nHeim: Burgdorf VI\nGast: Wohlensee\n\nAdresse: Pestalozzistrasse 69\, 3400 Burgdorf\n
LOCATION:Pestalozzistrasse 69\, 3400 Burgdorf
CATEGORIES:Saison 2022/23
END:VEVENT
BEGIN:VEVENT
DTSTAMP:20260421T202826Z
DTSTART;TZID=Europe/Berlin:20230331T193000
DTEND;TZID=Europe/Berlin:20230331T223000
SUMMARY:HE 3. Liga Gr. 2 Burgdorf VI vs Düdingen (25)
UID:c2b49e66-9f20-410b-a84a-76f28aae7ecc
STATUS:CONFIRMED
LAST-MODIFIED:20230402T073601Z
DESCRIPTION:3. Liga Herren Gruppe 2\nBegegnungs-Nr: 25\nHeim: Burgdorf VI\nGast: Düdingen\n\nAdresse: Pestalozzistrasse 69\, 3400 Burgdorf\n
LOCATION:Pestalozzistrasse 69\, 3400 Burgdorf
CATEGORIES:Saison 2022/23
END:VEVENT
BEGIN:VEVENT
DTSTAMP:20260421T202826Z
DTSTART;TZID=Europe/Berlin:20220827T160000
DTEND;TZID=Europe/Berlin:20220827T190000
SUMMARY:HE 3. Liga Gr. 2 Burgdorf VI vs Ittigen (2)
UID:4fcd9251-daae-4497-a129-364359740d79
STATUS:CONFIRMED
LAST-MODIFIED:20220829T120623Z
DESCRIPTION:3. Liga Herren Gruppe 2\nBegegnungs-Nr: 2\nHeim: Burgdorf VI\nGast: Ittigen\n\nAdresse: Pestalozzistrasse 69\, 3400 Burgdorf\n
LOCATION:Pestalozzistrasse 69\, 3400 Burgdorf
CATEGORIES:Saison 2022/23
END:VEVENT
BEGIN:VEVENT
DTSTAMP:20260421T202826Z
DTSTART;TZID=Europe/Berlin:20221105T160000
DTEND;TZID=Europe/Berlin:20221105T190000
SUMMARY:HE 3. Liga Gr. 2 Burgdorf VI vs Port IV (18)
UID:2280bcff-d6f3-4d36-a7ff-ef6bf07b9bb7
STATUS:CONFIRMED
LAST-MODIFIED:20221106T212919Z
DESCRIPTION:3. Liga Herren Gruppe 2\nBegegnungs-Nr: 18\nHeim: Burgdorf VI\nGast: Port IV\n\nAdresse: Pestalozzistrasse 69\, 3400 Burgdorf\n
LOCATION:Pestalozzistrasse 69\, 3400 Burgdorf
CATEGORIES:Saison 2022/23
END:VEVENT
BEGIN:VEVENT
DTSTAMP:20260421T202826Z
DTSTART;TZID=Europe/Berlin:20230128T160000
DTEND;TZID=Europe/Berlin:20230128T190000
SUMMARY:HE 3. Liga Gr. 2 Burgdorf VI vs Regio Moossee (6)
UID:12fdbc70-451f-4c0b-b38d-c042a05ea15b
STATUS:CONFIRMED
LAST-MODIFIED:20230129T125436Z
DESCRIPTION:3. Liga Herren Gruppe 2\nBegegnungs-Nr: 6\nHeim: Burgdorf VI\nGast: Regio Moossee\n\nAdresse: Pestalozzistrasse 69\, 3400 Burgdorf\n
LOCATION:Pestalozzistrasse 69\, 3400 Burgdorf
CATEGORIES:Saison 2022/23
END:VEVENT
BEGIN:VEVENT
DTSTAMP:20260421T202826Z
DTSTART;TZID=Europe/Berlin:20230203T193000
DTEND;TZID=Europe/Berlin:20230203T223000
SUMMARY:HE 3. Liga Gr. 2 Burgdorf VI vs Bern III (10)
UID:80bf4f8e-51b8-4108-8c4e-6acdc42b5ce6
STATUS:CONFIRMED
LAST-MODIFIED:20230204T002455Z
DESCRIPTION:3. Liga Herren Gruppe 2\nBegegnungs-Nr: 10\nHeim: Burgdorf VI\nGast: Bern III\n
LOCATION:
CATEGORIES:Saison 2022/23
END:VEVENT
BEGIN:VEVENT
DTSTAMP:20260421T202826Z
DTSTART;TZID=Europe/Berlin:20230307T194500
DTEND;TZID=Europe/Berlin:20230307T224500
SUMMARY:HE 3. Liga Gr. 2 Port IV vs Burgdorf VI (18)
UID:b5636a85-8531-436a-893a-e6592f5f067b
STATUS:CONFIRMED
LAST-MODIFIED:20230308T144757Z
DESCRIPTION:3. Liga Herren Gruppe 2\nBegegnungs-Nr: 18\nHeim: Port IV\nGast: Burgdorf VI\n\nAdresse: Allmendstrasse 23\, 2562 Port\n
LOCATION:Allmendstrasse 23\, 2562 Port
CATEGORIES:Saison 2022/23
END:VEVENT
BEGIN:VEVENT
DTSTAMP:20260421T202826Z
DTSTART;TZID=Europe/Berlin:20221215T194500
DTEND;TZID=Europe/Berlin:20221215T224500
SUMMARY:HE 3. Liga Gr. 2 Düdingen vs Burgdorf VI (25)
UID:5e9128e7-f406-46d6-8ff2-d6aa1d2e3980
STATUS:CONFIRMED
LAST-MODIFIED:20221218T194634Z
DESCRIPTION:3. Liga Herren Gruppe 2\nBegegnungs-Nr: 25\nHeim: Düdingen\nGast: Burgdorf VI\n\nAdresse: Alfons-Aeby-Strasse\, 3186 Düdingen\n
LOCATION:Alfons-Aeby-Strasse\, 3186 Düdingen
CATEGORIES:Saison 2022/23
END:VEVENT
BEGIN:VEVENT
DTSTAMP:20260421T202826Z
DTSTART;TZID=Europe/Berlin:20220830T194500
DTEND;TZID=Europe/Berlin:20220830T224500
SUMMARY:HE 3. Liga Gr. 2 Regio Moossee vs Burgdorf VI (6)
UID:7cda36be-1caa-47c4-83bc-493498a7c17a
STATUS:CONFIRMED
LAST-MODIFIED:20220904T162012Z
DESCRIPTION:3. Liga Herren Gruppe 2\nBegegnungs-Nr: 6\nHeim: Regio Moossee\nGast: Burgdorf VI\n\nAdresse: Schulhausstrasse 23-25\, 3302 Moosseedorf\n
LOCATION:Schulhausstrasse 23-25\, 3302 Moosseedorf
CATEGORIES:Saison 2022/23
END:VEVENT
BEGIN:VEVENT
DTSTAMP:20260421T202826Z
DTSTART;TZID=Europe/Berlin:20220916T193000
DTEND;TZID=Europe/Berlin:20220916T223000
SUMMARY:HE 3. Liga Gr. 2 Bern III vs Burgdorf VI (10)
UID:b5886779-66db-4cd2-be4c-9faffa6e6b4d
STATUS:CONFIRMED
LAST-MODIFIED:20220919T112648Z
DESCRIPTION:3. Liga Herren Gruppe 2\nBegegnungs-Nr: 10\nHeim: Bern III\nGast: Burgdorf VI\n\nAdresse: Papiermühlestrasse 81\, 3014 Bern\n
LOCATION:Papiermühlestrasse 81\, 3014 Bern
CATEGORIES:Saison 2022/23
END:VEVENT
BEGIN:VEVENT
DTSTAMP:20260421T202826Z
DTSTART;TZID=Europe/Berlin:20221022T140000
DTEND;TZID=Europe/Berlin:20221022T170000
SUMMARY:HE 3. Liga Gr. 2 Langnau vs Burgdorf VI (14)
UID:16b502ff-457f-47b7-beb5-bb24c98df085
STATUS:CONFIRMED
LAST-MODIFIED:20221022T224841Z
DESCRIPTION:3. Liga Herren Gruppe 2\nBegegnungs-Nr: 14\nHeim: Langnau\nGast: Burgdorf VI\n\nAdresse: Bleicheweg 11\, 3550 Langnau\n
LOCATION:Bleicheweg 11\, 3550 Langnau
CATEGORIES:Saison 2022/23
END:VEVENT
BEGIN:VEVENT
DTSTAMP:20260421T202826Z
DTSTART;TZID=Europe/Berlin:20221219T194500
DTEND;TZID=Europe/Berlin:20221219T224500
SUMMARY:HE 3. Liga Gr. 2 Ittigen vs Burgdorf VI (2)
UID:2bb2736e-af27-4939-b4ad-6122876ce22c
STATUS:CONFIRMED
LAST-MODIFIED:20221220T134523Z
DESCRIPTION:3. Liga Herren Gruppe 2\nBegegnungs-Nr: 2\nHeim: Ittigen\nGast: Burgdorf VI\n\nAdresse: Fischrainweg 17\, 3048 Worblaufen\n
LOCATION:Fischrainweg 17\, 3048 Worblaufen
CATEGORIES:Saison 2022/23
END:VEVENT
BEGIN:VEVENT
DTSTAMP:20260421T202826Z
DTSTART;TZID=Europe/Berlin:20221130T194500
DTEND;TZID=Europe/Berlin:20221130T224500
SUMMARY:HE 3. Liga Gr. 2 Wohlensee vs Burgdorf VI (22)
UID:95d75ca6-a777-4cdc-95fd-1041876605d2
STATUS:CONFIRMED
LAST-MODIFIED:20221203T164229Z
DESCRIPTION:3. Liga Herren Gruppe 2\nBegegnungs-Nr: 22\nHeim: Wohlensee\nGast: Burgdorf VI\n\nAdresse: Kappelenring 36 a\, 3032 Hinterkappelen\n
LOCATION:Kappelenring 36 a\, 3032 Hinterkappelen
CATEGORIES:Saison 2022/23
END:VEVENT
END:VCALENDAR
