BEGIN:VCALENDAR
PRODID:-//nuDatenautomaten//framework iCal4j //DE
VERSION:2.0
CALSCALE:GREGORIAN
BEGIN:VTIMEZONE
TZID:Europe/Berlin
LAST-MODIFIED:20260306T231828Z
TZURL:https://www.tzurl.org/zoneinfo/Europe/Berlin
X-LIC-LOCATION:Europe/Berlin
X-PROLEPTIC-TZNAME:LMT
BEGIN:STANDARD
TZNAME:CET
TZOFFSETFROM:+005328
TZOFFSETTO:+0100
DTSTART:18930401T000000
END:STANDARD
BEGIN:DAYLIGHT
TZNAME:CEST
TZOFFSETFROM:+0100
TZOFFSETTO:+0200
DTSTART:19160430T230000
RDATE:19400401T020000
RDATE:19430329T020000
RDATE:19460414T020000
RDATE:19470406T030000
RDATE:19480418T020000
RDATE:19490410T020000
RDATE:19800406T020000
END:DAYLIGHT
BEGIN:STANDARD
TZNAME:CET
TZOFFSETFROM:+0200
TZOFFSETTO:+0100
DTSTART:19161001T010000
RDATE:19421102T030000
RDATE:19431004T030000
RDATE:19441002T030000
RDATE:19451118T030000
RDATE:19461007T030000
END:STANDARD
BEGIN:DAYLIGHT
TZNAME:CEST
TZOFFSETFROM:+0100
TZOFFSETTO:+0200
DTSTART:19170416T020000
RRULE:FREQ=YEARLY;UNTIL=19180415T010000Z;BYMONTH=4;BYDAY=3MO
END:DAYLIGHT
BEGIN:STANDARD
TZNAME:CET
TZOFFSETFROM:+0200
TZOFFSETTO:+0100
DTSTART:19170917T030000
RRULE:FREQ=YEARLY;UNTIL=19180916T010000Z;BYMONTH=9;BYDAY=3MO
END:STANDARD
BEGIN:DAYLIGHT
TZNAME:CEST
TZOFFSETFROM:+0100
TZOFFSETTO:+0200
DTSTART:19440403T020000
RRULE:FREQ=YEARLY;UNTIL=19450402T010000Z;BYMONTH=4;BYDAY=1MO
END:DAYLIGHT
BEGIN:DAYLIGHT
TZNAME:CEMT
TZOFFSETFROM:+0200
TZOFFSETTO:+0300
DTSTART:19450524T020000
RDATE:19470511T030000
END:DAYLIGHT
BEGIN:DAYLIGHT
TZNAME:CEST
TZOFFSETFROM:+0300
TZOFFSETTO:+0200
DTSTART:19450924T030000
RDATE:19470629T030000
END:DAYLIGHT
BEGIN:STANDARD
TZNAME:CET
TZOFFSETFROM:+0100
TZOFFSETTO:+0100
DTSTART:19460101T000000
RDATE:19800101T000000
END:STANDARD
BEGIN:STANDARD
TZNAME:CET
TZOFFSETFROM:+0200
TZOFFSETTO:+0100
DTSTART:19471005T030000
RRULE:FREQ=YEARLY;UNTIL=19491002T010000Z;BYMONTH=10;BYDAY=1SU
END:STANDARD
BEGIN:STANDARD
TZNAME:CET
TZOFFSETFROM:+0200
TZOFFSETTO:+0100
DTSTART:19800928T030000
RRULE:FREQ=YEARLY;UNTIL=19950924T010000Z;BYMONTH=9;BYDAY=-1SU
END:STANDARD
BEGIN:DAYLIGHT
TZNAME:CEST
TZOFFSETFROM:+0100
TZOFFSETTO:+0200
DTSTART:19810329T020000
RRULE:FREQ=YEARLY;BYMONTH=3;BYDAY=-1SU
END:DAYLIGHT
BEGIN:STANDARD
TZNAME:CET
TZOFFSETFROM:+0200
TZOFFSETTO:+0100
DTSTART:19961027T030000
RRULE:FREQ=YEARLY;BYMONTH=10;BYDAY=-1SU
END:STANDARD
END:VTIMEZONE
BEGIN:VEVENT
DTSTAMP:20260426T033256Z
DTSTART;TZID=Europe/Berlin:20220907T200000
DTEND;TZID=Europe/Berlin:20220907T230000
SUMMARY:HE 4. Liga Gr. 5 Höngg vs Young Stars ZH VI (0)
UID:b7dcb8bb-b1ec-40a0-ad8c-be6267e7660d
STATUS:CONFIRMED
LAST-MODIFIED:20220909T123438Z
DESCRIPTION:4. Liga Herren Gruppe 5\nBegegnungs-Nr: 0\nHeim: Höngg\nGast: Young Stars ZH VI\n\nAdresse: Bläsistrasse 2\, 8049 Zürich\n
LOCATION:Bläsistrasse 2\, 8049 Zürich
CATEGORIES:Saison 2022/23
END:VEVENT
BEGIN:VEVENT
DTSTAMP:20260426T033256Z
DTSTART;TZID=Europe/Berlin:20221109T200000
DTEND;TZID=Europe/Berlin:20221109T230000
SUMMARY:HE 4. Liga Gr. 5 Höngg vs Uster IV (0)
UID:2c05d548-8062-4de7-a0cf-11704dcbf04a
STATUS:CONFIRMED
LAST-MODIFIED:20220825T072059Z
DESCRIPTION:4. Liga Herren Gruppe 5\nBegegnungs-Nr: 0\nHeim: Höngg\nGast: Uster IV\n\nAdresse: Bläsistrasse 2\, 8049 Zürich\n
LOCATION:Bläsistrasse 2\, 8049 Zürich
CATEGORIES:Saison 2022/23
END:VEVENT
BEGIN:VEVENT
DTSTAMP:20260426T033256Z
DTSTART;TZID=Europe/Berlin:20220921T200000
DTEND;TZID=Europe/Berlin:20220921T230000
SUMMARY:HE 4. Liga Gr. 5 Höngg vs BW-Wollishofen IV (0)
UID:32a6a0e2-09d1-46d3-93d8-fc7dbf989fbb
STATUS:CONFIRMED
LAST-MODIFIED:20220923T144114Z
DESCRIPTION:4. Liga Herren Gruppe 5\nBegegnungs-Nr: 0\nHeim: Höngg\nGast: BW-Wollishofen IV\n\nAdresse: Bläsistrasse 2\, 8049 Zürich\n
LOCATION:Bläsistrasse 2\, 8049 Zürich
CATEGORIES:Saison 2022/23
END:VEVENT
BEGIN:VEVENT
DTSTAMP:20260426T033256Z
DTSTART;TZID=Europe/Berlin:20230111T200000
DTEND;TZID=Europe/Berlin:20230111T230000
SUMMARY:HE 4. Liga Gr. 5 Höngg vs Pinguin Zürich IV (0)
UID:6508097c-0255-4303-93c3-fe1948ad900b
STATUS:CONFIRMED
LAST-MODIFIED:20230117T081616Z
DESCRIPTION:4. Liga Herren Gruppe 5\nBegegnungs-Nr: 0\nHeim: Höngg\nGast: Pinguin Zürich IV\n\nAdresse: Bläsistrasse 2\, 8049 Zürich\n
LOCATION:Bläsistrasse 2\, 8049 Zürich
CATEGORIES:Saison 2022/23
END:VEVENT
BEGIN:VEVENT
DTSTAMP:20260426T033256Z
DTSTART;TZID=Europe/Berlin:20230208T200000
DTEND;TZID=Europe/Berlin:20230208T230000
SUMMARY:HE 4. Liga Gr. 5 Höngg vs Meilen-Männedorf II (0)
UID:59d93249-ff04-4a3b-b255-7cf1160d666f
STATUS:CONFIRMED
LAST-MODIFIED:20230209T104256Z
DESCRIPTION:4. Liga Herren Gruppe 5\nBegegnungs-Nr: 0\nHeim: Höngg\nGast: Meilen-Männedorf II\n\nAdresse: Bläsistrasse 2\, 8049 Zürich\n
LOCATION:Bläsistrasse 2\, 8049 Zürich
CATEGORIES:Saison 2022/23
END:VEVENT
BEGIN:VEVENT
DTSTAMP:20260426T033256Z
DTSTART;TZID=Europe/Berlin:20230308T200000
DTEND;TZID=Europe/Berlin:20230308T230000
SUMMARY:HE 4. Liga Gr. 5 Höngg vs Kloten II (0)
UID:fd3c0dbc-2292-4e35-b8f7-d877f0a234ec
STATUS:CONFIRMED
LAST-MODIFIED:20230310T133549Z
DESCRIPTION:4. Liga Herren Gruppe 5\nBegegnungs-Nr: 0\nHeim: Höngg\nGast: Kloten II\n\nAdresse: Bläsistrasse 2\, 8049 Zürich\n
LOCATION:Bläsistrasse 2\, 8049 Zürich
CATEGORIES:Saison 2022/23
END:VEVENT
BEGIN:VEVENT
DTSTAMP:20260426T033256Z
DTSTART;TZID=Europe/Berlin:20230329T200000
DTEND;TZID=Europe/Berlin:20230329T230000
SUMMARY:HE 4. Liga Gr. 5 Höngg vs Wolfhausen (0)
UID:38b05094-5eb4-4b63-a675-6f2d80088ee5
STATUS:CONFIRMED
LAST-MODIFIED:20230403T093637Z
DESCRIPTION:4. Liga Herren Gruppe 5\nBegegnungs-Nr: 0\nHeim: Höngg\nGast: Wolfhausen\n\nAdresse: Bläsistrasse 2\, 8049 Zürich\n
LOCATION:Bläsistrasse 2\, 8049 Zürich
CATEGORIES:Saison 2022/23
END:VEVENT
BEGIN:VEVENT
DTSTAMP:20260426T033256Z
DTSTART;TZID=Europe/Berlin:20220902T193000
DTEND;TZID=Europe/Berlin:20220902T223000
SUMMARY:HE 4. Liga Gr. 5 Pinguin Zürich IV vs Höngg (0)
UID:246d4ce0-a810-47d5-96fb-5bbe61333a58
STATUS:CONFIRMED
LAST-MODIFIED:20220905T092920Z
DESCRIPTION:4. Liga Herren Gruppe 5\nBegegnungs-Nr: 0\nHeim: Pinguin Zürich IV\nGast: Höngg\n\nAdresse: Basteiplatz\, 8001 Zürich\n
LOCATION:Basteiplatz\, 8001 Zürich
CATEGORIES:Saison 2022/23
END:VEVENT
BEGIN:VEVENT
DTSTAMP:20260426T033256Z
DTSTART;TZID=Europe/Berlin:20220919T194500
DTEND;TZID=Europe/Berlin:20220919T224500
SUMMARY:HE 4. Liga Gr. 5 Meilen-Männedorf II vs Höngg (0)
UID:07dc7be9-44ea-4b8d-b4c0-486dd076ec80
STATUS:CONFIRMED
LAST-MODIFIED:20220923T144100Z
DESCRIPTION:4. Liga Herren Gruppe 5\nBegegnungs-Nr: 0\nHeim: Meilen-Männedorf II\nGast: Höngg\n\nAdresse: Schulstrasse 10\, 8708 Männedorf\n
LOCATION:Schulstrasse 10\, 8708 Männedorf
CATEGORIES:Saison 2022/23
END:VEVENT
BEGIN:VEVENT
DTSTAMP:20260426T033256Z
DTSTART;TZID=Europe/Berlin:20221103T194500
DTEND;TZID=Europe/Berlin:20221103T224500
SUMMARY:HE 4. Liga Gr. 5 Kloten II vs Höngg (0)
UID:877626cc-1c96-4070-ae6b-ff2837d15e11
STATUS:CONFIRMED
LAST-MODIFIED:20221108T160316Z
DESCRIPTION:4. Liga Herren Gruppe 5\nBegegnungs-Nr: 0\nHeim: Kloten II\nGast: Höngg\n\nAdresse: Schluefweg 10\, 8302 Kloten\n
LOCATION:Schluefweg 10\, 8302 Kloten
CATEGORIES:Saison 2022/23
END:VEVENT
BEGIN:VEVENT
DTSTAMP:20260426T033256Z
DTSTART;TZID=Europe/Berlin:20221202T200000
DTEND;TZID=Europe/Berlin:20221202T230000
SUMMARY:HE 4. Liga Gr. 5 Wolfhausen vs Höngg (0)
UID:77f77479-899c-48fb-8f92-c492914228ab
STATUS:CONFIRMED
LAST-MODIFIED:20221208T114017Z
DESCRIPTION:4. Liga Herren Gruppe 5\nBegegnungs-Nr: 0\nHeim: Wolfhausen\nGast: Höngg\n\nAdresse: Schulstrasse 9\, 8633 Wolfhausen\n
LOCATION:Schulstrasse 9\, 8633 Wolfhausen
CATEGORIES:Saison 2022/23
END:VEVENT
BEGIN:VEVENT
DTSTAMP:20260426T033256Z
DTSTART;TZID=Europe/Berlin:20230127T200000
DTEND;TZID=Europe/Berlin:20230127T230000
SUMMARY:HE 4. Liga Gr. 5 Young Stars ZH VI vs Höngg (0)
UID:62e9d3bf-e56f-440d-b24d-c8c8ee3ef7a3
STATUS:CONFIRMED
LAST-MODIFIED:20230131T122141Z
DESCRIPTION:4. Liga Herren Gruppe 5\nBegegnungs-Nr: 0\nHeim: Young Stars ZH VI\nGast: Höngg\n\nAdresse: Balgriststrasse 55\, 8008 Zürich\n
LOCATION:Balgriststrasse 55\, 8008 Zürich
CATEGORIES:Saison 2022/23
END:VEVENT
BEGIN:VEVENT
DTSTAMP:20260426T033256Z
DTSTART;TZID=Europe/Berlin:20230324T200000
DTEND;TZID=Europe/Berlin:20230324T230000
SUMMARY:HE 4. Liga Gr. 5 BW-Wollishofen IV vs Höngg (0)
UID:bfd36fc8-5d32-421b-bf7d-698824245e8d
STATUS:CONFIRMED
LAST-MODIFIED:20230328T073421Z
DESCRIPTION:4. Liga Herren Gruppe 5\nBegegnungs-Nr: 0\nHeim: BW-Wollishofen IV\nGast: Höngg\n\nAdresse: Kilchbergstr. 28\, 8038 Zürich\n
LOCATION:Kilchbergstr. 28\, 8038 Zürich
CATEGORIES:Saison 2022/23
END:VEVENT
BEGIN:VEVENT
DTSTAMP:20260426T033256Z
DTSTART;TZID=Europe/Berlin:20230314T201500
DTEND;TZID=Europe/Berlin:20230314T231500
SUMMARY:HE 4. Liga Gr. 5 Uster IV vs Höngg (0)
UID:67568722-9a47-4a49-8c09-8da3942b2a4e
STATUS:CONFIRMED
LAST-MODIFIED:20220825T072312Z
DESCRIPTION:4. Liga Herren Gruppe 5\nBegegnungs-Nr: 0\nHeim: Uster IV\nGast: Höngg\n\nAdresse: Wilstrasse 30 / Zürcherstrasse\, 8610 Uster\n
LOCATION:Wilstrasse 30 / Zürcherstrasse\, 8610 Uster
CATEGORIES:Saison 2022/23
END:VEVENT
END:VCALENDAR
