BEGIN:VCALENDAR
PRODID:-//nuDatenautomaten//framework iCal4j //DE
VERSION:2.0
CALSCALE:GREGORIAN
BEGIN:VTIMEZONE
TZID:Europe/Berlin
LAST-MODIFIED:20260306T231828Z
TZURL:https://www.tzurl.org/zoneinfo/Europe/Berlin
X-LIC-LOCATION:Europe/Berlin
X-PROLEPTIC-TZNAME:LMT
BEGIN:STANDARD
TZNAME:CET
TZOFFSETFROM:+005328
TZOFFSETTO:+0100
DTSTART:18930401T000000
END:STANDARD
BEGIN:DAYLIGHT
TZNAME:CEST
TZOFFSETFROM:+0100
TZOFFSETTO:+0200
DTSTART:19160430T230000
RDATE:19400401T020000
RDATE:19430329T020000
RDATE:19460414T020000
RDATE:19470406T030000
RDATE:19480418T020000
RDATE:19490410T020000
RDATE:19800406T020000
END:DAYLIGHT
BEGIN:STANDARD
TZNAME:CET
TZOFFSETFROM:+0200
TZOFFSETTO:+0100
DTSTART:19161001T010000
RDATE:19421102T030000
RDATE:19431004T030000
RDATE:19441002T030000
RDATE:19451118T030000
RDATE:19461007T030000
END:STANDARD
BEGIN:DAYLIGHT
TZNAME:CEST
TZOFFSETFROM:+0100
TZOFFSETTO:+0200
DTSTART:19170416T020000
RRULE:FREQ=YEARLY;UNTIL=19180415T010000Z;BYMONTH=4;BYDAY=3MO
END:DAYLIGHT
BEGIN:STANDARD
TZNAME:CET
TZOFFSETFROM:+0200
TZOFFSETTO:+0100
DTSTART:19170917T030000
RRULE:FREQ=YEARLY;UNTIL=19180916T010000Z;BYMONTH=9;BYDAY=3MO
END:STANDARD
BEGIN:DAYLIGHT
TZNAME:CEST
TZOFFSETFROM:+0100
TZOFFSETTO:+0200
DTSTART:19440403T020000
RRULE:FREQ=YEARLY;UNTIL=19450402T010000Z;BYMONTH=4;BYDAY=1MO
END:DAYLIGHT
BEGIN:DAYLIGHT
TZNAME:CEMT
TZOFFSETFROM:+0200
TZOFFSETTO:+0300
DTSTART:19450524T020000
RDATE:19470511T030000
END:DAYLIGHT
BEGIN:DAYLIGHT
TZNAME:CEST
TZOFFSETFROM:+0300
TZOFFSETTO:+0200
DTSTART:19450924T030000
RDATE:19470629T030000
END:DAYLIGHT
BEGIN:STANDARD
TZNAME:CET
TZOFFSETFROM:+0100
TZOFFSETTO:+0100
DTSTART:19460101T000000
RDATE:19800101T000000
END:STANDARD
BEGIN:STANDARD
TZNAME:CET
TZOFFSETFROM:+0200
TZOFFSETTO:+0100
DTSTART:19471005T030000
RRULE:FREQ=YEARLY;UNTIL=19491002T010000Z;BYMONTH=10;BYDAY=1SU
END:STANDARD
BEGIN:STANDARD
TZNAME:CET
TZOFFSETFROM:+0200
TZOFFSETTO:+0100
DTSTART:19800928T030000
RRULE:FREQ=YEARLY;UNTIL=19950924T010000Z;BYMONTH=9;BYDAY=-1SU
END:STANDARD
BEGIN:DAYLIGHT
TZNAME:CEST
TZOFFSETFROM:+0100
TZOFFSETTO:+0200
DTSTART:19810329T020000
RRULE:FREQ=YEARLY;BYMONTH=3;BYDAY=-1SU
END:DAYLIGHT
BEGIN:STANDARD
TZNAME:CET
TZOFFSETFROM:+0200
TZOFFSETTO:+0100
DTSTART:19961027T030000
RRULE:FREQ=YEARLY;BYMONTH=10;BYDAY=-1SU
END:STANDARD
END:VTIMEZONE
BEGIN:VEVENT
DTSTAMP:20260424T170639Z
DTSTART;TZID=Europe/Berlin:20221008T140000
DTEND;TZID=Europe/Berlin:20221008T170000
SUMMARY:DA NLB Gr. 1 Lausanne vs ZZ-Lancy II (5)
UID:be3785cb-2b2a-4ffe-bd0e-2ff0563a5499
STATUS:CONFIRMED
LAST-MODIFIED:20221021T145200Z
DESCRIPTION:Damen Nationalliga B\, Gruppe 1\nBegegnungs-Nr: 5\nHeim: Lausanne\nGast: ZZ-Lancy II\n\nAdresse: Vaudoise Aréna\, Ch. du Viaduc 14\, 1008 Prilly\n
LOCATION:Vaudoise Aréna\, Ch. du Viaduc 14\, 1008 Prilly
CATEGORIES:Saison 2022/23
END:VEVENT
BEGIN:VEVENT
DTSTAMP:20260424T170639Z
DTSTART;TZID=Europe/Berlin:20221119T140000
DTEND;TZID=Europe/Berlin:20221119T170000
SUMMARY:DA NLB Gr. 1 Lausanne vs Rapid Luzern II (11)
UID:9136cf5b-e0fa-4a14-8660-8e73fe2183f8
STATUS:CONFIRMED
LAST-MODIFIED:20221121T052753Z
DESCRIPTION:Damen Nationalliga B\, Gruppe 1\nBegegnungs-Nr: 11\nHeim: Lausanne\nGast: Rapid Luzern II\n\nAdresse: Vaudoise Aréna\, Ch. du Viaduc 14\, 1008 Prilly\n
LOCATION:Vaudoise Aréna\, Ch. du Viaduc 14\, 1008 Prilly
CATEGORIES:Saison 2022/23
END:VEVENT
BEGIN:VEVENT
DTSTAMP:20260424T170639Z
DTSTART;TZID=Europe/Berlin:20230311T140000
DTEND;TZID=Europe/Berlin:20230311T170000
SUMMARY:DA NLB Aufstiegsrunde Lausanne vs Uster (11)
UID:aa936374-7a55-40aa-8444-82601145ca5c
STATUS:CONFIRMED
LAST-MODIFIED:20230313T153522Z
DESCRIPTION:Damen Nationalliga B Aufstiegsrunde\nBegegnungs-Nr: 11\nHeim: Lausanne\nGast: Uster\n\nAdresse: Vaudoise Aréna\, Ch. du Viaduc 14\, 1008 Prilly\n
LOCATION:Vaudoise Aréna\, Ch. du Viaduc 14\, 1008 Prilly
CATEGORIES:Saison 2022/23
END:VEVENT
BEGIN:VEVENT
DTSTAMP:20260424T170639Z
DTSTART;TZID=Europe/Berlin:20230114T140000
DTEND;TZID=Europe/Berlin:20230114T170000
SUMMARY:DA NLB Aufstiegsrunde Lausanne vs Thun (3)
UID:7b9dfd04-5432-4830-a749-4fd26a628373
STATUS:CONFIRMED
LAST-MODIFIED:20230116T091533Z
DESCRIPTION:Damen Nationalliga B Aufstiegsrunde\nBegegnungs-Nr: 3\nHeim: Lausanne\nGast: Thun\n\nAdresse: Vaudoise Aréna\, Ch. du Viaduc 14\, 1008 Prilly\n
LOCATION:Vaudoise Aréna\, Ch. du Viaduc 14\, 1008 Prilly
CATEGORIES:Saison 2022/23
END:VEVENT
BEGIN:VEVENT
DTSTAMP:20260424T170639Z
DTSTART;TZID=Europe/Berlin:20221203T130000
DTEND;TZID=Europe/Berlin:20221203T160000
SUMMARY:DA NLB Gr. 1 Thun vs Lausanne (15)
UID:e7a38510-617a-46c5-9b41-0eeac5798585
STATUS:CONFIRMED
LAST-MODIFIED:20221205T082345Z
DESCRIPTION:Damen Nationalliga B\, Gruppe 1\nBegegnungs-Nr: 15\nHeim: Thun\nGast: Lausanne\n\nAdresse: Hallerstrasse 28\, 3604 Thun\n
LOCATION:Hallerstrasse 28\, 3604 Thun
CATEGORIES:Saison 2022/23
END:VEVENT
BEGIN:VEVENT
DTSTAMP:20260424T170639Z
DTSTART;TZID=Europe/Berlin:20221022T140000
DTEND;TZID=Europe/Berlin:20221022T170000
SUMMARY:DA NLB Gr. 1 Rio-Star Muttenz vs Lausanne (3)
UID:8dc6dcf4-c2c5-49c7-9220-b33c79ec064f
STATUS:CONFIRMED
LAST-MODIFIED:20221024T100213Z
DESCRIPTION:Damen Nationalliga B\, Gruppe 1\nBegegnungs-Nr: 3\nHeim: Rio-Star Muttenz\nGast: Lausanne\n\nAdresse: Gründenstrasse 32\, 4132 Muttenz\n
LOCATION:Gründenstrasse 32\, 4132 Muttenz
CATEGORIES:Saison 2022/23
END:VEVENT
BEGIN:VEVENT
DTSTAMP:20260424T170639Z
DTSTART;TZID=Europe/Berlin:20221016T160000
DTEND;TZID=Europe/Berlin:20221016T190000
SUMMARY:DA NLB Gr. 1 Münsingen vs Lausanne (9)
UID:2d54c852-0a76-4fc0-a105-6603f5afad9f
STATUS:CONFIRMED
LAST-MODIFIED:20221021T145223Z
DESCRIPTION:Damen Nationalliga B\, Gruppe 1\nBegegnungs-Nr: 9\nHeim: Münsingen\nGast: Lausanne\n\nAdresse: Turnhallenweg 8\, 3110 Münsingen\n
LOCATION:Turnhallenweg 8\, 3110 Münsingen
CATEGORIES:Saison 2022/23
END:VEVENT
BEGIN:VEVENT
DTSTAMP:20260424T170639Z
DTSTART;TZID=Europe/Berlin:20230402T160000
DTEND;TZID=Europe/Berlin:20230402T190000
SUMMARY:DA NLB Aufstiegsrunde Münsingen vs Lausanne (14)
UID:d4953451-1130-4f05-814a-6511cd480d51
STATUS:CONFIRMED
LAST-MODIFIED:20230403T115454Z
DESCRIPTION:Damen Nationalliga B Aufstiegsrunde\nBegegnungs-Nr: 14\nHeim: Münsingen\nGast: Lausanne\n\nAdresse: Turnhallenweg 8\, 3110 Münsingen\n
LOCATION:Turnhallenweg 8\, 3110 Münsingen
CATEGORIES:Saison 2022/23
END:VEVENT
BEGIN:VEVENT
DTSTAMP:20260424T170639Z
DTSTART;TZID=Europe/Berlin:20230128T143000
DTEND;TZID=Europe/Berlin:20230128T173000
SUMMARY:DA NLB Aufstiegsrunde Kloten vs Lausanne (6)
UID:344ddf12-f005-4b37-8549-c2eb3640a384
STATUS:CONFIRMED
LAST-MODIFIED:20230130T072847Z
DESCRIPTION:Damen Nationalliga B Aufstiegsrunde\nBegegnungs-Nr: 6\nHeim: Kloten\nGast: Lausanne\n\nAdresse: Schluefweg 10\, 8302 Kloten\n
LOCATION:Schluefweg 10\, 8302 Kloten
CATEGORIES:Saison 2022/23
END:VEVENT
BEGIN:VEVENT
DTSTAMP:20260424T170639Z
DTSTART;TZID=Europe/Berlin:20230219T120000
DTEND;TZID=Europe/Berlin:20230219T150000
SUMMARY:DA NLB Aufstiegsrunde Wädenswil II vs Lausanne (7)
UID:e5845ab9-f694-4eb2-aa80-48f3afeb49c7
STATUS:CONFIRMED
LAST-MODIFIED:20230220T153445Z
DESCRIPTION:Damen Nationalliga B Aufstiegsrunde\nBegegnungs-Nr: 7\nHeim: Wädenswil II\nGast: Lausanne\n\nAdresse: Fuhrstrasse 16b\, 8820 Wädenswil\n
LOCATION:Fuhrstrasse 16b\, 8820 Wädenswil
CATEGORIES:Saison 2022/23
END:VEVENT
END:VCALENDAR
