BEGIN:VCALENDAR
PRODID:-//nuDatenautomaten//framework iCal4j //DE
VERSION:2.0
CALSCALE:GREGORIAN
BEGIN:VTIMEZONE
TZID:Europe/Berlin
LAST-MODIFIED:20260306T231828Z
TZURL:https://www.tzurl.org/zoneinfo/Europe/Berlin
X-LIC-LOCATION:Europe/Berlin
X-PROLEPTIC-TZNAME:LMT
BEGIN:STANDARD
TZNAME:CET
TZOFFSETFROM:+005328
TZOFFSETTO:+0100
DTSTART:18930401T000000
END:STANDARD
BEGIN:DAYLIGHT
TZNAME:CEST
TZOFFSETFROM:+0100
TZOFFSETTO:+0200
DTSTART:19160430T230000
RDATE:19400401T020000
RDATE:19430329T020000
RDATE:19460414T020000
RDATE:19470406T030000
RDATE:19480418T020000
RDATE:19490410T020000
RDATE:19800406T020000
END:DAYLIGHT
BEGIN:STANDARD
TZNAME:CET
TZOFFSETFROM:+0200
TZOFFSETTO:+0100
DTSTART:19161001T010000
RDATE:19421102T030000
RDATE:19431004T030000
RDATE:19441002T030000
RDATE:19451118T030000
RDATE:19461007T030000
END:STANDARD
BEGIN:DAYLIGHT
TZNAME:CEST
TZOFFSETFROM:+0100
TZOFFSETTO:+0200
DTSTART:19170416T020000
RRULE:FREQ=YEARLY;UNTIL=19180415T010000Z;BYMONTH=4;BYDAY=3MO
END:DAYLIGHT
BEGIN:STANDARD
TZNAME:CET
TZOFFSETFROM:+0200
TZOFFSETTO:+0100
DTSTART:19170917T030000
RRULE:FREQ=YEARLY;UNTIL=19180916T010000Z;BYMONTH=9;BYDAY=3MO
END:STANDARD
BEGIN:DAYLIGHT
TZNAME:CEST
TZOFFSETFROM:+0100
TZOFFSETTO:+0200
DTSTART:19440403T020000
RRULE:FREQ=YEARLY;UNTIL=19450402T010000Z;BYMONTH=4;BYDAY=1MO
END:DAYLIGHT
BEGIN:DAYLIGHT
TZNAME:CEMT
TZOFFSETFROM:+0200
TZOFFSETTO:+0300
DTSTART:19450524T020000
RDATE:19470511T030000
END:DAYLIGHT
BEGIN:DAYLIGHT
TZNAME:CEST
TZOFFSETFROM:+0300
TZOFFSETTO:+0200
DTSTART:19450924T030000
RDATE:19470629T030000
END:DAYLIGHT
BEGIN:STANDARD
TZNAME:CET
TZOFFSETFROM:+0100
TZOFFSETTO:+0100
DTSTART:19460101T000000
RDATE:19800101T000000
END:STANDARD
BEGIN:STANDARD
TZNAME:CET
TZOFFSETFROM:+0200
TZOFFSETTO:+0100
DTSTART:19471005T030000
RRULE:FREQ=YEARLY;UNTIL=19491002T010000Z;BYMONTH=10;BYDAY=1SU
END:STANDARD
BEGIN:STANDARD
TZNAME:CET
TZOFFSETFROM:+0200
TZOFFSETTO:+0100
DTSTART:19800928T030000
RRULE:FREQ=YEARLY;UNTIL=19950924T010000Z;BYMONTH=9;BYDAY=-1SU
END:STANDARD
BEGIN:DAYLIGHT
TZNAME:CEST
TZOFFSETFROM:+0100
TZOFFSETTO:+0200
DTSTART:19810329T020000
RRULE:FREQ=YEARLY;BYMONTH=3;BYDAY=-1SU
END:DAYLIGHT
BEGIN:STANDARD
TZNAME:CET
TZOFFSETFROM:+0200
TZOFFSETTO:+0100
DTSTART:19961027T030000
RRULE:FREQ=YEARLY;BYMONTH=10;BYDAY=-1SU
END:STANDARD
END:VTIMEZONE
BEGIN:VEVENT
DTSTAMP:20260426T033437Z
DTSTART;TZID=Europe/Berlin:20221114T200000
DTEND;TZID=Europe/Berlin:20221114T230000
SUMMARY:HE 5. Liga Gr. 8 Balzers II vs Schaan-Eschen/Mauren II (0)
UID:73ad1a5c-04a0-4a39-b5bd-e36fc5587f2c
STATUS:CONFIRMED
LAST-MODIFIED:20221118T152253Z
DESCRIPTION:5. Liga Herren Gruppe 8\nBegegnungs-Nr: 0\nHeim: Balzers II\nGast: Schaan-Eschen/Mauren II\n\nAdresse: Gnetsch 41\, 9496 Balzers\n
LOCATION:Gnetsch 41\, 9496 Balzers
CATEGORIES:Saison 2022/23
END:VEVENT
BEGIN:VEVENT
DTSTAMP:20260426T033437Z
DTSTART;TZID=Europe/Berlin:20221121T200000
DTEND;TZID=Europe/Berlin:20221121T230000
SUMMARY:HE 5. Liga Gr. 8 Balzers II vs Triesen III (0)
UID:bef807c1-baad-4585-a499-58323284db7d
STATUS:CONFIRMED
LAST-MODIFIED:20221128T100140Z
DESCRIPTION:5. Liga Herren Gruppe 8\nBegegnungs-Nr: 0\nHeim: Balzers II\nGast: Triesen III\n\nAdresse: Gnetsch 41\, 9496 Balzers\n
LOCATION:Gnetsch 41\, 9496 Balzers
CATEGORIES:Saison 2022/23
END:VEVENT
BEGIN:VEVENT
DTSTAMP:20260426T033437Z
DTSTART;TZID=Europe/Berlin:20220919T200000
DTEND;TZID=Europe/Berlin:20220919T230000
SUMMARY:HE 5. Liga Gr. 8 Balzers II vs Chur VI (0)
UID:87657d99-eb3e-4039-9090-3ea90aa1f30c
STATUS:CONFIRMED
LAST-MODIFIED:20220923T144617Z
DESCRIPTION:5. Liga Herren Gruppe 8\nBegegnungs-Nr: 0\nHeim: Balzers II\nGast: Chur VI\n\nAdresse: Gnetsch 41\, 9496 Balzers\n
LOCATION:Gnetsch 41\, 9496 Balzers
CATEGORIES:Saison 2022/23
END:VEVENT
BEGIN:VEVENT
DTSTAMP:20260426T033437Z
DTSTART;TZID=Europe/Berlin:20230327T200000
DTEND;TZID=Europe/Berlin:20230327T230000
SUMMARY:HE 5. Liga Gr. 8 Balzers II vs Buchs St.Gallen (0)
UID:5367a080-12e3-42d5-bab3-b1387dca33b8
STATUS:CONFIRMED
LAST-MODIFIED:20230329T093531Z
DESCRIPTION:5. Liga Herren Gruppe 8\nBegegnungs-Nr: 0\nHeim: Balzers II\nGast: Buchs St.Gallen\n\nAdresse: Gnetsch 41\, 9496 Balzers\n
LOCATION:Gnetsch 41\, 9496 Balzers
CATEGORIES:Saison 2022/23
END:VEVENT
BEGIN:VEVENT
DTSTAMP:20260426T033437Z
DTSTART;TZID=Europe/Berlin:20230306T200000
DTEND;TZID=Europe/Berlin:20230306T230000
SUMMARY:HE 5. Liga Gr. 8 Balzers II vs Flums V (0)
UID:01ec75bb-5c35-4843-afca-3cdaf2debf24
STATUS:CONFIRMED
LAST-MODIFIED:20230309T075224Z
DESCRIPTION:5. Liga Herren Gruppe 8\nBegegnungs-Nr: 0\nHeim: Balzers II\nGast: Flums V\n\nAdresse: Gnetsch 41\, 9496 Balzers\n
LOCATION:Gnetsch 41\, 9496 Balzers
CATEGORIES:Saison 2022/23
END:VEVENT
BEGIN:VEVENT
DTSTAMP:20260426T033437Z
DTSTART;TZID=Europe/Berlin:20221107T200000
DTEND;TZID=Europe/Berlin:20221107T230000
SUMMARY:HE 5. Liga Gr. 8 Balzers II vs Chur V (0)
UID:31739193-3cbc-41a9-9e73-f980925786e5
STATUS:CONFIRMED
LAST-MODIFIED:20221108T163027Z
DESCRIPTION:5. Liga Herren Gruppe 8\nBegegnungs-Nr: 0\nHeim: Balzers II\nGast: Chur V\n\nAdresse: Gnetsch 41\, 9496 Balzers\n
LOCATION:Gnetsch 41\, 9496 Balzers
CATEGORIES:Saison 2022/23
END:VEVENT
BEGIN:VEVENT
DTSTAMP:20260426T033437Z
DTSTART;TZID=Europe/Berlin:20221212T201500
DTEND;TZID=Europe/Berlin:20221212T231500
SUMMARY:HE 5. Liga Gr. 8 Flums V vs Balzers II (0)
UID:b11230bb-8d16-480b-83d9-165e627a716c
STATUS:CONFIRMED
LAST-MODIFIED:20221215T090002Z
DESCRIPTION:5. Liga Herren Gruppe 8\nBegegnungs-Nr: 0\nHeim: Flums V\nGast: Balzers II\n\nAdresse: Bergstrasse\, 8890 Flums\n
LOCATION:Bergstrasse\, 8890 Flums
CATEGORIES:Saison 2022/23
END:VEVENT
BEGIN:VEVENT
DTSTAMP:20260426T033437Z
DTSTART;TZID=Europe/Berlin:20230110T200000
DTEND;TZID=Europe/Berlin:20230110T230000
SUMMARY:HE 5. Liga Gr. 8 Schaan-Eschen/Mauren II vs Balzers II (0)
UID:e0ea7ba7-cdd0-4763-a95a-4641aa94f345
STATUS:CONFIRMED
LAST-MODIFIED:20230112T112141Z
DESCRIPTION:5. Liga Herren Gruppe 8\nBegegnungs-Nr: 0\nHeim: Schaan-Eschen/Mauren II\nGast: Balzers II\n\nAdresse: Simsgasse 10\, 9492 Eschen\n
LOCATION:Simsgasse 10\, 9492 Eschen
CATEGORIES:Saison 2022/23
END:VEVENT
BEGIN:VEVENT
DTSTAMP:20260426T033437Z
DTSTART;TZID=Europe/Berlin:20230127T194500
DTEND;TZID=Europe/Berlin:20230127T224500
SUMMARY:HE 5. Liga Gr. 8 Triesen III vs Balzers II (0)
UID:6925869b-db4e-495e-8f95-ef6c72d53f3e
STATUS:CONFIRMED
LAST-MODIFIED:20230131T124511Z
DESCRIPTION:5. Liga Herren Gruppe 8\nBegegnungs-Nr: 0\nHeim: Triesen III\nGast: Balzers II\n\nAdresse: Gässle 12\, 9495 Triesen\n
LOCATION:Gässle 12\, 9495 Triesen
CATEGORIES:Saison 2022/23
END:VEVENT
BEGIN:VEVENT
DTSTAMP:20260426T033437Z
DTSTART;TZID=Europe/Berlin:20230227T200000
DTEND;TZID=Europe/Berlin:20230227T230000
SUMMARY:HE 5. Liga Gr. 8 Chur VI vs Balzers II (0)
UID:eafe8bdf-cf97-491b-871b-90bf1ae7ece2
STATUS:CONFIRMED
LAST-MODIFIED:20230228T144632Z
DESCRIPTION:5. Liga Herren Gruppe 8\nBegegnungs-Nr: 0\nHeim: Chur VI\nGast: Balzers II\n\nAdresse: Sandstr. 35\, 7000 Chur\n
LOCATION:Sandstr. 35\, 7000 Chur
CATEGORIES:Saison 2022/23
END:VEVENT
BEGIN:VEVENT
DTSTAMP:20260426T033437Z
DTSTART;TZID=Europe/Berlin:20230317T200000
DTEND;TZID=Europe/Berlin:20230317T230000
SUMMARY:HE 5. Liga Gr. 8 Chur V vs Balzers II (0)
UID:69dbd349-ee2d-424c-93e2-08f2eb4a29d8
STATUS:CONFIRMED
LAST-MODIFIED:20230328T080857Z
DESCRIPTION:5. Liga Herren Gruppe 8\nBegegnungs-Nr: 0\nHeim: Chur V\nGast: Balzers II\n\nAdresse: Bodmerstrasse 10\, 7000 Chur\n
LOCATION:Bodmerstrasse 10\, 7000 Chur
CATEGORIES:Saison 2022/23
END:VEVENT
BEGIN:VEVENT
DTSTAMP:20260426T033437Z
DTSTART;TZID=Europe/Berlin:20221205T200000
DTEND;TZID=Europe/Berlin:20221205T230000
SUMMARY:HE 5. Liga Gr. 8 Buchs St.Gallen vs Balzers II (0)
UID:715d2a47-22d9-4408-8c87-344d1cc66d40
STATUS:CONFIRMED
LAST-MODIFIED:20221208T114521Z
DESCRIPTION:5. Liga Herren Gruppe 8\nBegegnungs-Nr: 0\nHeim: Buchs St.Gallen\nGast: Balzers II\n\nAdresse: Hanflandstrasse 17\, 9470 Buchs SG\n
LOCATION:Hanflandstrasse 17\, 9470 Buchs SG
CATEGORIES:Saison 2022/23
END:VEVENT
BEGIN:VEVENT
DTSTAMP:20260426T033437Z
DTSTART;TZID=Europe/Berlin:20230504T200000
DTEND;TZID=Europe/Berlin:20230504T230000
SUMMARY:HE 5. Liga Abstieg BW-Wollishofen V vs Balzers II (0)
UID:f95610ff-bde1-4aa0-b03a-a0d05972ca2a
STATUS:CONFIRMED
LAST-MODIFIED:20230420T120822Z
DESCRIPTION:5. Liga Herren Abstieg\nBegegnungs-Nr: 0\nHeim: BW-Wollishofen V\nGast: Balzers II\n
LOCATION:
CATEGORIES:Saison 2022/23
END:VEVENT
END:VCALENDAR
