BEGIN:VCALENDAR
PRODID:-//nuDatenautomaten//framework iCal4j //DE
VERSION:2.0
CALSCALE:GREGORIAN
BEGIN:VTIMEZONE
TZID:Europe/Berlin
LAST-MODIFIED:20260306T231828Z
TZURL:https://www.tzurl.org/zoneinfo/Europe/Berlin
X-LIC-LOCATION:Europe/Berlin
X-PROLEPTIC-TZNAME:LMT
BEGIN:STANDARD
TZNAME:CET
TZOFFSETFROM:+005328
TZOFFSETTO:+0100
DTSTART:18930401T000000
END:STANDARD
BEGIN:DAYLIGHT
TZNAME:CEST
TZOFFSETFROM:+0100
TZOFFSETTO:+0200
DTSTART:19160430T230000
RDATE:19400401T020000
RDATE:19430329T020000
RDATE:19460414T020000
RDATE:19470406T030000
RDATE:19480418T020000
RDATE:19490410T020000
RDATE:19800406T020000
END:DAYLIGHT
BEGIN:STANDARD
TZNAME:CET
TZOFFSETFROM:+0200
TZOFFSETTO:+0100
DTSTART:19161001T010000
RDATE:19421102T030000
RDATE:19431004T030000
RDATE:19441002T030000
RDATE:19451118T030000
RDATE:19461007T030000
END:STANDARD
BEGIN:DAYLIGHT
TZNAME:CEST
TZOFFSETFROM:+0100
TZOFFSETTO:+0200
DTSTART:19170416T020000
RRULE:FREQ=YEARLY;UNTIL=19180415T010000Z;BYMONTH=4;BYDAY=3MO
END:DAYLIGHT
BEGIN:STANDARD
TZNAME:CET
TZOFFSETFROM:+0200
TZOFFSETTO:+0100
DTSTART:19170917T030000
RRULE:FREQ=YEARLY;UNTIL=19180916T010000Z;BYMONTH=9;BYDAY=3MO
END:STANDARD
BEGIN:DAYLIGHT
TZNAME:CEST
TZOFFSETFROM:+0100
TZOFFSETTO:+0200
DTSTART:19440403T020000
RRULE:FREQ=YEARLY;UNTIL=19450402T010000Z;BYMONTH=4;BYDAY=1MO
END:DAYLIGHT
BEGIN:DAYLIGHT
TZNAME:CEMT
TZOFFSETFROM:+0200
TZOFFSETTO:+0300
DTSTART:19450524T020000
RDATE:19470511T030000
END:DAYLIGHT
BEGIN:DAYLIGHT
TZNAME:CEST
TZOFFSETFROM:+0300
TZOFFSETTO:+0200
DTSTART:19450924T030000
RDATE:19470629T030000
END:DAYLIGHT
BEGIN:STANDARD
TZNAME:CET
TZOFFSETFROM:+0100
TZOFFSETTO:+0100
DTSTART:19460101T000000
RDATE:19800101T000000
END:STANDARD
BEGIN:STANDARD
TZNAME:CET
TZOFFSETFROM:+0200
TZOFFSETTO:+0100
DTSTART:19471005T030000
RRULE:FREQ=YEARLY;UNTIL=19491002T010000Z;BYMONTH=10;BYDAY=1SU
END:STANDARD
BEGIN:STANDARD
TZNAME:CET
TZOFFSETFROM:+0200
TZOFFSETTO:+0100
DTSTART:19800928T030000
RRULE:FREQ=YEARLY;UNTIL=19950924T010000Z;BYMONTH=9;BYDAY=-1SU
END:STANDARD
BEGIN:DAYLIGHT
TZNAME:CEST
TZOFFSETFROM:+0100
TZOFFSETTO:+0200
DTSTART:19810329T020000
RRULE:FREQ=YEARLY;BYMONTH=3;BYDAY=-1SU
END:DAYLIGHT
BEGIN:STANDARD
TZNAME:CET
TZOFFSETFROM:+0200
TZOFFSETTO:+0100
DTSTART:19961027T030000
RRULE:FREQ=YEARLY;BYMONTH=10;BYDAY=-1SU
END:STANDARD
END:VTIMEZONE
BEGIN:VEVENT
DTSTAMP:20260424T170603Z
DTSTART;TZID=Europe/Berlin:20221009T160000
DTEND;TZID=Europe/Berlin:20221009T190000
SUMMARY:DA NLB Gr. 1 Münsingen vs Rapid Luzern II (4)
UID:6b82c99e-460d-496c-9b9a-f70f9a74b9e4
STATUS:CONFIRMED
LAST-MODIFIED:20221010T063243Z
DESCRIPTION:Damen Nationalliga B\, Gruppe 1\nBegegnungs-Nr: 4\nHeim: Münsingen\nGast: Rapid Luzern II\n\nAdresse: Turnhallenweg 8\, 3110 Münsingen\n
LOCATION:Turnhallenweg 8\, 3110 Münsingen
CATEGORIES:Saison 2022/23
END:VEVENT
BEGIN:VEVENT
DTSTAMP:20260424T170603Z
DTSTART;TZID=Europe/Berlin:20221016T160000
DTEND;TZID=Europe/Berlin:20221016T190000
SUMMARY:DA NLB Gr. 1 Münsingen vs Lausanne (9)
UID:2d54c852-0a76-4fc0-a105-6603f5afad9f
STATUS:CONFIRMED
LAST-MODIFIED:20221021T145223Z
DESCRIPTION:Damen Nationalliga B\, Gruppe 1\nBegegnungs-Nr: 9\nHeim: Münsingen\nGast: Lausanne\n\nAdresse: Turnhallenweg 8\, 3110 Münsingen\n
LOCATION:Turnhallenweg 8\, 3110 Münsingen
CATEGORIES:Saison 2022/23
END:VEVENT
BEGIN:VEVENT
DTSTAMP:20260424T170603Z
DTSTART;TZID=Europe/Berlin:20230402T160000
DTEND;TZID=Europe/Berlin:20230402T190000
SUMMARY:DA NLB Aufstiegsrunde Münsingen vs Lausanne (14)
UID:d4953451-1130-4f05-814a-6511cd480d51
STATUS:CONFIRMED
LAST-MODIFIED:20230403T115454Z
DESCRIPTION:Damen Nationalliga B Aufstiegsrunde\nBegegnungs-Nr: 14\nHeim: Münsingen\nGast: Lausanne\n\nAdresse: Turnhallenweg 8\, 3110 Münsingen\n
LOCATION:Turnhallenweg 8\, 3110 Münsingen
CATEGORIES:Saison 2022/23
END:VEVENT
BEGIN:VEVENT
DTSTAMP:20260424T170603Z
DTSTART;TZID=Europe/Berlin:20230122T160000
DTEND;TZID=Europe/Berlin:20230122T190000
SUMMARY:DA NLB Aufstiegsrunde Münsingen vs Wädenswil II (4)
UID:bbd12e78-8199-4651-9bd9-e3e817591ffd
STATUS:CONFIRMED
LAST-MODIFIED:20230123T073943Z
DESCRIPTION:Damen Nationalliga B Aufstiegsrunde\nBegegnungs-Nr: 4\nHeim: Münsingen\nGast: Wädenswil II\n\nAdresse: Turnhallenweg 8\, 3110 Münsingen\n
LOCATION:Turnhallenweg 8\, 3110 Münsingen
CATEGORIES:Saison 2022/23
END:VEVENT
BEGIN:VEVENT
DTSTAMP:20260424T170603Z
DTSTART;TZID=Europe/Berlin:20220917T160000
DTEND;TZID=Europe/Berlin:20220917T190000
SUMMARY:DA NLB Gr. 1 ZZ-Lancy II vs Münsingen (1)
UID:f3a9dab9-7cae-42fe-a5cd-3a6feea9d919
STATUS:CONFIRMED
LAST-MODIFIED:20220919T113846Z
DESCRIPTION:Damen Nationalliga B\, Gruppe 1\nBegegnungs-Nr: 1\nHeim: ZZ-Lancy II\nGast: Münsingen\n\nAdresse: Avenue du Curé-Baud 40\, 1212 Grand-Lancy\n
LOCATION:Avenue du Curé-Baud 40\, 1212 Grand-Lancy
CATEGORIES:Saison 2022/23
END:VEVENT
BEGIN:VEVENT
DTSTAMP:20260424T170603Z
DTSTART;TZID=Europe/Berlin:20221202T200000
DTEND;TZID=Europe/Berlin:20221202T230000
SUMMARY:DA NLB Gr. 1 Rio-Star Muttenz vs Münsingen (14)
UID:796ec607-e1d1-4aba-aa88-75e2242c0d76
STATUS:CONFIRMED
LAST-MODIFIED:20230116T050323Z
DESCRIPTION:Damen Nationalliga B\, Gruppe 1\nBegegnungs-Nr: 14\nHeim: Rio-Star Muttenz\nGast: Münsingen\n\nAdresse: Gründenstrasse 32\, 4132 Muttenz\n
LOCATION:Gründenstrasse 32\, 4132 Muttenz
CATEGORIES:Saison 2022/23
END:VEVENT
BEGIN:VEVENT
DTSTAMP:20260424T170603Z
DTSTART;TZID=Europe/Berlin:20221112T130000
DTEND;TZID=Europe/Berlin:20221112T160000
SUMMARY:DA NLB Gr. 1 Thun vs Münsingen (12)
UID:53d3c7be-d75c-48dd-b76c-98c16c771c7e
STATUS:CONFIRMED
LAST-MODIFIED:20221114T081508Z
DESCRIPTION:Damen Nationalliga B\, Gruppe 1\nBegegnungs-Nr: 12\nHeim: Thun\nGast: Münsingen\n\nAdresse: Hallerstrasse 28\, 3604 Thun\n
LOCATION:Hallerstrasse 28\, 3604 Thun
CATEGORIES:Saison 2022/23
END:VEVENT
BEGIN:VEVENT
DTSTAMP:20260424T170603Z
DTSTART;TZID=Europe/Berlin:20230214T193000
DTEND;TZID=Europe/Berlin:20230214T223000
SUMMARY:DA NLB Aufstiegsrunde Thun vs Münsingen (9)
UID:cec593c4-a810-4dfe-9979-3f4d5ef9ee1f
STATUS:CONFIRMED
LAST-MODIFIED:20230220T153353Z
DESCRIPTION:Damen Nationalliga B Aufstiegsrunde\nBegegnungs-Nr: 9\nHeim: Thun\nGast: Münsingen\n\nAdresse: Hallerstrasse 28\, 3604 Thun\n
LOCATION:Hallerstrasse 28\, 3604 Thun
CATEGORIES:Saison 2022/23
END:VEVENT
BEGIN:VEVENT
DTSTAMP:20260424T170603Z
DTSTART;TZID=Europe/Berlin:20230204T143000
DTEND;TZID=Europe/Berlin:20230204T173000
SUMMARY:DA NLB Aufstiegsrunde Kloten vs Münsingen (12)
UID:53c8de6d-e0f7-4971-8ac0-1d7b37554a54
STATUS:CONFIRMED
LAST-MODIFIED:20230206T080851Z
DESCRIPTION:Damen Nationalliga B Aufstiegsrunde\nBegegnungs-Nr: 12\nHeim: Kloten\nGast: Münsingen\n\nAdresse: Schluefweg 10\, 8302 Kloten\n
LOCATION:Schluefweg 10\, 8302 Kloten
CATEGORIES:Saison 2022/23
END:VEVENT
BEGIN:VEVENT
DTSTAMP:20260424T170603Z
DTSTART;TZID=Europe/Berlin:20230114T160000
DTEND;TZID=Europe/Berlin:20230114T190000
SUMMARY:DA NLB Aufstiegsrunde Uster vs Münsingen (2)
UID:2e4eb9be-5744-4a47-a742-f9b0d68c52de
STATUS:CONFIRMED
LAST-MODIFIED:20230116T091550Z
DESCRIPTION:Damen Nationalliga B Aufstiegsrunde\nBegegnungs-Nr: 2\nHeim: Uster\nGast: Münsingen\n\nAdresse: Wilstrasse 30 / Zürcherstrasse\, 8610 Uster\n
LOCATION:Wilstrasse 30 / Zürcherstrasse\, 8610 Uster
CATEGORIES:Saison 2022/23
END:VEVENT
END:VCALENDAR
