BEGIN:VCALENDAR
PRODID:-//nuDatenautomaten//framework iCal4j //DE
VERSION:2.0
CALSCALE:GREGORIAN
BEGIN:VTIMEZONE
TZID:Europe/Berlin
LAST-MODIFIED:20260306T231828Z
TZURL:https://www.tzurl.org/zoneinfo/Europe/Berlin
X-LIC-LOCATION:Europe/Berlin
X-PROLEPTIC-TZNAME:LMT
BEGIN:STANDARD
TZNAME:CET
TZOFFSETFROM:+005328
TZOFFSETTO:+0100
DTSTART:18930401T000000
END:STANDARD
BEGIN:DAYLIGHT
TZNAME:CEST
TZOFFSETFROM:+0100
TZOFFSETTO:+0200
DTSTART:19160430T230000
RDATE:19400401T020000
RDATE:19430329T020000
RDATE:19460414T020000
RDATE:19470406T030000
RDATE:19480418T020000
RDATE:19490410T020000
RDATE:19800406T020000
END:DAYLIGHT
BEGIN:STANDARD
TZNAME:CET
TZOFFSETFROM:+0200
TZOFFSETTO:+0100
DTSTART:19161001T010000
RDATE:19421102T030000
RDATE:19431004T030000
RDATE:19441002T030000
RDATE:19451118T030000
RDATE:19461007T030000
END:STANDARD
BEGIN:DAYLIGHT
TZNAME:CEST
TZOFFSETFROM:+0100
TZOFFSETTO:+0200
DTSTART:19170416T020000
RRULE:FREQ=YEARLY;UNTIL=19180415T010000Z;BYMONTH=4;BYDAY=3MO
END:DAYLIGHT
BEGIN:STANDARD
TZNAME:CET
TZOFFSETFROM:+0200
TZOFFSETTO:+0100
DTSTART:19170917T030000
RRULE:FREQ=YEARLY;UNTIL=19180916T010000Z;BYMONTH=9;BYDAY=3MO
END:STANDARD
BEGIN:DAYLIGHT
TZNAME:CEST
TZOFFSETFROM:+0100
TZOFFSETTO:+0200
DTSTART:19440403T020000
RRULE:FREQ=YEARLY;UNTIL=19450402T010000Z;BYMONTH=4;BYDAY=1MO
END:DAYLIGHT
BEGIN:DAYLIGHT
TZNAME:CEMT
TZOFFSETFROM:+0200
TZOFFSETTO:+0300
DTSTART:19450524T020000
RDATE:19470511T030000
END:DAYLIGHT
BEGIN:DAYLIGHT
TZNAME:CEST
TZOFFSETFROM:+0300
TZOFFSETTO:+0200
DTSTART:19450924T030000
RDATE:19470629T030000
END:DAYLIGHT
BEGIN:STANDARD
TZNAME:CET
TZOFFSETFROM:+0100
TZOFFSETTO:+0100
DTSTART:19460101T000000
RDATE:19800101T000000
END:STANDARD
BEGIN:STANDARD
TZNAME:CET
TZOFFSETFROM:+0200
TZOFFSETTO:+0100
DTSTART:19471005T030000
RRULE:FREQ=YEARLY;UNTIL=19491002T010000Z;BYMONTH=10;BYDAY=1SU
END:STANDARD
BEGIN:STANDARD
TZNAME:CET
TZOFFSETFROM:+0200
TZOFFSETTO:+0100
DTSTART:19800928T030000
RRULE:FREQ=YEARLY;UNTIL=19950924T010000Z;BYMONTH=9;BYDAY=-1SU
END:STANDARD
BEGIN:DAYLIGHT
TZNAME:CEST
TZOFFSETFROM:+0100
TZOFFSETTO:+0200
DTSTART:19810329T020000
RRULE:FREQ=YEARLY;BYMONTH=3;BYDAY=-1SU
END:DAYLIGHT
BEGIN:STANDARD
TZNAME:CET
TZOFFSETFROM:+0200
TZOFFSETTO:+0100
DTSTART:19961027T030000
RRULE:FREQ=YEARLY;BYMONTH=10;BYDAY=-1SU
END:STANDARD
END:VTIMEZONE
BEGIN:VEVENT
DTSTAMP:20260426T033848Z
DTSTART;TZID=Europe/Berlin:20220905T201500
DTEND;TZID=Europe/Berlin:20220905T231500
SUMMARY:DA 1. Liga Gr. 1 Uster II vs Wetzikon II (0)
UID:cedeb890-398e-4780-a939-3c5446cff68e
STATUS:CONFIRMED
LAST-MODIFIED:20220912T072220Z
DESCRIPTION:1. Liga Damen Gruppe 1\nBegegnungs-Nr: 0\nHeim: Uster II\nGast: Wetzikon II\n\nAdresse: Wilstrasse 30 / Zürcherstrasse\, 8610 Uster\n
LOCATION:Wilstrasse 30 / Zürcherstrasse\, 8610 Uster
CATEGORIES:Saison 2022/23
END:VEVENT
BEGIN:VEVENT
DTSTAMP:20260426T033848Z
DTSTART;TZID=Europe/Berlin:20220926T201500
DTEND;TZID=Europe/Berlin:20220926T231500
SUMMARY:DA 1. Liga Gr. 1 Uster II vs Wädenswil III (0)
UID:b9c13db1-bfa9-49ae-ab54-74a790c4ebf4
STATUS:CONFIRMED
LAST-MODIFIED:20221014T174859Z
DESCRIPTION:1. Liga Damen Gruppe 1\nBegegnungs-Nr: 0\nHeim: Uster II\nGast: Wädenswil III\n\nAdresse: Wilstrasse 30 / Zürcherstrasse\, 8610 Uster\n
LOCATION:Wilstrasse 30 / Zürcherstrasse\, 8610 Uster
CATEGORIES:Saison 2022/23
END:VEVENT
BEGIN:VEVENT
DTSTAMP:20260426T033848Z
DTSTART;TZID=Europe/Berlin:20221107T201500
DTEND;TZID=Europe/Berlin:20221107T231500
SUMMARY:DA 1. Liga Gr. 1 Uster II vs Bronschhofen (0)
UID:b76dccab-e1da-4d43-9d73-195311dac0da
STATUS:CONFIRMED
LAST-MODIFIED:20221108T162946Z
DESCRIPTION:1. Liga Damen Gruppe 1\nBegegnungs-Nr: 0\nHeim: Uster II\nGast: Bronschhofen\n\nAdresse: Wilstrasse 30 / Zürcherstrasse\, 8610 Uster\n
LOCATION:Wilstrasse 30 / Zürcherstrasse\, 8610 Uster
CATEGORIES:Saison 2022/23
END:VEVENT
BEGIN:VEVENT
DTSTAMP:20260426T033848Z
DTSTART;TZID=Europe/Berlin:20221128T201500
DTEND;TZID=Europe/Berlin:20221128T231500
SUMMARY:DA 1. Liga Gr. 1 Uster II vs Imperial Winterthur (0)
UID:0b29063e-c6bf-4368-80e2-03ff74ef3282
STATUS:CONFIRMED
LAST-MODIFIED:20221130T144025Z
DESCRIPTION:1. Liga Damen Gruppe 1\nBegegnungs-Nr: 0\nHeim: Uster II\nGast: Imperial Winterthur\n\nAdresse: Wilstrasse 30 / Zürcherstrasse\, 8610 Uster\n
LOCATION:Wilstrasse 30 / Zürcherstrasse\, 8610 Uster
CATEGORIES:Saison 2022/23
END:VEVENT
BEGIN:VEVENT
DTSTAMP:20260426T033848Z
DTSTART;TZID=Europe/Berlin:20230213T201500
DTEND;TZID=Europe/Berlin:20230213T231500
SUMMARY:DA 1. Liga Gr. 1 Uster II vs Rapperswil-Jona (0)
UID:5ab46e71-7931-46ec-abb5-0c40560cc6ba
STATUS:CONFIRMED
LAST-MODIFIED:20230215T134713Z
DESCRIPTION:1. Liga Damen Gruppe 1\nBegegnungs-Nr: 0\nHeim: Uster II\nGast: Rapperswil-Jona\n\nAdresse: Wilstrasse 30 / Zürcherstrasse\, 8610 Uster\n
LOCATION:Wilstrasse 30 / Zürcherstrasse\, 8610 Uster
CATEGORIES:Saison 2022/23
END:VEVENT
BEGIN:VEVENT
DTSTAMP:20260426T033848Z
DTSTART;TZID=Europe/Berlin:20230403T201500
DTEND;TZID=Europe/Berlin:20230403T231500
SUMMARY:DA 1. Liga Gr. 1 Uster II vs Wetzikon (0)
UID:436c6a36-6e85-41e2-b3f4-7b863c771f8e
STATUS:CONFIRMED
LAST-MODIFIED:20230405T120852Z
DESCRIPTION:1. Liga Damen Gruppe 1\nBegegnungs-Nr: 0\nHeim: Uster II\nGast: Wetzikon\n\nAdresse: Wilstrasse 30 / Zürcherstrasse\, 8610 Uster\n
LOCATION:Wilstrasse 30 / Zürcherstrasse\, 8610 Uster
CATEGORIES:Saison 2022/23
END:VEVENT
BEGIN:VEVENT
DTSTAMP:20260426T033848Z
DTSTART;TZID=Europe/Berlin:20230306T201500
DTEND;TZID=Europe/Berlin:20230306T231500
SUMMARY:DA 1. Liga Gr. 1 Uster II vs Zürich-Affoltern II (0)
UID:e371fba3-f305-4bc2-a899-126d42407517
STATUS:CONFIRMED
LAST-MODIFIED:20230307T102249Z
DESCRIPTION:1. Liga Damen Gruppe 1\nBegegnungs-Nr: 0\nHeim: Uster II\nGast: Zürich-Affoltern II\n\nAdresse: Wilstrasse 30 / Zürcherstrasse\, 8610 Uster\n
LOCATION:Wilstrasse 30 / Zürcherstrasse\, 8610 Uster
CATEGORIES:Saison 2022/23
END:VEVENT
BEGIN:VEVENT
DTSTAMP:20260426T033848Z
DTSTART;TZID=Europe/Berlin:20230317T200000
DTEND;TZID=Europe/Berlin:20230317T230000
SUMMARY:DA 1. Liga Gr. 1 Bronschhofen vs Uster II (0)
UID:df92c74a-2e3f-48fd-9939-c8de7d8b6987
STATUS:CONFIRMED
LAST-MODIFIED:20230328T100901Z
DESCRIPTION:1. Liga Damen Gruppe 1\nBegegnungs-Nr: 0\nHeim: Bronschhofen\nGast: Uster II\n\nAdresse: Schulstrasse 6\, 9552 Bronschhofen\n
LOCATION:Schulstrasse 6\, 9552 Bronschhofen
CATEGORIES:Saison 2022/23
END:VEVENT
BEGIN:VEVENT
DTSTAMP:20260426T033848Z
DTSTART;TZID=Europe/Berlin:20230327T200000
DTEND;TZID=Europe/Berlin:20230327T230000
SUMMARY:DA 1. Liga Gr. 1 Imperial Winterthur vs Uster II (0)
UID:83226a4f-9a17-4a93-b42e-fa787246a1c7
STATUS:CONFIRMED
LAST-MODIFIED:20230328T101557Z
DESCRIPTION:1. Liga Damen Gruppe 1\nBegegnungs-Nr: 0\nHeim: Imperial Winterthur\nGast: Uster II\n\nAdresse: Büelhofstrasse 25a\, 8405 Winterthur\n
LOCATION:Büelhofstrasse 25a\, 8405 Winterthur
CATEGORIES:Saison 2022/23
END:VEVENT
BEGIN:VEVENT
DTSTAMP:20260426T033848Z
DTSTART;TZID=Europe/Berlin:20230211T093000
DTEND;TZID=Europe/Berlin:20230211T123000
SUMMARY:DA 1. Liga Gr. 1 Wädenswil III vs Uster II (0)
UID:44ec8d42-4177-4445-ad4b-73e24f7934dc
STATUS:CONFIRMED
LAST-MODIFIED:20230215T134703Z
DESCRIPTION:1. Liga Damen Gruppe 1\nBegegnungs-Nr: 0\nHeim: Wädenswil III\nGast: Uster II\n\nAdresse: Fuhrstrasse 16b\, 8820 Wädenswil\n
LOCATION:Fuhrstrasse 16b\, 8820 Wädenswil
CATEGORIES:Saison 2022/23
END:VEVENT
BEGIN:VEVENT
DTSTAMP:20260426T033848Z
DTSTART;TZID=Europe/Berlin:20221212T194500
DTEND;TZID=Europe/Berlin:20221212T224500
SUMMARY:DA 1. Liga Gr. 1 Wetzikon vs Uster II (0)
UID:0af76f8d-9c3b-4b09-aa8d-e0c5026d4f82
STATUS:CONFIRMED
LAST-MODIFIED:20221215T085558Z
DESCRIPTION:1. Liga Damen Gruppe 1\nBegegnungs-Nr: 0\nHeim: Wetzikon\nGast: Uster II\n\nAdresse: Usterstrasse 37\, 8620 Wetzikon\n
LOCATION:Usterstrasse 37\, 8620 Wetzikon
CATEGORIES:Saison 2022/23
END:VEVENT
BEGIN:VEVENT
DTSTAMP:20260426T033848Z
DTSTART;TZID=Europe/Berlin:20220919T193000
DTEND;TZID=Europe/Berlin:20220919T223000
SUMMARY:DA 1. Liga Gr. 1 Rapperswil-Jona vs Uster II (0)
UID:e80c6074-89aa-40ce-be99-2d86c13bc58f
STATUS:CONFIRMED
LAST-MODIFIED:20220923T144956Z
DESCRIPTION:1. Liga Damen Gruppe 1\nBegegnungs-Nr: 0\nHeim: Rapperswil-Jona\nGast: Uster II\n\nAdresse: Holzwiesstrasse 39\, 8645 Jona\n
LOCATION:Holzwiesstrasse 39\, 8645 Jona
CATEGORIES:Saison 2022/23
END:VEVENT
BEGIN:VEVENT
DTSTAMP:20260426T033848Z
DTSTART;TZID=Europe/Berlin:20221103T201500
DTEND;TZID=Europe/Berlin:20221103T231500
SUMMARY:DA 1. Liga Gr. 1 Zürich-Affoltern II vs Uster II (0)
UID:8b59741c-7817-4c84-8446-7103bd9eb906
STATUS:CONFIRMED
LAST-MODIFIED:20221108T162901Z
DESCRIPTION:1. Liga Damen Gruppe 1\nBegegnungs-Nr: 0\nHeim: Zürich-Affoltern II\nGast: Uster II\n\nAdresse: Rümlangstr. 89\, 8052 Zürich\n
LOCATION:Rümlangstr. 89\, 8052 Zürich
CATEGORIES:Saison 2022/23
END:VEVENT
BEGIN:VEVENT
DTSTAMP:20260426T033848Z
DTSTART;TZID=Europe/Berlin:20230203T194500
DTEND;TZID=Europe/Berlin:20230203T224500
SUMMARY:DA 1. Liga Gr. 1 Wetzikon II vs Uster II (0)
UID:fffc0022-3cb1-4d57-8928-20cc287ae039
STATUS:CONFIRMED
LAST-MODIFIED:20230209T125119Z
DESCRIPTION:1. Liga Damen Gruppe 1\nBegegnungs-Nr: 0\nHeim: Wetzikon II\nGast: Uster II\n\nAdresse: Usterstrasse 37\, 8620 Wetzikon\n
LOCATION:Usterstrasse 37\, 8620 Wetzikon
CATEGORIES:Saison 2022/23
END:VEVENT
END:VCALENDAR
