BEGIN:VCALENDAR
PRODID:-//nuDatenautomaten//framework iCal4j //DE
VERSION:2.0
CALSCALE:GREGORIAN
BEGIN:VTIMEZONE
TZID:Europe/Berlin
LAST-MODIFIED:20260306T231828Z
TZURL:https://www.tzurl.org/zoneinfo/Europe/Berlin
X-LIC-LOCATION:Europe/Berlin
X-PROLEPTIC-TZNAME:LMT
BEGIN:STANDARD
TZNAME:CET
TZOFFSETFROM:+005328
TZOFFSETTO:+0100
DTSTART:18930401T000000
END:STANDARD
BEGIN:DAYLIGHT
TZNAME:CEST
TZOFFSETFROM:+0100
TZOFFSETTO:+0200
DTSTART:19160430T230000
RDATE:19400401T020000
RDATE:19430329T020000
RDATE:19460414T020000
RDATE:19470406T030000
RDATE:19480418T020000
RDATE:19490410T020000
RDATE:19800406T020000
END:DAYLIGHT
BEGIN:STANDARD
TZNAME:CET
TZOFFSETFROM:+0200
TZOFFSETTO:+0100
DTSTART:19161001T010000
RDATE:19421102T030000
RDATE:19431004T030000
RDATE:19441002T030000
RDATE:19451118T030000
RDATE:19461007T030000
END:STANDARD
BEGIN:DAYLIGHT
TZNAME:CEST
TZOFFSETFROM:+0100
TZOFFSETTO:+0200
DTSTART:19170416T020000
RRULE:FREQ=YEARLY;UNTIL=19180415T010000Z;BYMONTH=4;BYDAY=3MO
END:DAYLIGHT
BEGIN:STANDARD
TZNAME:CET
TZOFFSETFROM:+0200
TZOFFSETTO:+0100
DTSTART:19170917T030000
RRULE:FREQ=YEARLY;UNTIL=19180916T010000Z;BYMONTH=9;BYDAY=3MO
END:STANDARD
BEGIN:DAYLIGHT
TZNAME:CEST
TZOFFSETFROM:+0100
TZOFFSETTO:+0200
DTSTART:19440403T020000
RRULE:FREQ=YEARLY;UNTIL=19450402T010000Z;BYMONTH=4;BYDAY=1MO
END:DAYLIGHT
BEGIN:DAYLIGHT
TZNAME:CEMT
TZOFFSETFROM:+0200
TZOFFSETTO:+0300
DTSTART:19450524T020000
RDATE:19470511T030000
END:DAYLIGHT
BEGIN:DAYLIGHT
TZNAME:CEST
TZOFFSETFROM:+0300
TZOFFSETTO:+0200
DTSTART:19450924T030000
RDATE:19470629T030000
END:DAYLIGHT
BEGIN:STANDARD
TZNAME:CET
TZOFFSETFROM:+0100
TZOFFSETTO:+0100
DTSTART:19460101T000000
RDATE:19800101T000000
END:STANDARD
BEGIN:STANDARD
TZNAME:CET
TZOFFSETFROM:+0200
TZOFFSETTO:+0100
DTSTART:19471005T030000
RRULE:FREQ=YEARLY;UNTIL=19491002T010000Z;BYMONTH=10;BYDAY=1SU
END:STANDARD
BEGIN:STANDARD
TZNAME:CET
TZOFFSETFROM:+0200
TZOFFSETTO:+0100
DTSTART:19800928T030000
RRULE:FREQ=YEARLY;UNTIL=19950924T010000Z;BYMONTH=9;BYDAY=-1SU
END:STANDARD
BEGIN:DAYLIGHT
TZNAME:CEST
TZOFFSETFROM:+0100
TZOFFSETTO:+0200
DTSTART:19810329T020000
RRULE:FREQ=YEARLY;BYMONTH=3;BYDAY=-1SU
END:DAYLIGHT
BEGIN:STANDARD
TZNAME:CET
TZOFFSETFROM:+0200
TZOFFSETTO:+0100
DTSTART:19961027T030000
RRULE:FREQ=YEARLY;BYMONTH=10;BYDAY=-1SU
END:STANDARD
END:VTIMEZONE
BEGIN:VEVENT
DTSTAMP:20260426T033442Z
DTSTART;TZID=Europe/Berlin:20220818T200000
DTEND;TZID=Europe/Berlin:20220818T230000
SUMMARY:O40 3. Liga Gr. 2 Winterthur II vs Dübendorf-Volketswil II (0)
UID:c10b3981-0176-4307-b332-ee92cf40dc02
STATUS:CONFIRMED
LAST-MODIFIED:20220822T061410Z
DESCRIPTION:3. Liga O40 Gruppe 2\nBegegnungs-Nr: 0\nHeim: Winterthur II\nGast: Dübendorf-Volketswil II\n\nAdresse: Buchackerstrasse 54\, 8400 Winterthur\n
LOCATION:Buchackerstrasse 54\, 8400 Winterthur
CATEGORIES:Saison 2022/23
END:VEVENT
BEGIN:VEVENT
DTSTAMP:20260426T033442Z
DTSTART;TZID=Europe/Berlin:20221208T200000
DTEND;TZID=Europe/Berlin:20221208T230000
SUMMARY:O40 3. Liga Gr. 2 Winterthur II vs Urdorf (0)
UID:0647707b-08fe-4fa7-aaaf-f395333c2b62
STATUS:CONFIRMED
LAST-MODIFIED:20221212T145106Z
DESCRIPTION:3. Liga O40 Gruppe 2\nBegegnungs-Nr: 0\nHeim: Winterthur II\nGast: Urdorf\n\nAdresse: Buchackerstrasse 54\, 8400 Winterthur\n
LOCATION:Buchackerstrasse 54\, 8400 Winterthur
CATEGORIES:Saison 2022/23
END:VEVENT
BEGIN:VEVENT
DTSTAMP:20260426T033442Z
DTSTART;TZID=Europe/Berlin:20221215T200000
DTEND;TZID=Europe/Berlin:20221215T230000
SUMMARY:O40 3. Liga Gr. 2 Winterthur II vs Uster II (0)
UID:a628fe91-2f81-4e35-95ef-fd5a1a267887
STATUS:CONFIRMED
LAST-MODIFIED:20221216T153501Z
DESCRIPTION:3. Liga O40 Gruppe 2\nBegegnungs-Nr: 0\nHeim: Winterthur II\nGast: Uster II\n\nAdresse: Buchackerstrasse 54\, 8400 Winterthur\n
LOCATION:Buchackerstrasse 54\, 8400 Winterthur
CATEGORIES:Saison 2022/23
END:VEVENT
BEGIN:VEVENT
DTSTAMP:20260426T033442Z
DTSTART;TZID=Europe/Berlin:20230202T200000
DTEND;TZID=Europe/Berlin:20230202T230000
SUMMARY:O40 3. Liga Gr. 2 Winterthur II vs Affoltern A/A II (0)
UID:1d26da40-8041-4b08-9a81-d311b71e58dc
STATUS:CONFIRMED
LAST-MODIFIED:20230209T125558Z
DESCRIPTION:3. Liga O40 Gruppe 2\nBegegnungs-Nr: 0\nHeim: Winterthur II\nGast: Affoltern A/A II\n\nAdresse: Buchackerstrasse 54\, 8400 Winterthur\n
LOCATION:Buchackerstrasse 54\, 8400 Winterthur
CATEGORIES:Saison 2022/23
END:VEVENT
BEGIN:VEVENT
DTSTAMP:20260426T033442Z
DTSTART;TZID=Europe/Berlin:20230323T200000
DTEND;TZID=Europe/Berlin:20230323T230000
SUMMARY:O40 3. Liga Gr. 2 Winterthur II vs Dietikon-Weiningen (0)
UID:ecdfeef2-5e66-4200-a982-d31a87d3ff27
STATUS:CONFIRMED
LAST-MODIFIED:20230328T102159Z
DESCRIPTION:3. Liga O40 Gruppe 2\nBegegnungs-Nr: 0\nHeim: Winterthur II\nGast: Dietikon-Weiningen\n\nAdresse: Buchackerstrasse 54\, 8400 Winterthur\n
LOCATION:Buchackerstrasse 54\, 8400 Winterthur
CATEGORIES:Saison 2022/23
END:VEVENT
BEGIN:VEVENT
DTSTAMP:20260426T033442Z
DTSTART;TZID=Europe/Berlin:20230504T200000
DTEND;TZID=Europe/Berlin:20230504T230000
SUMMARY:O40 3. Liga Gr. 2 Winterthur II vs Niederhasli II (0)
UID:f3929515-6c6e-4e39-bafd-7ae19955fa38
STATUS:CONFIRMED
LAST-MODIFIED:20230510T122648Z
DESCRIPTION:3. Liga O40 Gruppe 2\nBegegnungs-Nr: 0\nHeim: Winterthur II\nGast: Niederhasli II\n\nAdresse: Buchackerstrasse 54\, 8400 Winterthur\n
LOCATION:Buchackerstrasse 54\, 8400 Winterthur
CATEGORIES:Saison 2022/23
END:VEVENT
BEGIN:VEVENT
DTSTAMP:20260426T033442Z
DTSTART;TZID=Europe/Berlin:20220826T194500
DTEND;TZID=Europe/Berlin:20220826T224500
SUMMARY:O40 3. Liga Gr. 2 Affoltern A/A II vs Winterthur II (0)
UID:3922bce0-2471-4b31-914a-91b86618d764
STATUS:CONFIRMED
LAST-MODIFIED:20220829T054239Z
DESCRIPTION:3. Liga O40 Gruppe 2\nBegegnungs-Nr: 0\nHeim: Affoltern A/A II\nGast: Winterthur II\n\nAdresse: Butzenstr. 2\, 8910 Affoltern am Albis\n
LOCATION:Butzenstr. 2\, 8910 Affoltern am Albis
CATEGORIES:Saison 2022/23
END:VEVENT
BEGIN:VEVENT
DTSTAMP:20260426T033442Z
DTSTART;TZID=Europe/Berlin:20221025T200000
DTEND;TZID=Europe/Berlin:20221025T230000
SUMMARY:O40 3. Liga Gr. 2 Dietikon-Weiningen vs Winterthur II (0)
UID:e34fb27c-07de-49e3-b798-45e875dc2503
STATUS:CONFIRMED
LAST-MODIFIED:20221101T091919Z
DESCRIPTION:3. Liga O40 Gruppe 2\nBegegnungs-Nr: 0\nHeim: Dietikon-Weiningen\nGast: Winterthur II\n\nAdresse: Bohnackerstrasse 5\, 8953 Dietikon\n
LOCATION:Bohnackerstrasse 5\, 8953 Dietikon
CATEGORIES:Saison 2022/23
END:VEVENT
BEGIN:VEVENT
DTSTAMP:20260426T033442Z
DTSTART;TZID=Europe/Berlin:20230117T201500
DTEND;TZID=Europe/Berlin:20230117T231500
SUMMARY:O40 3. Liga Gr. 2 Dübendorf-Volketswil II vs Winterthur II (0)
UID:e8142ace-60bd-479e-b103-9cbed87806f3
STATUS:CONFIRMED
LAST-MODIFIED:20230127T163705Z
DESCRIPTION:3. Liga O40 Gruppe 2\nBegegnungs-Nr: 0\nHeim: Dübendorf-Volketswil II\nGast: Winterthur II\n\nAdresse: Dübendorfstrasse 46\, 8602 Wangen ZH\n
LOCATION:Dübendorfstrasse 46\, 8602 Wangen ZH
CATEGORIES:Saison 2022/23
END:VEVENT
BEGIN:VEVENT
DTSTAMP:20260426T033442Z
DTSTART;TZID=Europe/Berlin:20230412T200000
DTEND;TZID=Europe/Berlin:20230412T230000
SUMMARY:O40 3. Liga Gr. 2 Urdorf vs Winterthur II (0)
UID:90c11db4-87e1-457d-9355-57817f1faf9f
STATUS:CONFIRMED
LAST-MODIFIED:20230420T102240Z
DESCRIPTION:3. Liga O40 Gruppe 2\nBegegnungs-Nr: 0\nHeim: Urdorf\nGast: Winterthur II\n\nAdresse: Weihermattstrasse 50\, 8902 Urdorf\n
LOCATION:Weihermattstrasse 50\, 8902 Urdorf
CATEGORIES:Saison 2022/23
END:VEVENT
BEGIN:VEVENT
DTSTAMP:20260426T033442Z
DTSTART;TZID=Europe/Berlin:20230417T201500
DTEND;TZID=Europe/Berlin:20230417T231500
SUMMARY:O40 3. Liga Gr. 2 Uster II vs Winterthur II (0)
UID:d313ec6c-c4a5-499c-b42b-b7f6107b0c25
STATUS:CONFIRMED
LAST-MODIFIED:20230420T102251Z
DESCRIPTION:3. Liga O40 Gruppe 2\nBegegnungs-Nr: 0\nHeim: Uster II\nGast: Winterthur II\n\nAdresse: Wilstrasse 30 / Zürcherstrasse\, 8610 Uster\n
LOCATION:Wilstrasse 30 / Zürcherstrasse\, 8610 Uster
CATEGORIES:Saison 2022/23
END:VEVENT
BEGIN:VEVENT
DTSTAMP:20260426T033442Z
DTSTART;TZID=Europe/Berlin:20221123T193000
DTEND;TZID=Europe/Berlin:20221123T223000
SUMMARY:O40 3. Liga Gr. 2 Niederhasli II vs Winterthur II (0)
UID:a3928a8b-acab-4d3c-966f-72d6209856c4
STATUS:CONFIRMED
LAST-MODIFIED:20221128T150122Z
DESCRIPTION:3. Liga O40 Gruppe 2\nBegegnungs-Nr: 0\nHeim: Niederhasli II\nGast: Winterthur II\n\nAdresse: Dorfstrasse 22\, 8155 Niederhasli\n
LOCATION:Dorfstrasse 22\, 8155 Niederhasli
CATEGORIES:Saison 2022/23
END:VEVENT
END:VCALENDAR
