BEGIN:VCALENDAR
PRODID:-//nuDatenautomaten//framework iCal4j //DE
VERSION:2.0
CALSCALE:GREGORIAN
BEGIN:VTIMEZONE
TZID:Europe/Berlin
LAST-MODIFIED:20260306T231828Z
TZURL:https://www.tzurl.org/zoneinfo/Europe/Berlin
X-LIC-LOCATION:Europe/Berlin
X-PROLEPTIC-TZNAME:LMT
BEGIN:STANDARD
TZNAME:CET
TZOFFSETFROM:+005328
TZOFFSETTO:+0100
DTSTART:18930401T000000
END:STANDARD
BEGIN:DAYLIGHT
TZNAME:CEST
TZOFFSETFROM:+0100
TZOFFSETTO:+0200
DTSTART:19160430T230000
RDATE:19400401T020000
RDATE:19430329T020000
RDATE:19460414T020000
RDATE:19470406T030000
RDATE:19480418T020000
RDATE:19490410T020000
RDATE:19800406T020000
END:DAYLIGHT
BEGIN:STANDARD
TZNAME:CET
TZOFFSETFROM:+0200
TZOFFSETTO:+0100
DTSTART:19161001T010000
RDATE:19421102T030000
RDATE:19431004T030000
RDATE:19441002T030000
RDATE:19451118T030000
RDATE:19461007T030000
END:STANDARD
BEGIN:DAYLIGHT
TZNAME:CEST
TZOFFSETFROM:+0100
TZOFFSETTO:+0200
DTSTART:19170416T020000
RRULE:FREQ=YEARLY;UNTIL=19180415T010000Z;BYMONTH=4;BYDAY=3MO
END:DAYLIGHT
BEGIN:STANDARD
TZNAME:CET
TZOFFSETFROM:+0200
TZOFFSETTO:+0100
DTSTART:19170917T030000
RRULE:FREQ=YEARLY;UNTIL=19180916T010000Z;BYMONTH=9;BYDAY=3MO
END:STANDARD
BEGIN:DAYLIGHT
TZNAME:CEST
TZOFFSETFROM:+0100
TZOFFSETTO:+0200
DTSTART:19440403T020000
RRULE:FREQ=YEARLY;UNTIL=19450402T010000Z;BYMONTH=4;BYDAY=1MO
END:DAYLIGHT
BEGIN:DAYLIGHT
TZNAME:CEMT
TZOFFSETFROM:+0200
TZOFFSETTO:+0300
DTSTART:19450524T020000
RDATE:19470511T030000
END:DAYLIGHT
BEGIN:DAYLIGHT
TZNAME:CEST
TZOFFSETFROM:+0300
TZOFFSETTO:+0200
DTSTART:19450924T030000
RDATE:19470629T030000
END:DAYLIGHT
BEGIN:STANDARD
TZNAME:CET
TZOFFSETFROM:+0100
TZOFFSETTO:+0100
DTSTART:19460101T000000
RDATE:19800101T000000
END:STANDARD
BEGIN:STANDARD
TZNAME:CET
TZOFFSETFROM:+0200
TZOFFSETTO:+0100
DTSTART:19471005T030000
RRULE:FREQ=YEARLY;UNTIL=19491002T010000Z;BYMONTH=10;BYDAY=1SU
END:STANDARD
BEGIN:STANDARD
TZNAME:CET
TZOFFSETFROM:+0200
TZOFFSETTO:+0100
DTSTART:19800928T030000
RRULE:FREQ=YEARLY;UNTIL=19950924T010000Z;BYMONTH=9;BYDAY=-1SU
END:STANDARD
BEGIN:DAYLIGHT
TZNAME:CEST
TZOFFSETFROM:+0100
TZOFFSETTO:+0200
DTSTART:19810329T020000
RRULE:FREQ=YEARLY;BYMONTH=3;BYDAY=-1SU
END:DAYLIGHT
BEGIN:STANDARD
TZNAME:CET
TZOFFSETFROM:+0200
TZOFFSETTO:+0100
DTSTART:19961027T030000
RRULE:FREQ=YEARLY;BYMONTH=10;BYDAY=-1SU
END:STANDARD
END:VTIMEZONE
BEGIN:VEVENT
DTSTAMP:20260426T033919Z
DTSTART;TZID=Europe/Berlin:20220902T200000
DTEND;TZID=Europe/Berlin:20220902T230000
SUMMARY:HE 4. Liga Gr. 8 Glarus II vs Rüti (0)
UID:b6da9acc-bbe6-42bd-9ff8-f6b8e5bbf07f
STATUS:CONFIRMED
LAST-MODIFIED:20220905T093034Z
DESCRIPTION:4. Liga Herren Gruppe 8\nBegegnungs-Nr: 0\nHeim: Glarus II\nGast: Rüti\n\nAdresse: Schwertgasse 23\, 8750 Glarus\n
LOCATION:Schwertgasse 23\, 8750 Glarus
CATEGORIES:Saison 2022/23
END:VEVENT
BEGIN:VEVENT
DTSTAMP:20260426T033919Z
DTSTART;TZID=Europe/Berlin:20221007T200000
DTEND;TZID=Europe/Berlin:20221007T230000
SUMMARY:HE 4. Liga Gr. 8 Glarus II vs Oberriet II (0)
UID:ed8beaf3-eb75-424c-b51e-8a002aa2cc9d
STATUS:CONFIRMED
LAST-MODIFIED:20221014T173747Z
DESCRIPTION:4. Liga Herren Gruppe 8\nBegegnungs-Nr: 0\nHeim: Glarus II\nGast: Oberriet II\n\nAdresse: Schwertgasse 23\, 8750 Glarus\n
LOCATION:Schwertgasse 23\, 8750 Glarus
CATEGORIES:Saison 2022/23
END:VEVENT
BEGIN:VEVENT
DTSTAMP:20260426T033919Z
DTSTART;TZID=Europe/Berlin:20230331T200000
DTEND;TZID=Europe/Berlin:20230331T230000
SUMMARY:HE 4. Liga Gr. 8 Glarus II vs Rapperswil-Jona VI (0)
UID:c92f3f8c-b9a9-42ca-87ea-f09141627584
STATUS:CONFIRMED
LAST-MODIFIED:20230403T093739Z
DESCRIPTION:4. Liga Herren Gruppe 8\nBegegnungs-Nr: 0\nHeim: Glarus II\nGast: Rapperswil-Jona VI\n\nAdresse: Schwertgasse 23\, 8750 Glarus\n
LOCATION:Schwertgasse 23\, 8750 Glarus
CATEGORIES:Saison 2022/23
END:VEVENT
BEGIN:VEVENT
DTSTAMP:20260426T033919Z
DTSTART;TZID=Europe/Berlin:20230210T200000
DTEND;TZID=Europe/Berlin:20230210T230000
SUMMARY:HE 4. Liga Gr. 8 Glarus II vs Ruggell (0)
UID:e035e844-bedc-43c5-8a83-da0518b88fb3
STATUS:CONFIRMED
LAST-MODIFIED:20230215T125215Z
DESCRIPTION:4. Liga Herren Gruppe 8\nBegegnungs-Nr: 0\nHeim: Glarus II\nGast: Ruggell\n\nAdresse: Schwertgasse 23\, 8750 Glarus\n
LOCATION:Schwertgasse 23\, 8750 Glarus
CATEGORIES:Saison 2022/23
END:VEVENT
BEGIN:VEVENT
DTSTAMP:20260426T033919Z
DTSTART;TZID=Europe/Berlin:20230224T200000
DTEND;TZID=Europe/Berlin:20230224T230000
SUMMARY:HE 4. Liga Gr. 8 Glarus II vs Flums III (0)
UID:6fbb7e8e-f044-44f9-91b1-65c7fccdf746
STATUS:CONFIRMED
LAST-MODIFIED:20230228T144535Z
DESCRIPTION:4. Liga Herren Gruppe 8\nBegegnungs-Nr: 0\nHeim: Glarus II\nGast: Flums III\n\nAdresse: Schwertgasse 23\, 8750 Glarus\n
LOCATION:Schwertgasse 23\, 8750 Glarus
CATEGORIES:Saison 2022/23
END:VEVENT
BEGIN:VEVENT
DTSTAMP:20260426T033919Z
DTSTART;TZID=Europe/Berlin:20230310T200000
DTEND;TZID=Europe/Berlin:20230310T230000
SUMMARY:HE 4. Liga Gr. 8 Glarus II vs Balzers (0)
UID:92c6c507-b3de-4278-8e75-00318785e128
STATUS:CONFIRMED
LAST-MODIFIED:20230316T093820Z
DESCRIPTION:4. Liga Herren Gruppe 8\nBegegnungs-Nr: 0\nHeim: Glarus II\nGast: Balzers\n\nAdresse: Schwertgasse 23\, 8750 Glarus\n
LOCATION:Schwertgasse 23\, 8750 Glarus
CATEGORIES:Saison 2022/23
END:VEVENT
BEGIN:VEVENT
DTSTAMP:20260426T033919Z
DTSTART;TZID=Europe/Berlin:20221111T200000
DTEND;TZID=Europe/Berlin:20221111T230000
SUMMARY:HE 4. Liga Gr. 8 Glarus II vs Chur IV (0)
UID:1d6d7d2a-64de-44c7-a0dc-76b948c08d70
STATUS:CONFIRMED
LAST-MODIFIED:20221118T151637Z
DESCRIPTION:4. Liga Herren Gruppe 8\nBegegnungs-Nr: 0\nHeim: Glarus II\nGast: Chur IV\n\nAdresse: Schwertgasse 23\, 8750 Glarus\n
LOCATION:Schwertgasse 23\, 8750 Glarus
CATEGORIES:Saison 2022/23
END:VEVENT
BEGIN:VEVENT
DTSTAMP:20260426T033919Z
DTSTART;TZID=Europe/Berlin:20220917T140000
DTEND;TZID=Europe/Berlin:20220917T170000
SUMMARY:HE 4. Liga Gr. 8 Ruggell vs Glarus II (0)
UID:a7e110b5-4184-4cbd-8158-16b7797cad70
STATUS:CONFIRMED
LAST-MODIFIED:20220923T144207Z
DESCRIPTION:4. Liga Herren Gruppe 8\nBegegnungs-Nr: 0\nHeim: Ruggell\nGast: Glarus II\n\nAdresse: Nellengasse 40\, 9491 Ruggell\n
LOCATION:Nellengasse 40\, 9491 Ruggell
CATEGORIES:Saison 2022/23
END:VEVENT
BEGIN:VEVENT
DTSTAMP:20260426T033919Z
DTSTART;TZID=Europe/Berlin:20220926T200000
DTEND;TZID=Europe/Berlin:20220926T230000
SUMMARY:HE 4. Liga Gr. 8 Flums III vs Glarus II (0)
UID:458e3925-73f9-4baa-9ad9-de3156c75f3e
STATUS:CONFIRMED
LAST-MODIFIED:20220928T122323Z
DESCRIPTION:4. Liga Herren Gruppe 8\nBegegnungs-Nr: 0\nHeim: Flums III\nGast: Glarus II\n\nAdresse: Bergstrasse\, 8890 Flums\n
LOCATION:Bergstrasse\, 8890 Flums
CATEGORIES:Saison 2022/23
END:VEVENT
BEGIN:VEVENT
DTSTAMP:20260426T033919Z
DTSTART;TZID=Europe/Berlin:20221103T200000
DTEND;TZID=Europe/Berlin:20221103T230000
SUMMARY:HE 4. Liga Gr. 8 Balzers vs Glarus II (0)
UID:fa20a408-3a9a-48a8-be51-ca065b0ce94d
STATUS:CONFIRMED
LAST-MODIFIED:20221108T160735Z
DESCRIPTION:4. Liga Herren Gruppe 8\nBegegnungs-Nr: 0\nHeim: Balzers\nGast: Glarus II\n\nAdresse: Gnetsch 41\, 9496 Balzers\n
LOCATION:Gnetsch 41\, 9496 Balzers
CATEGORIES:Saison 2022/23
END:VEVENT
BEGIN:VEVENT
DTSTAMP:20260426T033919Z
DTSTART;TZID=Europe/Berlin:20230110T200000
DTEND;TZID=Europe/Berlin:20230110T230000
SUMMARY:HE 4. Liga Gr. 8 Rüti vs Glarus II (0)
UID:b447332c-01ac-4d6a-8d2b-31a3b1b034b9
STATUS:CONFIRMED
LAST-MODIFIED:20230112T111938Z
DESCRIPTION:4. Liga Herren Gruppe 8\nBegegnungs-Nr: 0\nHeim: Rüti\nGast: Glarus II\n\nAdresse: Spitalstrasse 20\, 8630 Rüti\n
LOCATION:Spitalstrasse 20\, 8630 Rüti
CATEGORIES:Saison 2022/23
END:VEVENT
BEGIN:VEVENT
DTSTAMP:20260426T033919Z
DTSTART;TZID=Europe/Berlin:20230217T201500
DTEND;TZID=Europe/Berlin:20230217T231500
SUMMARY:HE 4. Liga Gr. 8 Oberriet II vs Glarus II (0)
UID:d74969f0-1595-4c98-9800-a32d3f657317
STATUS:CONFIRMED
LAST-MODIFIED:20230223T094045Z
DESCRIPTION:4. Liga Herren Gruppe 8\nBegegnungs-Nr: 0\nHeim: Oberriet II\nGast: Glarus II\n\nAdresse: Neugutstrasse 2\, 9463 Oberriet SG\n
LOCATION:Neugutstrasse 2\, 9463 Oberriet SG
CATEGORIES:Saison 2022/23
END:VEVENT
BEGIN:VEVENT
DTSTAMP:20260426T033919Z
DTSTART;TZID=Europe/Berlin:20230316T200000
DTEND;TZID=Europe/Berlin:20230316T230000
SUMMARY:HE 4. Liga Gr. 8 Chur IV vs Glarus II (0)
UID:1563045b-8c0c-4ede-9e83-0baa2372f372
STATUS:CONFIRMED
LAST-MODIFIED:20230322T140504Z
DESCRIPTION:4. Liga Herren Gruppe 8\nBegegnungs-Nr: 0\nHeim: Chur IV\nGast: Glarus II\n\nAdresse: Sandstr. 35\, 7000 Chur\n
LOCATION:Sandstr. 35\, 7000 Chur
CATEGORIES:Saison 2022/23
END:VEVENT
BEGIN:VEVENT
DTSTAMP:20260426T033919Z
DTSTART;TZID=Europe/Berlin:20221202T193000
DTEND;TZID=Europe/Berlin:20221202T223000
SUMMARY:HE 4. Liga Gr. 8 Rapperswil-Jona VI vs Glarus II (0)
UID:3800255c-f4a1-47b4-8e67-e3a782c12ed5
STATUS:CONFIRMED
LAST-MODIFIED:20221208T114253Z
DESCRIPTION:4. Liga Herren Gruppe 8\nBegegnungs-Nr: 0\nHeim: Rapperswil-Jona VI\nGast: Glarus II\n\nAdresse: Kreuzstrasse 43\, 8640 Rapperswil\n
LOCATION:Kreuzstrasse 43\, 8640 Rapperswil
CATEGORIES:Saison 2022/23
END:VEVENT
END:VCALENDAR
