BEGIN:VCALENDAR
PRODID:-//nuDatenautomaten//framework iCal4j //DE
VERSION:2.0
CALSCALE:GREGORIAN
BEGIN:VTIMEZONE
TZID:Europe/Berlin
LAST-MODIFIED:20260306T231828Z
TZURL:https://www.tzurl.org/zoneinfo/Europe/Berlin
X-LIC-LOCATION:Europe/Berlin
X-PROLEPTIC-TZNAME:LMT
BEGIN:STANDARD
TZNAME:CET
TZOFFSETFROM:+005328
TZOFFSETTO:+0100
DTSTART:18930401T000000
END:STANDARD
BEGIN:DAYLIGHT
TZNAME:CEST
TZOFFSETFROM:+0100
TZOFFSETTO:+0200
DTSTART:19160430T230000
RDATE:19400401T020000
RDATE:19430329T020000
RDATE:19460414T020000
RDATE:19470406T030000
RDATE:19480418T020000
RDATE:19490410T020000
RDATE:19800406T020000
END:DAYLIGHT
BEGIN:STANDARD
TZNAME:CET
TZOFFSETFROM:+0200
TZOFFSETTO:+0100
DTSTART:19161001T010000
RDATE:19421102T030000
RDATE:19431004T030000
RDATE:19441002T030000
RDATE:19451118T030000
RDATE:19461007T030000
END:STANDARD
BEGIN:DAYLIGHT
TZNAME:CEST
TZOFFSETFROM:+0100
TZOFFSETTO:+0200
DTSTART:19170416T020000
RRULE:FREQ=YEARLY;UNTIL=19180415T010000Z;BYMONTH=4;BYDAY=3MO
END:DAYLIGHT
BEGIN:STANDARD
TZNAME:CET
TZOFFSETFROM:+0200
TZOFFSETTO:+0100
DTSTART:19170917T030000
RRULE:FREQ=YEARLY;UNTIL=19180916T010000Z;BYMONTH=9;BYDAY=3MO
END:STANDARD
BEGIN:DAYLIGHT
TZNAME:CEST
TZOFFSETFROM:+0100
TZOFFSETTO:+0200
DTSTART:19440403T020000
RRULE:FREQ=YEARLY;UNTIL=19450402T010000Z;BYMONTH=4;BYDAY=1MO
END:DAYLIGHT
BEGIN:DAYLIGHT
TZNAME:CEMT
TZOFFSETFROM:+0200
TZOFFSETTO:+0300
DTSTART:19450524T020000
RDATE:19470511T030000
END:DAYLIGHT
BEGIN:DAYLIGHT
TZNAME:CEST
TZOFFSETFROM:+0300
TZOFFSETTO:+0200
DTSTART:19450924T030000
RDATE:19470629T030000
END:DAYLIGHT
BEGIN:STANDARD
TZNAME:CET
TZOFFSETFROM:+0100
TZOFFSETTO:+0100
DTSTART:19460101T000000
RDATE:19800101T000000
END:STANDARD
BEGIN:STANDARD
TZNAME:CET
TZOFFSETFROM:+0200
TZOFFSETTO:+0100
DTSTART:19471005T030000
RRULE:FREQ=YEARLY;UNTIL=19491002T010000Z;BYMONTH=10;BYDAY=1SU
END:STANDARD
BEGIN:STANDARD
TZNAME:CET
TZOFFSETFROM:+0200
TZOFFSETTO:+0100
DTSTART:19800928T030000
RRULE:FREQ=YEARLY;UNTIL=19950924T010000Z;BYMONTH=9;BYDAY=-1SU
END:STANDARD
BEGIN:DAYLIGHT
TZNAME:CEST
TZOFFSETFROM:+0100
TZOFFSETTO:+0200
DTSTART:19810329T020000
RRULE:FREQ=YEARLY;BYMONTH=3;BYDAY=-1SU
END:DAYLIGHT
BEGIN:STANDARD
TZNAME:CET
TZOFFSETFROM:+0200
TZOFFSETTO:+0100
DTSTART:19961027T030000
RRULE:FREQ=YEARLY;BYMONTH=10;BYDAY=-1SU
END:STANDARD
END:VTIMEZONE
BEGIN:VEVENT
DTSTAMP:20260424T182939Z
DTSTART;TZID=Europe/Berlin:20220920T200000
DTEND;TZID=Europe/Berlin:20220920T230000
SUMMARY:HE 3. Liga Gr. 3 Embrachertal vs Bülach II (0)
UID:24d1f6da-df4e-44c9-ab20-cc7afc9b0c48
STATUS:CONFIRMED
LAST-MODIFIED:20220923T143010Z
DESCRIPTION:3. Liga Herren Gruppe 3\nBegegnungs-Nr: 0\nHeim: Embrachertal\nGast: Bülach II\n\nAdresse: Hintermarchlenstrasse 31 + 33\, 8426 Lufingen\n
LOCATION:Hintermarchlenstrasse 31 + 33\, 8426 Lufingen
CATEGORIES:Saison 2022/23
END:VEVENT
BEGIN:VEVENT
DTSTAMP:20260424T182939Z
DTSTART;TZID=Europe/Berlin:20221101T200000
DTEND;TZID=Europe/Berlin:20221101T230000
SUMMARY:HE 3. Liga Gr. 3 Embrachertal vs Kloten (0)
UID:f3ec3ea1-3f4a-46d1-b34b-9ac207cdd46a
STATUS:CONFIRMED
LAST-MODIFIED:20230106T152031Z
DESCRIPTION:3. Liga Herren Gruppe 3\nBegegnungs-Nr: 0\nHeim: Embrachertal\nGast: Kloten\n\nAdresse: Hintermarchlenstrasse 31 + 33\, 8426 Lufingen\n
LOCATION:Hintermarchlenstrasse 31 + 33\, 8426 Lufingen
CATEGORIES:Saison 2022/23
END:VEVENT
BEGIN:VEVENT
DTSTAMP:20260424T182939Z
DTSTART;TZID=Europe/Berlin:20221115T200000
DTEND;TZID=Europe/Berlin:20221115T230000
SUMMARY:HE 3. Liga Gr. 3 Embrachertal vs Wetzikon V (0)
UID:c5abe898-47da-48fd-9ab2-f76f6231d11e
STATUS:CONFIRMED
LAST-MODIFIED:20221116T154347Z
DESCRIPTION:3. Liga Herren Gruppe 3\nBegegnungs-Nr: 0\nHeim: Embrachertal\nGast: Wetzikon V\n\nAdresse: Hintermarchlenstrasse 31 + 33\, 8426 Lufingen\n
LOCATION:Hintermarchlenstrasse 31 + 33\, 8426 Lufingen
CATEGORIES:Saison 2022/23
END:VEVENT
BEGIN:VEVENT
DTSTAMP:20260424T182939Z
DTSTART;TZID=Europe/Berlin:20230328T200000
DTEND;TZID=Europe/Berlin:20230328T230000
SUMMARY:HE 3. Liga Gr. 3 Embrachertal vs Zürich-Affoltern IV (0)
UID:3ac0f0c2-4c5e-4bd7-9dbf-a539b11fc24a
STATUS:CONFIRMED
LAST-MODIFIED:20230329T085041Z
DESCRIPTION:3. Liga Herren Gruppe 3\nBegegnungs-Nr: 0\nHeim: Embrachertal\nGast: Zürich-Affoltern IV\n\nAdresse: Hintermarchlenstrasse 31 + 33\, 8426 Lufingen\n
LOCATION:Hintermarchlenstrasse 31 + 33\, 8426 Lufingen
CATEGORIES:Saison 2022/23
END:VEVENT
BEGIN:VEVENT
DTSTAMP:20260424T182939Z
DTSTART;TZID=Europe/Berlin:20230228T201500
DTEND;TZID=Europe/Berlin:20230228T231500
SUMMARY:HE 3. Liga Gr. 3 Embrachertal vs Young Stars ZH V (0)
UID:d9a90861-7d3b-44c6-8fc4-11985b7fe5c0
STATUS:CONFIRMED
LAST-MODIFIED:20230302T155128Z
DESCRIPTION:3. Liga Herren Gruppe 3\nBegegnungs-Nr: 0\nHeim: Embrachertal\nGast: Young Stars ZH V\n\nAdresse: Hintermarchlenstrasse 31 + 33\, 8426 Lufingen\n
LOCATION:Hintermarchlenstrasse 31 + 33\, 8426 Lufingen
CATEGORIES:Saison 2022/23
END:VEVENT
BEGIN:VEVENT
DTSTAMP:20260424T182939Z
DTSTART;TZID=Europe/Berlin:20230124T200000
DTEND;TZID=Europe/Berlin:20230124T230000
SUMMARY:HE 3. Liga Gr. 3 Embrachertal vs Pinguin Zürich (0)
UID:76c691ee-9a7a-41cf-a3b0-1f22b37f5c35
STATUS:CONFIRMED
LAST-MODIFIED:20230125T133424Z
DESCRIPTION:3. Liga Herren Gruppe 3\nBegegnungs-Nr: 0\nHeim: Embrachertal\nGast: Pinguin Zürich\n\nAdresse: Hintermarchlenstrasse 31 + 33\, 8426 Lufingen\n
LOCATION:Hintermarchlenstrasse 31 + 33\, 8426 Lufingen
CATEGORIES:Saison 2022/23
END:VEVENT
BEGIN:VEVENT
DTSTAMP:20260424T182939Z
DTSTART;TZID=Europe/Berlin:20230221T200000
DTEND;TZID=Europe/Berlin:20230221T230000
SUMMARY:HE 3. Liga Gr. 3 Embrachertal vs Dübendorf-Volketswil II (0)
UID:6db7d1be-239d-449c-aba3-6128954be156
STATUS:CONFIRMED
LAST-MODIFIED:20230223T092744Z
DESCRIPTION:3. Liga Herren Gruppe 3\nBegegnungs-Nr: 0\nHeim: Embrachertal\nGast: Dübendorf-Volketswil II\n\nAdresse: Hintermarchlenstrasse 31 + 33\, 8426 Lufingen\n
LOCATION:Hintermarchlenstrasse 31 + 33\, 8426 Lufingen
CATEGORIES:Saison 2022/23
END:VEVENT
BEGIN:VEVENT
DTSTAMP:20260424T182939Z
DTSTART;TZID=Europe/Berlin:20220831T200000
DTEND;TZID=Europe/Berlin:20220831T230000
SUMMARY:HE 3. Liga Gr. 3 Young Stars ZH V vs Embrachertal (0)
UID:180ccc03-6fad-4cf2-8f27-d8a841cfc91c
STATUS:CONFIRMED
LAST-MODIFIED:20220902T094423Z
DESCRIPTION:3. Liga Herren Gruppe 3\nBegegnungs-Nr: 0\nHeim: Young Stars ZH V\nGast: Embrachertal\n\nAdresse: Seefeldstrasse 93\, 8008 Zürich\n
LOCATION:Seefeldstrasse 93\, 8008 Zürich
CATEGORIES:Saison 2022/23
END:VEVENT
BEGIN:VEVENT
DTSTAMP:20260424T182939Z
DTSTART;TZID=Europe/Berlin:20220909T193000
DTEND;TZID=Europe/Berlin:20220909T223000
SUMMARY:HE 3. Liga Gr. 3 Pinguin Zürich vs Embrachertal (0)
UID:5b581413-4d1b-4da4-98d7-d7b6c2c2baed
STATUS:CONFIRMED
LAST-MODIFIED:20220912T055252Z
DESCRIPTION:3. Liga Herren Gruppe 3\nBegegnungs-Nr: 0\nHeim: Pinguin Zürich\nGast: Embrachertal\n\nAdresse: Basteiplatz\, 8001 Zürich\n
LOCATION:Basteiplatz\, 8001 Zürich
CATEGORIES:Saison 2022/23
END:VEVENT
BEGIN:VEVENT
DTSTAMP:20260424T182939Z
DTSTART;TZID=Europe/Berlin:20221130T201500
DTEND;TZID=Europe/Berlin:20221130T231500
SUMMARY:HE 3. Liga Gr. 3 Zürich-Affoltern IV vs Embrachertal (0)
UID:04f19f9e-0fe9-4e7e-84f6-4ceda877ba30
STATUS:CONFIRMED
LAST-MODIFIED:20221208T113636Z
DESCRIPTION:3. Liga Herren Gruppe 3\nBegegnungs-Nr: 0\nHeim: Zürich-Affoltern IV\nGast: Embrachertal\n\nAdresse: Rümlangstr. 89\, 8052 Zürich\n
LOCATION:Rümlangstr. 89\, 8052 Zürich
CATEGORIES:Saison 2022/23
END:VEVENT
BEGIN:VEVENT
DTSTAMP:20260424T182939Z
DTSTART;TZID=Europe/Berlin:20230223T201500
DTEND;TZID=Europe/Berlin:20230223T231500
SUMMARY:HE 3. Liga Gr. 3 Bülach II vs Embrachertal (0)
UID:636f973d-3b5a-4d7c-a18c-d29b91fde8d8
STATUS:CONFIRMED
LAST-MODIFIED:20230228T144423Z
DESCRIPTION:3. Liga Herren Gruppe 3\nBegegnungs-Nr: 0\nHeim: Bülach II\nGast: Embrachertal\n\nAdresse: Unterweg 51\, 8180 Bülach\n
LOCATION:Unterweg 51\, 8180 Bülach
CATEGORIES:Saison 2022/23
END:VEVENT
BEGIN:VEVENT
DTSTAMP:20260424T182939Z
DTSTART;TZID=Europe/Berlin:20230322T193000
DTEND;TZID=Europe/Berlin:20230322T223000
SUMMARY:HE 3. Liga Gr. 3 Kloten vs Embrachertal (0)
UID:6ac184bd-8c8d-4009-8979-7f6bde7786ce
STATUS:CONFIRMED
LAST-MODIFIED:20230327T081924Z
DESCRIPTION:3. Liga Herren Gruppe 3\nBegegnungs-Nr: 0\nHeim: Kloten\nGast: Embrachertal\n\nAdresse: Schluefweg 10\, 8302 Kloten\n
LOCATION:Schluefweg 10\, 8302 Kloten
CATEGORIES:Saison 2022/23
END:VEVENT
BEGIN:VEVENT
DTSTAMP:20260424T182939Z
DTSTART;TZID=Europe/Berlin:20230313T194500
DTEND;TZID=Europe/Berlin:20230313T224500
SUMMARY:HE 3. Liga Gr. 3 Wetzikon V vs Embrachertal (0)
UID:5011dba7-3d01-4711-b1f3-564571b4a98d
STATUS:CONFIRMED
LAST-MODIFIED:20230316T090209Z
DESCRIPTION:3. Liga Herren Gruppe 3\nBegegnungs-Nr: 0\nHeim: Wetzikon V\nGast: Embrachertal\n\nAdresse: Usterstrasse 37\, 8620 Wetzikon\n
LOCATION:Usterstrasse 37\, 8620 Wetzikon
CATEGORIES:Saison 2022/23
END:VEVENT
BEGIN:VEVENT
DTSTAMP:20260424T182939Z
DTSTART;TZID=Europe/Berlin:20220927T202500
DTEND;TZID=Europe/Berlin:20220927T232500
SUMMARY:HE 3. Liga Gr. 3 Dübendorf-Volketswil II vs Embrachertal (0)
UID:0a925030-2473-46a5-985c-86f7f171e994
STATUS:CONFIRMED
LAST-MODIFIED:20221005T110842Z
DESCRIPTION:3. Liga Herren Gruppe 3\nBegegnungs-Nr: 0\nHeim: Dübendorf-Volketswil II\nGast: Embrachertal\n\nAdresse: Dübendorfstrasse 46\, 8602 Wangen ZH\n
LOCATION:Dübendorfstrasse 46\, 8602 Wangen ZH
CATEGORIES:Saison 2022/23
END:VEVENT
END:VCALENDAR
