BEGIN:VCALENDAR
PRODID:-//nuDatenautomaten//framework iCal4j //DE
VERSION:2.0
CALSCALE:GREGORIAN
BEGIN:VTIMEZONE
TZID:Europe/Berlin
LAST-MODIFIED:20260306T231828Z
TZURL:https://www.tzurl.org/zoneinfo/Europe/Berlin
X-LIC-LOCATION:Europe/Berlin
X-PROLEPTIC-TZNAME:LMT
BEGIN:STANDARD
TZNAME:CET
TZOFFSETFROM:+005328
TZOFFSETTO:+0100
DTSTART:18930401T000000
END:STANDARD
BEGIN:DAYLIGHT
TZNAME:CEST
TZOFFSETFROM:+0100
TZOFFSETTO:+0200
DTSTART:19160430T230000
RDATE:19400401T020000
RDATE:19430329T020000
RDATE:19460414T020000
RDATE:19470406T030000
RDATE:19480418T020000
RDATE:19490410T020000
RDATE:19800406T020000
END:DAYLIGHT
BEGIN:STANDARD
TZNAME:CET
TZOFFSETFROM:+0200
TZOFFSETTO:+0100
DTSTART:19161001T010000
RDATE:19421102T030000
RDATE:19431004T030000
RDATE:19441002T030000
RDATE:19451118T030000
RDATE:19461007T030000
END:STANDARD
BEGIN:DAYLIGHT
TZNAME:CEST
TZOFFSETFROM:+0100
TZOFFSETTO:+0200
DTSTART:19170416T020000
RRULE:FREQ=YEARLY;UNTIL=19180415T010000Z;BYMONTH=4;BYDAY=3MO
END:DAYLIGHT
BEGIN:STANDARD
TZNAME:CET
TZOFFSETFROM:+0200
TZOFFSETTO:+0100
DTSTART:19170917T030000
RRULE:FREQ=YEARLY;UNTIL=19180916T010000Z;BYMONTH=9;BYDAY=3MO
END:STANDARD
BEGIN:DAYLIGHT
TZNAME:CEST
TZOFFSETFROM:+0100
TZOFFSETTO:+0200
DTSTART:19440403T020000
RRULE:FREQ=YEARLY;UNTIL=19450402T010000Z;BYMONTH=4;BYDAY=1MO
END:DAYLIGHT
BEGIN:DAYLIGHT
TZNAME:CEMT
TZOFFSETFROM:+0200
TZOFFSETTO:+0300
DTSTART:19450524T020000
RDATE:19470511T030000
END:DAYLIGHT
BEGIN:DAYLIGHT
TZNAME:CEST
TZOFFSETFROM:+0300
TZOFFSETTO:+0200
DTSTART:19450924T030000
RDATE:19470629T030000
END:DAYLIGHT
BEGIN:STANDARD
TZNAME:CET
TZOFFSETFROM:+0100
TZOFFSETTO:+0100
DTSTART:19460101T000000
RDATE:19800101T000000
END:STANDARD
BEGIN:STANDARD
TZNAME:CET
TZOFFSETFROM:+0200
TZOFFSETTO:+0100
DTSTART:19471005T030000
RRULE:FREQ=YEARLY;UNTIL=19491002T010000Z;BYMONTH=10;BYDAY=1SU
END:STANDARD
BEGIN:STANDARD
TZNAME:CET
TZOFFSETFROM:+0200
TZOFFSETTO:+0100
DTSTART:19800928T030000
RRULE:FREQ=YEARLY;UNTIL=19950924T010000Z;BYMONTH=9;BYDAY=-1SU
END:STANDARD
BEGIN:DAYLIGHT
TZNAME:CEST
TZOFFSETFROM:+0100
TZOFFSETTO:+0200
DTSTART:19810329T020000
RRULE:FREQ=YEARLY;BYMONTH=3;BYDAY=-1SU
END:DAYLIGHT
BEGIN:STANDARD
TZNAME:CET
TZOFFSETFROM:+0200
TZOFFSETTO:+0100
DTSTART:19961027T030000
RRULE:FREQ=YEARLY;BYMONTH=10;BYDAY=-1SU
END:STANDARD
END:VTIMEZONE
BEGIN:VEVENT
DTSTAMP:20260426T033432Z
DTSTART;TZID=Europe/Berlin:20220826T200000
DTEND;TZID=Europe/Berlin:20220826T230000
SUMMARY:O40 3. Liga Gr. 1 Rorschach vs Wuppenau (0)
UID:f26e4272-1a5e-42d0-bd75-95d798ff5e34
STATUS:CONFIRMED
LAST-MODIFIED:20220829T054229Z
DESCRIPTION:3. Liga O40 Gruppe 1\nBegegnungs-Nr: 0\nHeim: Rorschach\nGast: Wuppenau\n\nAdresse: Mariabergstrasse 33\, 9400 Rorschach\n
LOCATION:Mariabergstrasse 33\, 9400 Rorschach
CATEGORIES:Saison 2022/23
END:VEVENT
BEGIN:VEVENT
DTSTAMP:20260426T033432Z
DTSTART;TZID=Europe/Berlin:20221028T200000
DTEND;TZID=Europe/Berlin:20221028T230000
SUMMARY:O40 3. Liga Gr. 1 Rorschach vs St. Gallen II (0)
UID:4b18b42d-43e6-419e-ae92-96d9aa15a860
STATUS:CONFIRMED
LAST-MODIFIED:20220825T072355Z
DESCRIPTION:3. Liga O40 Gruppe 1\nBegegnungs-Nr: 0\nHeim: Rorschach\nGast: St. Gallen II\n\nAdresse: Mariabergstrasse 33\, 9400 Rorschach\n
LOCATION:Mariabergstrasse 33\, 9400 Rorschach
CATEGORIES:Saison 2022/23
END:VEVENT
BEGIN:VEVENT
DTSTAMP:20260426T033432Z
DTSTART;TZID=Europe/Berlin:20221125T200000
DTEND;TZID=Europe/Berlin:20221125T230000
SUMMARY:O40 3. Liga Gr. 1 Rorschach vs Gossau St.Gallen (0)
UID:66e018dc-a787-489b-8473-7e0497cdf875
STATUS:CONFIRMED
LAST-MODIFIED:20221128T150103Z
DESCRIPTION:3. Liga O40 Gruppe 1\nBegegnungs-Nr: 0\nHeim: Rorschach\nGast: Gossau St.Gallen\n\nAdresse: Mariabergstrasse 33\, 9400 Rorschach\n
LOCATION:Mariabergstrasse 33\, 9400 Rorschach
CATEGORIES:Saison 2022/23
END:VEVENT
BEGIN:VEVENT
DTSTAMP:20260426T033432Z
DTSTART;TZID=Europe/Berlin:20221216T200000
DTEND;TZID=Europe/Berlin:20221216T230000
SUMMARY:O40 3. Liga Gr. 1 Rorschach vs Wallenwil (0)
UID:ba1c374e-edec-4cd0-9649-dbd2fe68c012
STATUS:CONFIRMED
LAST-MODIFIED:20221222T070447Z
DESCRIPTION:3. Liga O40 Gruppe 1\nBegegnungs-Nr: 0\nHeim: Rorschach\nGast: Wallenwil\n\nAdresse: Mariabergstrasse 33\, 9400 Rorschach\n
LOCATION:Mariabergstrasse 33\, 9400 Rorschach
CATEGORIES:Saison 2022/23
END:VEVENT
BEGIN:VEVENT
DTSTAMP:20260426T033432Z
DTSTART;TZID=Europe/Berlin:20230120T200000
DTEND;TZID=Europe/Berlin:20230120T230000
SUMMARY:O40 3. Liga Gr. 1 Rorschach vs Ettenhausen (0)
UID:8f103031-2b9e-48a3-821f-ba03d7247f27
STATUS:CONFIRMED
LAST-MODIFIED:20230127T163646Z
DESCRIPTION:3. Liga O40 Gruppe 1\nBegegnungs-Nr: 0\nHeim: Rorschach\nGast: Ettenhausen\n\nAdresse: Mariabergstrasse 33\, 9400 Rorschach\n
LOCATION:Mariabergstrasse 33\, 9400 Rorschach
CATEGORIES:Saison 2022/23
END:VEVENT
BEGIN:VEVENT
DTSTAMP:20260426T033432Z
DTSTART;TZID=Europe/Berlin:20230303T200000
DTEND;TZID=Europe/Berlin:20230303T230000
SUMMARY:O40 3. Liga Gr. 1 Rorschach vs Horn (0)
UID:3b6a36f3-473b-410e-93bb-454b63c6059b
STATUS:CONFIRMED
LAST-MODIFIED:20230307T103222Z
DESCRIPTION:3. Liga O40 Gruppe 1\nBegegnungs-Nr: 0\nHeim: Rorschach\nGast: Horn\n\nAdresse: Mariabergstrasse 33\, 9400 Rorschach\n
LOCATION:Mariabergstrasse 33\, 9400 Rorschach
CATEGORIES:Saison 2022/23
END:VEVENT
BEGIN:VEVENT
DTSTAMP:20260426T033432Z
DTSTART;TZID=Europe/Berlin:20220820T113000
DTEND;TZID=Europe/Berlin:20220820T143000
SUMMARY:O40 3. Liga Gr. 1 Ettenhausen vs Rorschach (0)
UID:6ed15ee2-6cbc-41ee-a1b7-89a116e125e4
STATUS:CONFIRMED
LAST-MODIFIED:20220823T062126Z
DESCRIPTION:3. Liga O40 Gruppe 1\nBegegnungs-Nr: 0\nHeim: Ettenhausen\nGast: Rorschach\n\nAdresse: Weidlistrasse 12\, 8356 Ettenhausen\n
LOCATION:Weidlistrasse 12\, 8356 Ettenhausen
CATEGORIES:Saison 2022/23
END:VEVENT
BEGIN:VEVENT
DTSTAMP:20260426T033432Z
DTSTART;TZID=Europe/Berlin:20220913T200000
DTEND;TZID=Europe/Berlin:20220913T230000
SUMMARY:O40 3. Liga Gr. 1 Horn vs Rorschach (0)
UID:5a1a9504-bd94-4e81-a402-70a4178127d1
STATUS:CONFIRMED
LAST-MODIFIED:20220914T081244Z
DESCRIPTION:3. Liga O40 Gruppe 1\nBegegnungs-Nr: 0\nHeim: Horn\nGast: Rorschach\n\nAdresse: Feldstrasse 16\, 9326 Horn\n
LOCATION:Feldstrasse 16\, 9326 Horn
CATEGORIES:Saison 2022/23
END:VEVENT
BEGIN:VEVENT
DTSTAMP:20260426T033432Z
DTSTART;TZID=Europe/Berlin:20230210T200000
DTEND;TZID=Europe/Berlin:20230210T230000
SUMMARY:O40 3. Liga Gr. 1 Wuppenau vs Rorschach (0)
UID:1513e173-a7a0-4e26-a3ff-2815a182e4ed
STATUS:CONFIRMED
LAST-MODIFIED:20230215T140245Z
DESCRIPTION:3. Liga O40 Gruppe 1\nBegegnungs-Nr: 0\nHeim: Wuppenau\nGast: Rorschach\n\nAdresse: Nollenstrasse\, 9514 Wuppenau\n
LOCATION:Nollenstrasse\, 9514 Wuppenau
CATEGORIES:Saison 2022/23
END:VEVENT
BEGIN:VEVENT
DTSTAMP:20260426T033432Z
DTSTART;TZID=Europe/Berlin:20230324T200000
DTEND;TZID=Europe/Berlin:20230324T230000
SUMMARY:O40 3. Liga Gr. 1 St. Gallen II vs Rorschach (0)
UID:4dbcb4cf-d518-4744-b0d7-1ec6febb1e22
STATUS:CONFIRMED
LAST-MODIFIED:20220825T072503Z
DESCRIPTION:3. Liga O40 Gruppe 1\nBegegnungs-Nr: 0\nHeim: St. Gallen II\nGast: Rorschach\n\nAdresse: Zilstrasse 61\, 9016 St.Gallen\n
LOCATION:Zilstrasse 61\, 9016 St.Gallen
CATEGORIES:Saison 2022/23
END:VEVENT
BEGIN:VEVENT
DTSTAMP:20260426T033432Z
DTSTART;TZID=Europe/Berlin:20230404T200000
DTEND;TZID=Europe/Berlin:20230404T230000
SUMMARY:O40 3. Liga Gr. 1 Gossau St.Gallen vs Rorschach (0)
UID:97287b5f-a6c6-47f6-adb5-d06eb5c2a319
STATUS:CONFIRMED
LAST-MODIFIED:20230405T121359Z
DESCRIPTION:3. Liga O40 Gruppe 1\nBegegnungs-Nr: 0\nHeim: Gossau St.Gallen\nGast: Rorschach\n\nAdresse: Falkenstrasse 21\, 9200 Gossau\n
LOCATION:Falkenstrasse 21\, 9200 Gossau
CATEGORIES:Saison 2022/23
END:VEVENT
BEGIN:VEVENT
DTSTAMP:20260426T033432Z
DTSTART;TZID=Europe/Berlin:20230420T201500
DTEND;TZID=Europe/Berlin:20230420T231500
SUMMARY:O40 3. Liga Gr. 1 Wallenwil vs Rorschach (0)
UID:da57f42d-0606-4955-addc-307b21b1e226
STATUS:CONFIRMED
LAST-MODIFIED:20230421T091115Z
DESCRIPTION:3. Liga O40 Gruppe 1\nBegegnungs-Nr: 0\nHeim: Wallenwil\nGast: Rorschach\n\nAdresse: Stationsstrasse 29\, 8360 Wallenwil\n
LOCATION:Stationsstrasse 29\, 8360 Wallenwil
CATEGORIES:Saison 2022/23
END:VEVENT
END:VCALENDAR
