BEGIN:VCALENDAR
PRODID:-//nuDatenautomaten//framework iCal4j //DE
VERSION:2.0
CALSCALE:GREGORIAN
BEGIN:VTIMEZONE
TZID:Europe/Berlin
LAST-MODIFIED:20260306T231828Z
TZURL:https://www.tzurl.org/zoneinfo/Europe/Berlin
X-LIC-LOCATION:Europe/Berlin
X-PROLEPTIC-TZNAME:LMT
BEGIN:STANDARD
TZNAME:CET
TZOFFSETFROM:+005328
TZOFFSETTO:+0100
DTSTART:18930401T000000
END:STANDARD
BEGIN:DAYLIGHT
TZNAME:CEST
TZOFFSETFROM:+0100
TZOFFSETTO:+0200
DTSTART:19160430T230000
RDATE:19400401T020000
RDATE:19430329T020000
RDATE:19460414T020000
RDATE:19470406T030000
RDATE:19480418T020000
RDATE:19490410T020000
RDATE:19800406T020000
END:DAYLIGHT
BEGIN:STANDARD
TZNAME:CET
TZOFFSETFROM:+0200
TZOFFSETTO:+0100
DTSTART:19161001T010000
RDATE:19421102T030000
RDATE:19431004T030000
RDATE:19441002T030000
RDATE:19451118T030000
RDATE:19461007T030000
END:STANDARD
BEGIN:DAYLIGHT
TZNAME:CEST
TZOFFSETFROM:+0100
TZOFFSETTO:+0200
DTSTART:19170416T020000
RRULE:FREQ=YEARLY;UNTIL=19180415T010000Z;BYMONTH=4;BYDAY=3MO
END:DAYLIGHT
BEGIN:STANDARD
TZNAME:CET
TZOFFSETFROM:+0200
TZOFFSETTO:+0100
DTSTART:19170917T030000
RRULE:FREQ=YEARLY;UNTIL=19180916T010000Z;BYMONTH=9;BYDAY=3MO
END:STANDARD
BEGIN:DAYLIGHT
TZNAME:CEST
TZOFFSETFROM:+0100
TZOFFSETTO:+0200
DTSTART:19440403T020000
RRULE:FREQ=YEARLY;UNTIL=19450402T010000Z;BYMONTH=4;BYDAY=1MO
END:DAYLIGHT
BEGIN:DAYLIGHT
TZNAME:CEMT
TZOFFSETFROM:+0200
TZOFFSETTO:+0300
DTSTART:19450524T020000
RDATE:19470511T030000
END:DAYLIGHT
BEGIN:DAYLIGHT
TZNAME:CEST
TZOFFSETFROM:+0300
TZOFFSETTO:+0200
DTSTART:19450924T030000
RDATE:19470629T030000
END:DAYLIGHT
BEGIN:STANDARD
TZNAME:CET
TZOFFSETFROM:+0100
TZOFFSETTO:+0100
DTSTART:19460101T000000
RDATE:19800101T000000
END:STANDARD
BEGIN:STANDARD
TZNAME:CET
TZOFFSETFROM:+0200
TZOFFSETTO:+0100
DTSTART:19471005T030000
RRULE:FREQ=YEARLY;UNTIL=19491002T010000Z;BYMONTH=10;BYDAY=1SU
END:STANDARD
BEGIN:STANDARD
TZNAME:CET
TZOFFSETFROM:+0200
TZOFFSETTO:+0100
DTSTART:19800928T030000
RRULE:FREQ=YEARLY;UNTIL=19950924T010000Z;BYMONTH=9;BYDAY=-1SU
END:STANDARD
BEGIN:DAYLIGHT
TZNAME:CEST
TZOFFSETFROM:+0100
TZOFFSETTO:+0200
DTSTART:19810329T020000
RRULE:FREQ=YEARLY;BYMONTH=3;BYDAY=-1SU
END:DAYLIGHT
BEGIN:STANDARD
TZNAME:CET
TZOFFSETFROM:+0200
TZOFFSETTO:+0100
DTSTART:19961027T030000
RRULE:FREQ=YEARLY;BYMONTH=10;BYDAY=-1SU
END:STANDARD
END:VTIMEZONE
BEGIN:VEVENT
DTSTAMP:20260426T033817Z
DTSTART;TZID=Europe/Berlin:20220829T194500
DTEND;TZID=Europe/Berlin:20220829T224500
SUMMARY:HE 4. Liga Gr. 5 Meilen-Männedorf II vs Kloten II (0)
UID:99086971-0d52-4c95-8824-c6d2b45afe2e
STATUS:CONFIRMED
LAST-MODIFIED:20220831T123822Z
DESCRIPTION:4. Liga Herren Gruppe 5\nBegegnungs-Nr: 0\nHeim: Meilen-Männedorf II\nGast: Kloten II\n\nAdresse: Schulstrasse 10\, 8708 Männedorf\n
LOCATION:Schulstrasse 10\, 8708 Männedorf
CATEGORIES:Saison 2022/23
END:VEVENT
BEGIN:VEVENT
DTSTAMP:20260426T033817Z
DTSTART;TZID=Europe/Berlin:20220919T194500
DTEND;TZID=Europe/Berlin:20220919T224500
SUMMARY:HE 4. Liga Gr. 5 Meilen-Männedorf II vs Höngg (0)
UID:07dc7be9-44ea-4b8d-b4c0-486dd076ec80
STATUS:CONFIRMED
LAST-MODIFIED:20220923T144100Z
DESCRIPTION:4. Liga Herren Gruppe 5\nBegegnungs-Nr: 0\nHeim: Meilen-Männedorf II\nGast: Höngg\n\nAdresse: Schulstrasse 10\, 8708 Männedorf\n
LOCATION:Schulstrasse 10\, 8708 Männedorf
CATEGORIES:Saison 2022/23
END:VEVENT
BEGIN:VEVENT
DTSTAMP:20260426T033817Z
DTSTART;TZID=Europe/Berlin:20221107T194500
DTEND;TZID=Europe/Berlin:20221107T224500
SUMMARY:HE 4. Liga Gr. 5 Meilen-Männedorf II vs Pinguin Zürich IV (0)
UID:9bcd0d6a-bb4c-4c74-9e20-32a80790ac7b
STATUS:CONFIRMED
LAST-MODIFIED:20221108T160352Z
DESCRIPTION:4. Liga Herren Gruppe 5\nBegegnungs-Nr: 0\nHeim: Meilen-Männedorf II\nGast: Pinguin Zürich IV\n\nAdresse: Schulstrasse 10\, 8708 Männedorf\n
LOCATION:Schulstrasse 10\, 8708 Männedorf
CATEGORIES:Saison 2022/23
END:VEVENT
BEGIN:VEVENT
DTSTAMP:20260426T033817Z
DTSTART;TZID=Europe/Berlin:20221128T194500
DTEND;TZID=Europe/Berlin:20221128T224500
SUMMARY:HE 4. Liga Gr. 5 Meilen-Männedorf II vs BW-Wollishofen IV (0)
UID:b3e7fe0f-ff19-40f5-abaf-46ee82c686ec
STATUS:CONFIRMED
LAST-MODIFIED:20221130T094223Z
DESCRIPTION:4. Liga Herren Gruppe 5\nBegegnungs-Nr: 0\nHeim: Meilen-Männedorf II\nGast: BW-Wollishofen IV\n\nAdresse: Schulstrasse 10\, 8708 Männedorf\n
LOCATION:Schulstrasse 10\, 8708 Männedorf
CATEGORIES:Saison 2022/23
END:VEVENT
BEGIN:VEVENT
DTSTAMP:20260426T033817Z
DTSTART;TZID=Europe/Berlin:20230123T194500
DTEND;TZID=Europe/Berlin:20230123T224500
SUMMARY:HE 4. Liga Gr. 5 Meilen-Männedorf II vs Uster IV (0)
UID:a6ad60e1-4351-475e-8fb4-9a973a31046d
STATUS:CONFIRMED
LAST-MODIFIED:20220825T072133Z
DESCRIPTION:4. Liga Herren Gruppe 5\nBegegnungs-Nr: 0\nHeim: Meilen-Männedorf II\nGast: Uster IV\n\nAdresse: Schulstrasse 10\, 8708 Männedorf\n
LOCATION:Schulstrasse 10\, 8708 Männedorf
CATEGORIES:Saison 2022/23
END:VEVENT
BEGIN:VEVENT
DTSTAMP:20260426T033817Z
DTSTART;TZID=Europe/Berlin:20230206T194500
DTEND;TZID=Europe/Berlin:20230206T224500
SUMMARY:HE 4. Liga Gr. 5 Meilen-Männedorf II vs Wolfhausen (0)
UID:f4e0abec-eb8d-49b0-8c8c-6080d8396cab
STATUS:CONFIRMED
LAST-MODIFIED:20230209T104247Z
DESCRIPTION:4. Liga Herren Gruppe 5\nBegegnungs-Nr: 0\nHeim: Meilen-Männedorf II\nGast: Wolfhausen\n\nAdresse: Schulstrasse 10\, 8708 Männedorf\n
LOCATION:Schulstrasse 10\, 8708 Männedorf
CATEGORIES:Saison 2022/23
END:VEVENT
BEGIN:VEVENT
DTSTAMP:20260426T033817Z
DTSTART;TZID=Europe/Berlin:20230306T194500
DTEND;TZID=Europe/Berlin:20230306T224500
SUMMARY:HE 4. Liga Gr. 5 Meilen-Männedorf II vs Young Stars ZH VI (0)
UID:afa61f20-dac1-4ace-a0f2-9d044cf66136
STATUS:CONFIRMED
LAST-MODIFIED:20230307T091823Z
DESCRIPTION:4. Liga Herren Gruppe 5\nBegegnungs-Nr: 0\nHeim: Meilen-Männedorf II\nGast: Young Stars ZH VI\n\nAdresse: Schulstrasse 10\, 8708 Männedorf\n
LOCATION:Schulstrasse 10\, 8708 Männedorf
CATEGORIES:Saison 2022/23
END:VEVENT
BEGIN:VEVENT
DTSTAMP:20260426T033817Z
DTSTART;TZID=Europe/Berlin:20220906T201500
DTEND;TZID=Europe/Berlin:20220906T231500
SUMMARY:HE 4. Liga Gr. 5 Uster IV vs Meilen-Männedorf II (0)
UID:14ad3483-881e-406a-8c6c-04f90458acbe
STATUS:CONFIRMED
LAST-MODIFIED:20220825T072008Z
DESCRIPTION:4. Liga Herren Gruppe 5\nBegegnungs-Nr: 0\nHeim: Uster IV\nGast: Meilen-Männedorf II\n\nAdresse: Wilstrasse 30 / Zürcherstrasse\, 8610 Uster\n
LOCATION:Wilstrasse 30 / Zürcherstrasse\, 8610 Uster
CATEGORIES:Saison 2022/23
END:VEVENT
BEGIN:VEVENT
DTSTAMP:20260426T033817Z
DTSTART;TZID=Europe/Berlin:20220930T200000
DTEND;TZID=Europe/Berlin:20220930T230000
SUMMARY:HE 4. Liga Gr. 5 Wolfhausen vs Meilen-Männedorf II (0)
UID:e720ff64-4342-4636-bf91-98609bd8b6b6
STATUS:CONFIRMED
LAST-MODIFIED:20221006T132630Z
DESCRIPTION:4. Liga Herren Gruppe 5\nBegegnungs-Nr: 0\nHeim: Wolfhausen\nGast: Meilen-Männedorf II\n\nAdresse: Schulstrasse 9\, 8633 Wolfhausen\n
LOCATION:Schulstrasse 9\, 8633 Wolfhausen
CATEGORIES:Saison 2022/23
END:VEVENT
BEGIN:VEVENT
DTSTAMP:20260426T033817Z
DTSTART;TZID=Europe/Berlin:20230112T194500
DTEND;TZID=Europe/Berlin:20230112T224500
SUMMARY:HE 4. Liga Gr. 5 Kloten II vs Meilen-Männedorf II (0)
UID:41fe5a1c-f080-456b-8b37-7e12dec71bff
STATUS:CONFIRMED
LAST-MODIFIED:20230127T161906Z
DESCRIPTION:4. Liga Herren Gruppe 5\nBegegnungs-Nr: 0\nHeim: Kloten II\nGast: Meilen-Männedorf II\n\nAdresse: Schluefweg 10\, 8302 Kloten\n
LOCATION:Schluefweg 10\, 8302 Kloten
CATEGORIES:Saison 2022/23
END:VEVENT
BEGIN:VEVENT
DTSTAMP:20260426T033817Z
DTSTART;TZID=Europe/Berlin:20230208T200000
DTEND;TZID=Europe/Berlin:20230208T230000
SUMMARY:HE 4. Liga Gr. 5 Höngg vs Meilen-Männedorf II (0)
UID:59d93249-ff04-4a3b-b255-7cf1160d666f
STATUS:CONFIRMED
LAST-MODIFIED:20230209T104256Z
DESCRIPTION:4. Liga Herren Gruppe 5\nBegegnungs-Nr: 0\nHeim: Höngg\nGast: Meilen-Männedorf II\n\nAdresse: Bläsistrasse 2\, 8049 Zürich\n
LOCATION:Bläsistrasse 2\, 8049 Zürich
CATEGORIES:Saison 2022/23
END:VEVENT
BEGIN:VEVENT
DTSTAMP:20260426T033817Z
DTSTART;TZID=Europe/Berlin:20230324T193000
DTEND;TZID=Europe/Berlin:20230324T223000
SUMMARY:HE 4. Liga Gr. 5 Pinguin Zürich IV vs Meilen-Männedorf II (0)
UID:923a07be-43d8-4e1c-9390-7343511fbb68
STATUS:CONFIRMED
LAST-MODIFIED:20230328T073413Z
DESCRIPTION:4. Liga Herren Gruppe 5\nBegegnungs-Nr: 0\nHeim: Pinguin Zürich IV\nGast: Meilen-Männedorf II\n\nAdresse: Basteiplatz\, 8001 Zürich\n
LOCATION:Basteiplatz\, 8001 Zürich
CATEGORIES:Saison 2022/23
END:VEVENT
BEGIN:VEVENT
DTSTAMP:20260426T033817Z
DTSTART;TZID=Europe/Berlin:20230331T200000
DTEND;TZID=Europe/Berlin:20230331T230000
SUMMARY:HE 4. Liga Gr. 5 BW-Wollishofen IV vs Meilen-Männedorf II (0)
UID:a48f13c0-71eb-4667-a2a2-3d9c1cf4bcab
STATUS:CONFIRMED
LAST-MODIFIED:20230403T093646Z
DESCRIPTION:4. Liga Herren Gruppe 5\nBegegnungs-Nr: 0\nHeim: BW-Wollishofen IV\nGast: Meilen-Männedorf II\n\nAdresse: Kilchbergstr. 28\, 8038 Zürich\n
LOCATION:Kilchbergstr. 28\, 8038 Zürich
CATEGORIES:Saison 2022/23
END:VEVENT
BEGIN:VEVENT
DTSTAMP:20260426T033817Z
DTSTART;TZID=Europe/Berlin:20221104T200000
DTEND;TZID=Europe/Berlin:20221104T230000
SUMMARY:HE 4. Liga Gr. 5 Young Stars ZH VI vs Meilen-Männedorf II (0)
UID:ce3f3c91-fb68-40fd-82d5-3cad939b6a2b
STATUS:CONFIRMED
LAST-MODIFIED:20221108T160338Z
DESCRIPTION:4. Liga Herren Gruppe 5\nBegegnungs-Nr: 0\nHeim: Young Stars ZH VI\nGast: Meilen-Männedorf II\n\nAdresse: Balgriststrasse 55\, 8008 Zürich\n
LOCATION:Balgriststrasse 55\, 8008 Zürich
CATEGORIES:Saison 2022/23
END:VEVENT
END:VCALENDAR
