BEGIN:VCALENDAR
PRODID:-//nuDatenautomaten//framework iCal4j //DE
VERSION:2.0
CALSCALE:GREGORIAN
BEGIN:VTIMEZONE
TZID:Europe/Berlin
LAST-MODIFIED:20260306T231828Z
TZURL:https://www.tzurl.org/zoneinfo/Europe/Berlin
X-LIC-LOCATION:Europe/Berlin
X-PROLEPTIC-TZNAME:LMT
BEGIN:STANDARD
TZNAME:CET
TZOFFSETFROM:+005328
TZOFFSETTO:+0100
DTSTART:18930401T000000
END:STANDARD
BEGIN:DAYLIGHT
TZNAME:CEST
TZOFFSETFROM:+0100
TZOFFSETTO:+0200
DTSTART:19160430T230000
RDATE:19400401T020000
RDATE:19430329T020000
RDATE:19460414T020000
RDATE:19470406T030000
RDATE:19480418T020000
RDATE:19490410T020000
RDATE:19800406T020000
END:DAYLIGHT
BEGIN:STANDARD
TZNAME:CET
TZOFFSETFROM:+0200
TZOFFSETTO:+0100
DTSTART:19161001T010000
RDATE:19421102T030000
RDATE:19431004T030000
RDATE:19441002T030000
RDATE:19451118T030000
RDATE:19461007T030000
END:STANDARD
BEGIN:DAYLIGHT
TZNAME:CEST
TZOFFSETFROM:+0100
TZOFFSETTO:+0200
DTSTART:19170416T020000
RRULE:FREQ=YEARLY;UNTIL=19180415T010000Z;BYMONTH=4;BYDAY=3MO
END:DAYLIGHT
BEGIN:STANDARD
TZNAME:CET
TZOFFSETFROM:+0200
TZOFFSETTO:+0100
DTSTART:19170917T030000
RRULE:FREQ=YEARLY;UNTIL=19180916T010000Z;BYMONTH=9;BYDAY=3MO
END:STANDARD
BEGIN:DAYLIGHT
TZNAME:CEST
TZOFFSETFROM:+0100
TZOFFSETTO:+0200
DTSTART:19440403T020000
RRULE:FREQ=YEARLY;UNTIL=19450402T010000Z;BYMONTH=4;BYDAY=1MO
END:DAYLIGHT
BEGIN:DAYLIGHT
TZNAME:CEMT
TZOFFSETFROM:+0200
TZOFFSETTO:+0300
DTSTART:19450524T020000
RDATE:19470511T030000
END:DAYLIGHT
BEGIN:DAYLIGHT
TZNAME:CEST
TZOFFSETFROM:+0300
TZOFFSETTO:+0200
DTSTART:19450924T030000
RDATE:19470629T030000
END:DAYLIGHT
BEGIN:STANDARD
TZNAME:CET
TZOFFSETFROM:+0100
TZOFFSETTO:+0100
DTSTART:19460101T000000
RDATE:19800101T000000
END:STANDARD
BEGIN:STANDARD
TZNAME:CET
TZOFFSETFROM:+0200
TZOFFSETTO:+0100
DTSTART:19471005T030000
RRULE:FREQ=YEARLY;UNTIL=19491002T010000Z;BYMONTH=10;BYDAY=1SU
END:STANDARD
BEGIN:STANDARD
TZNAME:CET
TZOFFSETFROM:+0200
TZOFFSETTO:+0100
DTSTART:19800928T030000
RRULE:FREQ=YEARLY;UNTIL=19950924T010000Z;BYMONTH=9;BYDAY=-1SU
END:STANDARD
BEGIN:DAYLIGHT
TZNAME:CEST
TZOFFSETFROM:+0100
TZOFFSETTO:+0200
DTSTART:19810329T020000
RRULE:FREQ=YEARLY;BYMONTH=3;BYDAY=-1SU
END:DAYLIGHT
BEGIN:STANDARD
TZNAME:CET
TZOFFSETFROM:+0200
TZOFFSETTO:+0100
DTSTART:19961027T030000
RRULE:FREQ=YEARLY;BYMONTH=10;BYDAY=-1SU
END:STANDARD
END:VTIMEZONE
BEGIN:VEVENT
DTSTAMP:20260424T183657Z
DTSTART;TZID=Europe/Berlin:20220831T200000
DTEND;TZID=Europe/Berlin:20220831T230000
SUMMARY:HE 3. Liga Gr. 3 Young Stars ZH V vs Embrachertal (0)
UID:180ccc03-6fad-4cf2-8f27-d8a841cfc91c
STATUS:CONFIRMED
LAST-MODIFIED:20220902T094423Z
DESCRIPTION:3. Liga Herren Gruppe 3\nBegegnungs-Nr: 0\nHeim: Young Stars ZH V\nGast: Embrachertal\n\nAdresse: Seefeldstrasse 93\, 8008 Zürich\n
LOCATION:Seefeldstrasse 93\, 8008 Zürich
CATEGORIES:Saison 2022/23
END:VEVENT
BEGIN:VEVENT
DTSTAMP:20260424T183657Z
DTSTART;TZID=Europe/Berlin:20221005T201500
DTEND;TZID=Europe/Berlin:20221005T231500
SUMMARY:HE 3. Liga Gr. 3 Young Stars ZH V vs Kloten (0)
UID:0a924f6a-6d69-4fd2-9b8b-4704d98dd4d2
STATUS:CONFIRMED
LAST-MODIFIED:20230106T152031Z
DESCRIPTION:3. Liga Herren Gruppe 3\nBegegnungs-Nr: 0\nHeim: Young Stars ZH V\nGast: Kloten\n\nAdresse: Seefeldstrasse 93\, 8008 Zürich\n
LOCATION:Seefeldstrasse 93\, 8008 Zürich
CATEGORIES:Saison 2022/23
END:VEVENT
BEGIN:VEVENT
DTSTAMP:20260424T183657Z
DTSTART;TZID=Europe/Berlin:20221214T201500
DTEND;TZID=Europe/Berlin:20221214T231500
SUMMARY:HE 3. Liga Gr. 3 Young Stars ZH V vs Zürich-Affoltern IV (0)
UID:d2575601-5c7f-43bb-8f9e-05579e93339a
STATUS:CONFIRMED
LAST-MODIFIED:20221215T085451Z
DESCRIPTION:3. Liga Herren Gruppe 3\nBegegnungs-Nr: 0\nHeim: Young Stars ZH V\nGast: Zürich-Affoltern IV\n\nAdresse: Seefeldstrasse 93\, 8008 Zürich\n
LOCATION:Seefeldstrasse 93\, 8008 Zürich
CATEGORIES:Saison 2022/23
END:VEVENT
BEGIN:VEVENT
DTSTAMP:20260424T183657Z
DTSTART;TZID=Europe/Berlin:20221109T201500
DTEND;TZID=Europe/Berlin:20221109T231500
SUMMARY:HE 3. Liga Gr. 3 Young Stars ZH V vs Pinguin Zürich (0)
UID:cc22fb6e-3746-4492-9c29-aab37b7d4604
STATUS:CONFIRMED
LAST-MODIFIED:20221110T110342Z
DESCRIPTION:3. Liga Herren Gruppe 3\nBegegnungs-Nr: 0\nHeim: Young Stars ZH V\nGast: Pinguin Zürich\n\nAdresse: Seefeldstrasse 93\, 8008 Zürich\n
LOCATION:Seefeldstrasse 93\, 8008 Zürich
CATEGORIES:Saison 2022/23
END:VEVENT
BEGIN:VEVENT
DTSTAMP:20260424T183657Z
DTSTART;TZID=Europe/Berlin:20230405T201500
DTEND;TZID=Europe/Berlin:20230405T231500
SUMMARY:HE 3. Liga Gr. 3 Young Stars ZH V vs Wetzikon V (0)
UID:b606e115-9d68-40f6-a60f-a9cd5e83f061
STATUS:CONFIRMED
LAST-MODIFIED:20230418T064259Z
DESCRIPTION:3. Liga Herren Gruppe 3\nBegegnungs-Nr: 0\nHeim: Young Stars ZH V\nGast: Wetzikon V\n\nAdresse: Seefeldstrasse 93\, 8008 Zürich\n
LOCATION:Seefeldstrasse 93\, 8008 Zürich
CATEGORIES:Saison 2022/23
END:VEVENT
BEGIN:VEVENT
DTSTAMP:20260424T183657Z
DTSTART;TZID=Europe/Berlin:20230308T201500
DTEND;TZID=Europe/Berlin:20230308T231500
SUMMARY:HE 3. Liga Gr. 3 Young Stars ZH V vs Bülach II (0)
UID:732a815d-5398-45bc-9360-97773ee17d80
STATUS:CONFIRMED
LAST-MODIFIED:20230309T072911Z
DESCRIPTION:3. Liga Herren Gruppe 3\nBegegnungs-Nr: 0\nHeim: Young Stars ZH V\nGast: Bülach II\n\nAdresse: Seefeldstrasse 93\, 8008 Zürich\n
LOCATION:Seefeldstrasse 93\, 8008 Zürich
CATEGORIES:Saison 2022/23
END:VEVENT
BEGIN:VEVENT
DTSTAMP:20260424T183657Z
DTSTART;TZID=Europe/Berlin:20221123T201500
DTEND;TZID=Europe/Berlin:20221123T231500
SUMMARY:HE 3. Liga Gr. 3 Young Stars ZH V vs Dübendorf-Volketswil II (0)
UID:e21c3bfe-834a-4d20-8d38-e14286e2b1a2
STATUS:CONFIRMED
LAST-MODIFIED:20221128T095228Z
DESCRIPTION:3. Liga Herren Gruppe 3\nBegegnungs-Nr: 0\nHeim: Young Stars ZH V\nGast: Dübendorf-Volketswil II\n\nAdresse: Seefeldstrasse 93\, 8008 Zürich\n
LOCATION:Seefeldstrasse 93\, 8008 Zürich
CATEGORIES:Saison 2022/23
END:VEVENT
BEGIN:VEVENT
DTSTAMP:20260424T183657Z
DTSTART;TZID=Europe/Berlin:20220919T194500
DTEND;TZID=Europe/Berlin:20220919T224500
SUMMARY:HE 3. Liga Gr. 3 Wetzikon V vs Young Stars ZH V (0)
UID:7af6ec50-af1a-4995-b11b-5872bfece274
STATUS:CONFIRMED
LAST-MODIFIED:20220923T142949Z
DESCRIPTION:3. Liga Herren Gruppe 3\nBegegnungs-Nr: 0\nHeim: Wetzikon V\nGast: Young Stars ZH V\n\nAdresse: Usterstrasse 37\, 8620 Wetzikon\n
LOCATION:Usterstrasse 37\, 8620 Wetzikon
CATEGORIES:Saison 2022/23
END:VEVENT
BEGIN:VEVENT
DTSTAMP:20260424T183657Z
DTSTART;TZID=Europe/Berlin:20221104T193000
DTEND;TZID=Europe/Berlin:20221104T223000
SUMMARY:HE 3. Liga Gr. 3 Bülach II vs Young Stars ZH V (0)
UID:a2ad686f-a95a-419a-93a6-7400b7f12f72
STATUS:CONFIRMED
LAST-MODIFIED:20221107T152415Z
DESCRIPTION:3. Liga Herren Gruppe 3\nBegegnungs-Nr: 0\nHeim: Bülach II\nGast: Young Stars ZH V\n\nAdresse: Schwerzgruebstrasse 28\, 8180 Bülach\n
LOCATION:Schwerzgruebstrasse 28\, 8180 Bülach
CATEGORIES:Saison 2022/23
END:VEVENT
BEGIN:VEVENT
DTSTAMP:20260424T183657Z
DTSTART;TZID=Europe/Berlin:20230328T201500
DTEND;TZID=Europe/Berlin:20230328T231500
SUMMARY:HE 3. Liga Gr. 3 Dübendorf-Volketswil II vs Young Stars ZH V (0)
UID:93c9197c-7f96-4541-bbed-b9a61085bc62
STATUS:CONFIRMED
LAST-MODIFIED:20230403T071223Z
DESCRIPTION:3. Liga Herren Gruppe 3\nBegegnungs-Nr: 0\nHeim: Dübendorf-Volketswil II\nGast: Young Stars ZH V\n\nAdresse: Dübendorfstrasse 46\, 8602 Wangen ZH\n
LOCATION:Dübendorfstrasse 46\, 8602 Wangen ZH
CATEGORIES:Saison 2022/23
END:VEVENT
BEGIN:VEVENT
DTSTAMP:20260424T183657Z
DTSTART;TZID=Europe/Berlin:20230228T201500
DTEND;TZID=Europe/Berlin:20230228T231500
SUMMARY:HE 3. Liga Gr. 3 Embrachertal vs Young Stars ZH V (0)
UID:d9a90861-7d3b-44c6-8fc4-11985b7fe5c0
STATUS:CONFIRMED
LAST-MODIFIED:20230302T155128Z
DESCRIPTION:3. Liga Herren Gruppe 3\nBegegnungs-Nr: 0\nHeim: Embrachertal\nGast: Young Stars ZH V\n\nAdresse: Hintermarchlenstrasse 31 + 33\, 8426 Lufingen\n
LOCATION:Hintermarchlenstrasse 31 + 33\, 8426 Lufingen
CATEGORIES:Saison 2022/23
END:VEVENT
BEGIN:VEVENT
DTSTAMP:20260424T183657Z
DTSTART;TZID=Europe/Berlin:20230125T193000
DTEND;TZID=Europe/Berlin:20230125T223000
SUMMARY:HE 3. Liga Gr. 3 Kloten vs Young Stars ZH V (0)
UID:02786eb3-bea4-4ba6-8fb8-09a517c8a51d
STATUS:CONFIRMED
LAST-MODIFIED:20230127T161346Z
DESCRIPTION:3. Liga Herren Gruppe 3\nBegegnungs-Nr: 0\nHeim: Kloten\nGast: Young Stars ZH V\n\nAdresse: Schluefweg 10\, 8302 Kloten\n
LOCATION:Schluefweg 10\, 8302 Kloten
CATEGORIES:Saison 2022/23
END:VEVENT
BEGIN:VEVENT
DTSTAMP:20260424T183657Z
DTSTART;TZID=Europe/Berlin:20230208T201500
DTEND;TZID=Europe/Berlin:20230208T231500
SUMMARY:HE 3. Liga Gr. 3 Zürich-Affoltern IV vs Young Stars ZH V (0)
UID:25f9975a-2647-43e9-a11e-08d8f2554693
STATUS:CONFIRMED
LAST-MODIFIED:20230209T103422Z
DESCRIPTION:3. Liga Herren Gruppe 3\nBegegnungs-Nr: 0\nHeim: Zürich-Affoltern IV\nGast: Young Stars ZH V\n\nAdresse: Rümlangstr. 89\, 8052 Zürich\n
LOCATION:Rümlangstr. 89\, 8052 Zürich
CATEGORIES:Saison 2022/23
END:VEVENT
BEGIN:VEVENT
DTSTAMP:20260424T183657Z
DTSTART;TZID=Europe/Berlin:20230317T193000
DTEND;TZID=Europe/Berlin:20230317T223000
SUMMARY:HE 3. Liga Gr. 3 Pinguin Zürich vs Young Stars ZH V (0)
UID:d5358676-64c3-49d1-98d9-972b81c55d40
STATUS:CONFIRMED
LAST-MODIFIED:20230322T134208Z
DESCRIPTION:3. Liga Herren Gruppe 3\nBegegnungs-Nr: 0\nHeim: Pinguin Zürich\nGast: Young Stars ZH V\n\nAdresse: Basteiplatz\, 8001 Zürich\n
LOCATION:Basteiplatz\, 8001 Zürich
CATEGORIES:Saison 2022/23
END:VEVENT
END:VCALENDAR
