BEGIN:VCALENDAR
PRODID:-//nuDatenautomaten//framework iCal4j //DE
VERSION:2.0
CALSCALE:GREGORIAN
BEGIN:VTIMEZONE
TZID:Europe/Berlin
LAST-MODIFIED:20260306T231828Z
TZURL:https://www.tzurl.org/zoneinfo/Europe/Berlin
X-LIC-LOCATION:Europe/Berlin
X-PROLEPTIC-TZNAME:LMT
BEGIN:STANDARD
TZNAME:CET
TZOFFSETFROM:+005328
TZOFFSETTO:+0100
DTSTART:18930401T000000
END:STANDARD
BEGIN:DAYLIGHT
TZNAME:CEST
TZOFFSETFROM:+0100
TZOFFSETTO:+0200
DTSTART:19160430T230000
RDATE:19400401T020000
RDATE:19430329T020000
RDATE:19460414T020000
RDATE:19470406T030000
RDATE:19480418T020000
RDATE:19490410T020000
RDATE:19800406T020000
END:DAYLIGHT
BEGIN:STANDARD
TZNAME:CET
TZOFFSETFROM:+0200
TZOFFSETTO:+0100
DTSTART:19161001T010000
RDATE:19421102T030000
RDATE:19431004T030000
RDATE:19441002T030000
RDATE:19451118T030000
RDATE:19461007T030000
END:STANDARD
BEGIN:DAYLIGHT
TZNAME:CEST
TZOFFSETFROM:+0100
TZOFFSETTO:+0200
DTSTART:19170416T020000
RRULE:FREQ=YEARLY;UNTIL=19180415T010000Z;BYMONTH=4;BYDAY=3MO
END:DAYLIGHT
BEGIN:STANDARD
TZNAME:CET
TZOFFSETFROM:+0200
TZOFFSETTO:+0100
DTSTART:19170917T030000
RRULE:FREQ=YEARLY;UNTIL=19180916T010000Z;BYMONTH=9;BYDAY=3MO
END:STANDARD
BEGIN:DAYLIGHT
TZNAME:CEST
TZOFFSETFROM:+0100
TZOFFSETTO:+0200
DTSTART:19440403T020000
RRULE:FREQ=YEARLY;UNTIL=19450402T010000Z;BYMONTH=4;BYDAY=1MO
END:DAYLIGHT
BEGIN:DAYLIGHT
TZNAME:CEMT
TZOFFSETFROM:+0200
TZOFFSETTO:+0300
DTSTART:19450524T020000
RDATE:19470511T030000
END:DAYLIGHT
BEGIN:DAYLIGHT
TZNAME:CEST
TZOFFSETFROM:+0300
TZOFFSETTO:+0200
DTSTART:19450924T030000
RDATE:19470629T030000
END:DAYLIGHT
BEGIN:STANDARD
TZNAME:CET
TZOFFSETFROM:+0100
TZOFFSETTO:+0100
DTSTART:19460101T000000
RDATE:19800101T000000
END:STANDARD
BEGIN:STANDARD
TZNAME:CET
TZOFFSETFROM:+0200
TZOFFSETTO:+0100
DTSTART:19471005T030000
RRULE:FREQ=YEARLY;UNTIL=19491002T010000Z;BYMONTH=10;BYDAY=1SU
END:STANDARD
BEGIN:STANDARD
TZNAME:CET
TZOFFSETFROM:+0200
TZOFFSETTO:+0100
DTSTART:19800928T030000
RRULE:FREQ=YEARLY;UNTIL=19950924T010000Z;BYMONTH=9;BYDAY=-1SU
END:STANDARD
BEGIN:DAYLIGHT
TZNAME:CEST
TZOFFSETFROM:+0100
TZOFFSETTO:+0200
DTSTART:19810329T020000
RRULE:FREQ=YEARLY;BYMONTH=3;BYDAY=-1SU
END:DAYLIGHT
BEGIN:STANDARD
TZNAME:CET
TZOFFSETFROM:+0200
TZOFFSETTO:+0100
DTSTART:19961027T030000
RRULE:FREQ=YEARLY;BYMONTH=10;BYDAY=-1SU
END:STANDARD
END:VTIMEZONE
BEGIN:VEVENT
DTSTAMP:20260426T033332Z
DTSTART;TZID=Europe/Berlin:20220920T201500
DTEND;TZID=Europe/Berlin:20220920T231500
SUMMARY:O40 2. Liga Gr. 1 Uster vs Romanshorn II (0)
UID:c5eec754-0a9e-4159-961c-63ba8e7dc366
STATUS:CONFIRMED
LAST-MODIFIED:20220923T145643Z
DESCRIPTION:2. Liga O40 Gruppe 1\nBegegnungs-Nr: 0\nHeim: Uster\nGast: Romanshorn II\n\nAdresse: Wilstrasse 30 / Zürcherstrasse\, 8610 Uster\n
LOCATION:Wilstrasse 30 / Zürcherstrasse\, 8610 Uster
CATEGORIES:Saison 2022/23
END:VEVENT
BEGIN:VEVENT
DTSTAMP:20260426T033332Z
DTSTART;TZID=Europe/Berlin:20221208T201500
DTEND;TZID=Europe/Berlin:20221208T231500
SUMMARY:O40 2. Liga Gr. 1 Uster vs St. Gallen (0)
UID:3938f436-ddd6-401c-a193-4413cacdec41
STATUS:CONFIRMED
LAST-MODIFIED:20221212T143642Z
DESCRIPTION:2. Liga O40 Gruppe 1\nBegegnungs-Nr: 0\nHeim: Uster\nGast: St. Gallen\n\nAdresse: Wilstrasse 30 / Zürcherstrasse\, 8610 Uster\n
LOCATION:Wilstrasse 30 / Zürcherstrasse\, 8610 Uster
CATEGORIES:Saison 2022/23
END:VEVENT
BEGIN:VEVENT
DTSTAMP:20260426T033332Z
DTSTART;TZID=Europe/Berlin:20230202T201500
DTEND;TZID=Europe/Berlin:20230202T231500
SUMMARY:O40 2. Liga Gr. 1 Uster vs Gaiserwald II (0)
UID:b1c37586-d253-4244-89c1-7e29684f96a6
STATUS:CONFIRMED
LAST-MODIFIED:20230208T194916Z
DESCRIPTION:2. Liga O40 Gruppe 1\nBegegnungs-Nr: 0\nHeim: Uster\nGast: Gaiserwald II\n\nAdresse: Wilstrasse 30 / Zürcherstrasse\, 8610 Uster\n
LOCATION:Wilstrasse 30 / Zürcherstrasse\, 8610 Uster
CATEGORIES:Saison 2022/23
END:VEVENT
BEGIN:VEVENT
DTSTAMP:20260426T033332Z
DTSTART;TZID=Europe/Berlin:20220907T201500
DTEND;TZID=Europe/Berlin:20220907T231500
SUMMARY:O40 2. Liga Gr. 1 Uster vs Buchs Zürich (0)
UID:b6e4bbb2-d143-41ed-b699-6d50aba62db4
STATUS:CONFIRMED
LAST-MODIFIED:20220909T132946Z
DESCRIPTION:2. Liga O40 Gruppe 1\nBegegnungs-Nr: 0\nHeim: Uster\nGast: Buchs Zürich\n\nAdresse: Wilstrasse 30 / Zürcherstrasse\, 8610 Uster\n
LOCATION:Wilstrasse 30 / Zürcherstrasse\, 8610 Uster
CATEGORIES:Saison 2022/23
END:VEVENT
BEGIN:VEVENT
DTSTAMP:20260426T033332Z
DTSTART;TZID=Europe/Berlin:20230330T201500
DTEND;TZID=Europe/Berlin:20230330T231500
SUMMARY:O40 2. Liga Gr. 1 Uster vs Dübendorf-Volketswil (0)
UID:6c005dff-8584-4d1a-a127-5b88bc2754ea
STATUS:CONFIRMED
LAST-MODIFIED:20230405T121111Z
DESCRIPTION:2. Liga O40 Gruppe 1\nBegegnungs-Nr: 0\nHeim: Uster\nGast: Dübendorf-Volketswil\n\nAdresse: Wilstrasse 30 / Zürcherstrasse\, 8610 Uster\n
LOCATION:Wilstrasse 30 / Zürcherstrasse\, 8610 Uster
CATEGORIES:Saison 2022/23
END:VEVENT
BEGIN:VEVENT
DTSTAMP:20260426T033332Z
DTSTART;TZID=Europe/Berlin:20230420T201500
DTEND;TZID=Europe/Berlin:20230420T231500
SUMMARY:O40 2. Liga Gr. 1 Uster vs Winterthur (0)
UID:de90ca85-b06f-4da8-a4ca-ed52a273a0e2
STATUS:CONFIRMED
LAST-MODIFIED:20230421T090853Z
DESCRIPTION:2. Liga O40 Gruppe 1\nBegegnungs-Nr: 0\nHeim: Uster\nGast: Winterthur\n\nAdresse: Wilstrasse 30 / Zürcherstrasse\, 8610 Uster\n
LOCATION:Wilstrasse 30 / Zürcherstrasse\, 8610 Uster
CATEGORIES:Saison 2022/23
END:VEVENT
BEGIN:VEVENT
DTSTAMP:20260426T033332Z
DTSTART;TZID=Europe/Berlin:20221124T194500
DTEND;TZID=Europe/Berlin:20221124T224500
SUMMARY:O40 2. Liga Gr. 1 Dübendorf-Volketswil vs Uster (0)
UID:15c4b345-d9c1-4ecc-9e9b-a14ac0123d94
STATUS:CONFIRMED
LAST-MODIFIED:20221128T143615Z
DESCRIPTION:2. Liga O40 Gruppe 1\nBegegnungs-Nr: 0\nHeim: Dübendorf-Volketswil\nGast: Uster\n\nAdresse: Wasserfurrenstrasse 7\, 8600 Dübendorf\n
LOCATION:Wasserfurrenstrasse 7\, 8600 Dübendorf
CATEGORIES:Saison 2022/23
END:VEVENT
BEGIN:VEVENT
DTSTAMP:20260426T033332Z
DTSTART;TZID=Europe/Berlin:20221219T200000
DTEND;TZID=Europe/Berlin:20221219T230000
SUMMARY:O40 2. Liga Gr. 1 Winterthur vs Uster (0)
UID:220411dd-339f-4693-801c-c06e65b5be97
STATUS:CONFIRMED
LAST-MODIFIED:20221222T065908Z
DESCRIPTION:2. Liga O40 Gruppe 1\nBegegnungs-Nr: 0\nHeim: Winterthur\nGast: Uster\n\nAdresse: Buchackerstrasse 54\, 8400 Winterthur\n
LOCATION:Buchackerstrasse 54\, 8400 Winterthur
CATEGORIES:Saison 2022/23
END:VEVENT
BEGIN:VEVENT
DTSTAMP:20260426T033332Z
DTSTART;TZID=Europe/Berlin:20230116T201500
DTEND;TZID=Europe/Berlin:20230116T231500
SUMMARY:O40 2. Liga Gr. 1 Buchs Zürich vs Uster (0)
UID:5117dfde-df32-4205-aa10-a46389fd3026
STATUS:CONFIRMED
LAST-MODIFIED:20230127T163511Z
DESCRIPTION:2. Liga O40 Gruppe 1\nBegegnungs-Nr: 0\nHeim: Buchs Zürich\nGast: Uster\nHalle: Schulhaus Chrüzächer\nAdresse: Schulstrasse 73\, 8105 Regensdorf\n
LOCATION:Schulhaus Chrüzächer Schulstrasse 73\, 8105 Regensdorf
CATEGORIES:Saison 2022/23
END:VEVENT
BEGIN:VEVENT
DTSTAMP:20260426T033332Z
DTSTART;TZID=Europe/Berlin:20230302T201500
DTEND;TZID=Europe/Berlin:20230302T231500
SUMMARY:O40 2. Liga Gr. 1 Romanshorn II vs Uster (0)
UID:0849b59e-8c25-4c95-8c42-7bd154543941
STATUS:CONFIRMED
LAST-MODIFIED:20230307T102354Z
DESCRIPTION:2. Liga O40 Gruppe 1\nBegegnungs-Nr: 0\nHeim: Romanshorn II\nGast: Uster\n\nAdresse: Florastrasse\, 8590 Romanshorn\n
LOCATION:Florastrasse\, 8590 Romanshorn
CATEGORIES:Saison 2022/23
END:VEVENT
BEGIN:VEVENT
DTSTAMP:20260426T033332Z
DTSTART;TZID=Europe/Berlin:20230414T200000
DTEND;TZID=Europe/Berlin:20230414T230000
SUMMARY:O40 2. Liga Gr. 1 St. Gallen vs Uster (0)
UID:cacb6937-72fd-4004-bfbb-956584177cb2
STATUS:CONFIRMED
LAST-MODIFIED:20230420T090259Z
DESCRIPTION:2. Liga O40 Gruppe 1\nBegegnungs-Nr: 0\nHeim: St. Gallen\nGast: Uster\n\nAdresse: Zilstrasse 61\, 9016 St.Gallen\n
LOCATION:Zilstrasse 61\, 9016 St.Gallen
CATEGORIES:Saison 2022/23
END:VEVENT
BEGIN:VEVENT
DTSTAMP:20260426T033332Z
DTSTART;TZID=Europe/Berlin:20220825T200000
DTEND;TZID=Europe/Berlin:20220825T230000
SUMMARY:O40 2. Liga Gr. 1 Gaiserwald II vs Uster (0)
UID:19ee6543-9851-4fd7-b6c4-9e6a39cbbe0d
STATUS:CONFIRMED
LAST-MODIFIED:20220829T054106Z
DESCRIPTION:2. Liga O40 Gruppe 1\nBegegnungs-Nr: 0\nHeim: Gaiserwald II\nGast: Uster\n\nAdresse: Sonnenbergstrasse 15\, 9030 Abtwil\n
LOCATION:Sonnenbergstrasse 15\, 9030 Abtwil
CATEGORIES:Saison 2022/23
END:VEVENT
END:VCALENDAR
