BEGIN:VCALENDAR
PRODID:-//nuDatenautomaten//framework iCal4j //DE
VERSION:2.0
CALSCALE:GREGORIAN
BEGIN:VTIMEZONE
TZID:Europe/Berlin
LAST-MODIFIED:20260306T231828Z
TZURL:https://www.tzurl.org/zoneinfo/Europe/Berlin
X-LIC-LOCATION:Europe/Berlin
X-PROLEPTIC-TZNAME:LMT
BEGIN:STANDARD
TZNAME:CET
TZOFFSETFROM:+005328
TZOFFSETTO:+0100
DTSTART:18930401T000000
END:STANDARD
BEGIN:DAYLIGHT
TZNAME:CEST
TZOFFSETFROM:+0100
TZOFFSETTO:+0200
DTSTART:19160430T230000
RDATE:19400401T020000
RDATE:19430329T020000
RDATE:19460414T020000
RDATE:19470406T030000
RDATE:19480418T020000
RDATE:19490410T020000
RDATE:19800406T020000
END:DAYLIGHT
BEGIN:STANDARD
TZNAME:CET
TZOFFSETFROM:+0200
TZOFFSETTO:+0100
DTSTART:19161001T010000
RDATE:19421102T030000
RDATE:19431004T030000
RDATE:19441002T030000
RDATE:19451118T030000
RDATE:19461007T030000
END:STANDARD
BEGIN:DAYLIGHT
TZNAME:CEST
TZOFFSETFROM:+0100
TZOFFSETTO:+0200
DTSTART:19170416T020000
RRULE:FREQ=YEARLY;UNTIL=19180415T010000Z;BYMONTH=4;BYDAY=3MO
END:DAYLIGHT
BEGIN:STANDARD
TZNAME:CET
TZOFFSETFROM:+0200
TZOFFSETTO:+0100
DTSTART:19170917T030000
RRULE:FREQ=YEARLY;UNTIL=19180916T010000Z;BYMONTH=9;BYDAY=3MO
END:STANDARD
BEGIN:DAYLIGHT
TZNAME:CEST
TZOFFSETFROM:+0100
TZOFFSETTO:+0200
DTSTART:19440403T020000
RRULE:FREQ=YEARLY;UNTIL=19450402T010000Z;BYMONTH=4;BYDAY=1MO
END:DAYLIGHT
BEGIN:DAYLIGHT
TZNAME:CEMT
TZOFFSETFROM:+0200
TZOFFSETTO:+0300
DTSTART:19450524T020000
RDATE:19470511T030000
END:DAYLIGHT
BEGIN:DAYLIGHT
TZNAME:CEST
TZOFFSETFROM:+0300
TZOFFSETTO:+0200
DTSTART:19450924T030000
RDATE:19470629T030000
END:DAYLIGHT
BEGIN:STANDARD
TZNAME:CET
TZOFFSETFROM:+0100
TZOFFSETTO:+0100
DTSTART:19460101T000000
RDATE:19800101T000000
END:STANDARD
BEGIN:STANDARD
TZNAME:CET
TZOFFSETFROM:+0200
TZOFFSETTO:+0100
DTSTART:19471005T030000
RRULE:FREQ=YEARLY;UNTIL=19491002T010000Z;BYMONTH=10;BYDAY=1SU
END:STANDARD
BEGIN:STANDARD
TZNAME:CET
TZOFFSETFROM:+0200
TZOFFSETTO:+0100
DTSTART:19800928T030000
RRULE:FREQ=YEARLY;UNTIL=19950924T010000Z;BYMONTH=9;BYDAY=-1SU
END:STANDARD
BEGIN:DAYLIGHT
TZNAME:CEST
TZOFFSETFROM:+0100
TZOFFSETTO:+0200
DTSTART:19810329T020000
RRULE:FREQ=YEARLY;BYMONTH=3;BYDAY=-1SU
END:DAYLIGHT
BEGIN:STANDARD
TZNAME:CET
TZOFFSETFROM:+0200
TZOFFSETTO:+0100
DTSTART:19961027T030000
RRULE:FREQ=YEARLY;BYMONTH=10;BYDAY=-1SU
END:STANDARD
END:VTIMEZONE
BEGIN:VEVENT
DTSTAMP:20260426T043338Z
DTSTART;TZID=Europe/Berlin:20220826T193000
DTEND;TZID=Europe/Berlin:20220826T223000
SUMMARY:O40 3. Liga Gr. 3 Pinguin Zürich II vs BW-Wollishofen (0)
UID:71397f10-d5da-47fa-9922-5eed5a97835e
STATUS:CONFIRMED
LAST-MODIFIED:20220829T054246Z
DESCRIPTION:3. Liga O40 Gruppe 3\nBegegnungs-Nr: 0\nHeim: Pinguin Zürich II\nGast: BW-Wollishofen\n\nAdresse: Basteiplatz\, 8001 Zürich\n
LOCATION:Basteiplatz\, 8001 Zürich
CATEGORIES:Saison 2022/23
END:VEVENT
BEGIN:VEVENT
DTSTAMP:20260426T043338Z
DTSTART;TZID=Europe/Berlin:20221028T193000
DTEND;TZID=Europe/Berlin:20221028T223000
SUMMARY:O40 3. Liga Gr. 3 Pinguin Zürich II vs Höngg (0)
UID:cb2053ee-092a-49c6-980d-1561923dda6b
STATUS:CONFIRMED
LAST-MODIFIED:20221101T092003Z
DESCRIPTION:3. Liga O40 Gruppe 3\nBegegnungs-Nr: 0\nHeim: Pinguin Zürich II\nGast: Höngg\n\nAdresse: Basteiplatz\, 8001 Zürich\n
LOCATION:Basteiplatz\, 8001 Zürich
CATEGORIES:Saison 2022/23
END:VEVENT
BEGIN:VEVENT
DTSTAMP:20260426T043338Z
DTSTART;TZID=Europe/Berlin:20221125T193000
DTEND;TZID=Europe/Berlin:20221125T223000
SUMMARY:O40 3. Liga Gr. 3 Pinguin Zürich II vs Meilen-Männedorf (0)
UID:d9853c31-63cb-4fe0-b644-e10d19603a53
STATUS:CONFIRMED
LAST-MODIFIED:20221128T150224Z
DESCRIPTION:3. Liga O40 Gruppe 3\nBegegnungs-Nr: 0\nHeim: Pinguin Zürich II\nGast: Meilen-Männedorf\n\nAdresse: Basteiplatz\, 8001 Zürich\n
LOCATION:Basteiplatz\, 8001 Zürich
CATEGORIES:Saison 2022/23
END:VEVENT
BEGIN:VEVENT
DTSTAMP:20260426T043338Z
DTSTART;TZID=Europe/Berlin:20221216T193000
DTEND;TZID=Europe/Berlin:20221216T223000
SUMMARY:O40 3. Liga Gr. 3 Pinguin Zürich II vs Chur II (0)
UID:b150a42b-c8e0-42ba-8e61-78b9506aae83
STATUS:CONFIRMED
LAST-MODIFIED:20221222T070511Z
DESCRIPTION:3. Liga O40 Gruppe 3\nBegegnungs-Nr: 0\nHeim: Pinguin Zürich II\nGast: Chur II\n\nAdresse: Basteiplatz\, 8001 Zürich\n
LOCATION:Basteiplatz\, 8001 Zürich
CATEGORIES:Saison 2022/23
END:VEVENT
BEGIN:VEVENT
DTSTAMP:20260426T043338Z
DTSTART;TZID=Europe/Berlin:20230120T193000
DTEND;TZID=Europe/Berlin:20230120T223000
SUMMARY:O40 3. Liga Gr. 3 Pinguin Zürich II vs Wolfhausen (0)
UID:b9e13a9d-f880-46b7-9146-f3cb5088c8e2
STATUS:CONFIRMED
LAST-MODIFIED:20230127T163743Z
DESCRIPTION:3. Liga O40 Gruppe 3\nBegegnungs-Nr: 0\nHeim: Pinguin Zürich II\nGast: Wolfhausen\n\nAdresse: Basteiplatz\, 8001 Zürich\n
LOCATION:Basteiplatz\, 8001 Zürich
CATEGORIES:Saison 2022/23
END:VEVENT
BEGIN:VEVENT
DTSTAMP:20260426T043338Z
DTSTART;TZID=Europe/Berlin:20230303T193000
DTEND;TZID=Europe/Berlin:20230303T223000
SUMMARY:O40 3. Liga Gr. 3 Pinguin Zürich II vs Wetzikon (0)
UID:d7d395a3-b2fa-4a15-8596-772f276e38e1
STATUS:CONFIRMED
LAST-MODIFIED:20230307T103241Z
DESCRIPTION:3. Liga O40 Gruppe 3\nBegegnungs-Nr: 0\nHeim: Pinguin Zürich II\nGast: Wetzikon\n\nAdresse: Basteiplatz\, 8001 Zürich\n
LOCATION:Basteiplatz\, 8001 Zürich
CATEGORIES:Saison 2022/23
END:VEVENT
BEGIN:VEVENT
DTSTAMP:20260426T043338Z
DTSTART;TZID=Europe/Berlin:20221003T200000
DTEND;TZID=Europe/Berlin:20221003T230000
SUMMARY:O40 3. Liga Gr. 3 Wolfhausen vs Pinguin Zürich II (0)
UID:a2507133-8d26-4d5f-9cb5-fd1f60f8ffe4
STATUS:CONFIRMED
LAST-MODIFIED:20221007T070501Z
DESCRIPTION:3. Liga O40 Gruppe 3\nBegegnungs-Nr: 0\nHeim: Wolfhausen\nGast: Pinguin Zürich II\n\nAdresse: Schulstrasse 9\, 8633 Wolfhausen\n
LOCATION:Schulstrasse 9\, 8633 Wolfhausen
CATEGORIES:Saison 2022/23
END:VEVENT
BEGIN:VEVENT
DTSTAMP:20260426T043338Z
DTSTART;TZID=Europe/Berlin:20220916T194500
DTEND;TZID=Europe/Berlin:20220916T224500
SUMMARY:O40 3. Liga Gr. 3 Wetzikon vs Pinguin Zürich II (0)
UID:85716761-bf3c-42f4-bddd-ab05e9e73479
STATUS:CONFIRMED
LAST-MODIFIED:20220923T152802Z
DESCRIPTION:3. Liga O40 Gruppe 3\nBegegnungs-Nr: 0\nHeim: Wetzikon\nGast: Pinguin Zürich II\n\nAdresse: Usterstrasse 37\, 8620 Wetzikon\n
LOCATION:Usterstrasse 37\, 8620 Wetzikon
CATEGORIES:Saison 2022/23
END:VEVENT
BEGIN:VEVENT
DTSTAMP:20260426T043338Z
DTSTART;TZID=Europe/Berlin:20230210T194500
DTEND;TZID=Europe/Berlin:20230210T224500
SUMMARY:O40 3. Liga Gr. 3 Meilen-Männedorf vs Pinguin Zürich II (0)
UID:b66809fb-0855-45b0-8281-dd365df4944d
STATUS:CONFIRMED
LAST-MODIFIED:20230215T140255Z
DESCRIPTION:3. Liga O40 Gruppe 3\nBegegnungs-Nr: 0\nHeim: Meilen-Männedorf\nGast: Pinguin Zürich II\n\nAdresse: Schulstrasse 10\, 8708 Männedorf\n
LOCATION:Schulstrasse 10\, 8708 Männedorf
CATEGORIES:Saison 2022/23
END:VEVENT
BEGIN:VEVENT
DTSTAMP:20260426T043338Z
DTSTART;TZID=Europe/Berlin:20230320T200000
DTEND;TZID=Europe/Berlin:20230320T230000
SUMMARY:O40 3. Liga Gr. 3 Höngg vs Pinguin Zürich II (0)
UID:7996f78b-8e0c-4042-81da-88c26942f5a9
STATUS:CONFIRMED
LAST-MODIFIED:20230328T102227Z
DESCRIPTION:3. Liga O40 Gruppe 3\nBegegnungs-Nr: 0\nHeim: Höngg\nGast: Pinguin Zürich II\n\nAdresse: Bläsistrasse 2\, 8049 Zürich\n
LOCATION:Bläsistrasse 2\, 8049 Zürich
CATEGORIES:Saison 2022/23
END:VEVENT
BEGIN:VEVENT
DTSTAMP:20260426T043338Z
DTSTART;TZID=Europe/Berlin:20230504T200000
DTEND;TZID=Europe/Berlin:20230504T230000
SUMMARY:O40 3. Liga Gr. 3 Chur II vs Pinguin Zürich II (0)
UID:be801b77-81a4-4f28-b733-d52189175b46
STATUS:CONFIRMED
LAST-MODIFIED:20230510T122700Z
DESCRIPTION:3. Liga O40 Gruppe 3\nBegegnungs-Nr: 0\nHeim: Chur II\nGast: Pinguin Zürich II\n\nAdresse: Sandstr. 35\, 7000 Chur\n
LOCATION:Sandstr. 35\, 7000 Chur
CATEGORIES:Saison 2022/23
END:VEVENT
BEGIN:VEVENT
DTSTAMP:20260426T043338Z
DTSTART;TZID=Europe/Berlin:20230201T200000
DTEND;TZID=Europe/Berlin:20230201T230000
SUMMARY:O40 3. Liga Gr. 3 BW-Wollishofen vs Pinguin Zürich II (0)
UID:d3919919-90ec-45c7-81b8-e2bf05e0d733
STATUS:CONFIRMED
LAST-MODIFIED:20230202T151423Z
DESCRIPTION:3. Liga O40 Gruppe 3\nBegegnungs-Nr: 0\nHeim: BW-Wollishofen\nGast: Pinguin Zürich II\n\nAdresse: Kilchbergstr. 28\, 8038 Zürich\n
LOCATION:Kilchbergstr. 28\, 8038 Zürich
CATEGORIES:Saison 2022/23
END:VEVENT
END:VCALENDAR
