BEGIN:VCALENDAR
PRODID:-//nuDatenautomaten//framework iCal4j //DE
VERSION:2.0
CALSCALE:GREGORIAN
BEGIN:VTIMEZONE
TZID:Europe/Berlin
LAST-MODIFIED:20260306T231828Z
TZURL:https://www.tzurl.org/zoneinfo/Europe/Berlin
X-LIC-LOCATION:Europe/Berlin
X-PROLEPTIC-TZNAME:LMT
BEGIN:STANDARD
TZNAME:CET
TZOFFSETFROM:+005328
TZOFFSETTO:+0100
DTSTART:18930401T000000
END:STANDARD
BEGIN:DAYLIGHT
TZNAME:CEST
TZOFFSETFROM:+0100
TZOFFSETTO:+0200
DTSTART:19160430T230000
RDATE:19400401T020000
RDATE:19430329T020000
RDATE:19460414T020000
RDATE:19470406T030000
RDATE:19480418T020000
RDATE:19490410T020000
RDATE:19800406T020000
END:DAYLIGHT
BEGIN:STANDARD
TZNAME:CET
TZOFFSETFROM:+0200
TZOFFSETTO:+0100
DTSTART:19161001T010000
RDATE:19421102T030000
RDATE:19431004T030000
RDATE:19441002T030000
RDATE:19451118T030000
RDATE:19461007T030000
END:STANDARD
BEGIN:DAYLIGHT
TZNAME:CEST
TZOFFSETFROM:+0100
TZOFFSETTO:+0200
DTSTART:19170416T020000
RRULE:FREQ=YEARLY;UNTIL=19180415T010000Z;BYMONTH=4;BYDAY=3MO
END:DAYLIGHT
BEGIN:STANDARD
TZNAME:CET
TZOFFSETFROM:+0200
TZOFFSETTO:+0100
DTSTART:19170917T030000
RRULE:FREQ=YEARLY;UNTIL=19180916T010000Z;BYMONTH=9;BYDAY=3MO
END:STANDARD
BEGIN:DAYLIGHT
TZNAME:CEST
TZOFFSETFROM:+0100
TZOFFSETTO:+0200
DTSTART:19440403T020000
RRULE:FREQ=YEARLY;UNTIL=19450402T010000Z;BYMONTH=4;BYDAY=1MO
END:DAYLIGHT
BEGIN:DAYLIGHT
TZNAME:CEMT
TZOFFSETFROM:+0200
TZOFFSETTO:+0300
DTSTART:19450524T020000
RDATE:19470511T030000
END:DAYLIGHT
BEGIN:DAYLIGHT
TZNAME:CEST
TZOFFSETFROM:+0300
TZOFFSETTO:+0200
DTSTART:19450924T030000
RDATE:19470629T030000
END:DAYLIGHT
BEGIN:STANDARD
TZNAME:CET
TZOFFSETFROM:+0100
TZOFFSETTO:+0100
DTSTART:19460101T000000
RDATE:19800101T000000
END:STANDARD
BEGIN:STANDARD
TZNAME:CET
TZOFFSETFROM:+0200
TZOFFSETTO:+0100
DTSTART:19471005T030000
RRULE:FREQ=YEARLY;UNTIL=19491002T010000Z;BYMONTH=10;BYDAY=1SU
END:STANDARD
BEGIN:STANDARD
TZNAME:CET
TZOFFSETFROM:+0200
TZOFFSETTO:+0100
DTSTART:19800928T030000
RRULE:FREQ=YEARLY;UNTIL=19950924T010000Z;BYMONTH=9;BYDAY=-1SU
END:STANDARD
BEGIN:DAYLIGHT
TZNAME:CEST
TZOFFSETFROM:+0100
TZOFFSETTO:+0200
DTSTART:19810329T020000
RRULE:FREQ=YEARLY;BYMONTH=3;BYDAY=-1SU
END:DAYLIGHT
BEGIN:STANDARD
TZNAME:CET
TZOFFSETFROM:+0200
TZOFFSETTO:+0100
DTSTART:19961027T030000
RRULE:FREQ=YEARLY;BYMONTH=10;BYDAY=-1SU
END:STANDARD
END:VTIMEZONE
BEGIN:VEVENT
DTSTAMP:20260421T202853Z
DTSTART;TZID=Europe/Berlin:20230130T194500
DTEND;TZID=Europe/Berlin:20230130T224500
SUMMARY:HE 3. Liga Gr. 2 Ittigen vs Wohlensee (12)
UID:63c8e195-512d-4522-ad0e-d77f5ba42e44
STATUS:CONFIRMED
LAST-MODIFIED:20230201T175932Z
DESCRIPTION:3. Liga Herren Gruppe 2\nBegegnungs-Nr: 12\nHeim: Ittigen\nGast: Wohlensee\n\nAdresse: Fischrainweg 17\, 3048 Worblaufen\n
LOCATION:Fischrainweg 17\, 3048 Worblaufen
CATEGORIES:Saison 2022/23
END:VEVENT
BEGIN:VEVENT
DTSTAMP:20260421T202853Z
DTSTART;TZID=Europe/Berlin:20230313T194500
DTEND;TZID=Europe/Berlin:20230313T224500
SUMMARY:HE 3. Liga Gr. 2 Ittigen vs Regio Moossee (23)
UID:c3084279-8f25-4266-8230-4815b313196f
STATUS:CONFIRMED
LAST-MODIFIED:20230314T172836Z
DESCRIPTION:3. Liga Herren Gruppe 2\nBegegnungs-Nr: 23\nHeim: Ittigen\nGast: Regio Moossee\n\nAdresse: Fischrainweg 17\, 3048 Worblaufen\n
LOCATION:Fischrainweg 17\, 3048 Worblaufen
CATEGORIES:Saison 2022/23
END:VEVENT
BEGIN:VEVENT
DTSTAMP:20260421T202853Z
DTSTART;TZID=Europe/Berlin:20220829T194500
DTEND;TZID=Europe/Berlin:20220829T224500
SUMMARY:HE 3. Liga Gr. 2 Ittigen vs Port IV (7)
UID:1c466b03-4d01-48e5-9c15-886b334ff973
STATUS:CONFIRMED
LAST-MODIFIED:20220830T085127Z
DESCRIPTION:3. Liga Herren Gruppe 2\nBegegnungs-Nr: 7\nHeim: Ittigen\nGast: Port IV\n\nAdresse: Fischrainweg 17\, 3048 Worblaufen\n
LOCATION:Fischrainweg 17\, 3048 Worblaufen
CATEGORIES:Saison 2022/23
END:VEVENT
BEGIN:VEVENT
DTSTAMP:20260421T202853Z
DTSTART;TZID=Europe/Berlin:20221205T194500
DTEND;TZID=Europe/Berlin:20221205T224500
SUMMARY:HE 3. Liga Gr. 2 Ittigen vs Langnau (27)
UID:f78d62fb-bc6d-45cc-9677-07ad37a5f977
STATUS:CONFIRMED
LAST-MODIFIED:20221207T132033Z
DESCRIPTION:3. Liga Herren Gruppe 2\nBegegnungs-Nr: 27\nHeim: Ittigen\nGast: Langnau\n\nAdresse: Fischrainweg 17\, 3048 Worblaufen\n
LOCATION:Fischrainweg 17\, 3048 Worblaufen
CATEGORIES:Saison 2022/23
END:VEVENT
BEGIN:VEVENT
DTSTAMP:20260421T202853Z
DTSTART;TZID=Europe/Berlin:20221107T194500
DTEND;TZID=Europe/Berlin:20221107T224500
SUMMARY:HE 3. Liga Gr. 2 Ittigen vs Bern III (19)
UID:205e2174-68fe-4632-935c-7029d3c1ba4c
STATUS:CONFIRMED
LAST-MODIFIED:20221109T083458Z
DESCRIPTION:3. Liga Herren Gruppe 2\nBegegnungs-Nr: 19\nHeim: Ittigen\nGast: Bern III\n\nAdresse: Fischrainweg 17\, 3048 Worblaufen\n
LOCATION:Fischrainweg 17\, 3048 Worblaufen
CATEGORIES:Saison 2022/23
END:VEVENT
BEGIN:VEVENT
DTSTAMP:20260421T202853Z
DTSTART;TZID=Europe/Berlin:20221219T194500
DTEND;TZID=Europe/Berlin:20221219T224500
SUMMARY:HE 3. Liga Gr. 2 Ittigen vs Burgdorf VI (2)
UID:2bb2736e-af27-4939-b4ad-6122876ce22c
STATUS:CONFIRMED
LAST-MODIFIED:20221220T134523Z
DESCRIPTION:3. Liga Herren Gruppe 2\nBegegnungs-Nr: 2\nHeim: Ittigen\nGast: Burgdorf VI\n\nAdresse: Fischrainweg 17\, 3048 Worblaufen\n
LOCATION:Fischrainweg 17\, 3048 Worblaufen
CATEGORIES:Saison 2022/23
END:VEVENT
BEGIN:VEVENT
DTSTAMP:20260421T202853Z
DTSTART;TZID=Europe/Berlin:20221024T194500
DTEND;TZID=Europe/Berlin:20221024T224500
SUMMARY:HE 3. Liga Gr. 2 Ittigen vs Düdingen (13)
UID:7fbd27d6-d4ba-41e5-a7e8-0120d8ef9a97
STATUS:CONFIRMED
LAST-MODIFIED:20221024T212453Z
DESCRIPTION:3. Liga Herren Gruppe 2\nBegegnungs-Nr: 13\nHeim: Ittigen\nGast: Düdingen\n\nAdresse: Fischrainweg 17\, 3048 Worblaufen\n
LOCATION:Fischrainweg 17\, 3048 Worblaufen
CATEGORIES:Saison 2022/23
END:VEVENT
BEGIN:VEVENT
DTSTAMP:20260421T202853Z
DTSTART;TZID=Europe/Berlin:20230223T194500
DTEND;TZID=Europe/Berlin:20230223T224500
SUMMARY:HE 3. Liga Gr. 2 Düdingen vs Ittigen (13)
UID:e1b3baa3-b740-4247-a1eb-07845c6f01fa
STATUS:CONFIRMED
LAST-MODIFIED:20230225T125018Z
DESCRIPTION:3. Liga Herren Gruppe 2\nBegegnungs-Nr: 13\nHeim: Düdingen\nGast: Ittigen\n\nAdresse: Alfons-Aeby-Strasse\, 3186 Düdingen\n
LOCATION:Alfons-Aeby-Strasse\, 3186 Düdingen
CATEGORIES:Saison 2022/23
END:VEVENT
BEGIN:VEVENT
DTSTAMP:20260421T202853Z
DTSTART;TZID=Europe/Berlin:20230401T140000
DTEND;TZID=Europe/Berlin:20230401T170000
SUMMARY:HE 3. Liga Gr. 2 Langnau vs Ittigen (27)
UID:8510bd43-e9e4-4308-bee2-eea909335bb3
STATUS:CONFIRMED
LAST-MODIFIED:20230402T073531Z
DESCRIPTION:3. Liga Herren Gruppe 2\nBegegnungs-Nr: 27\nHeim: Langnau\nGast: Ittigen\n\nAdresse: Bleicheweg 11\, 3550 Langnau\n
LOCATION:Bleicheweg 11\, 3550 Langnau
CATEGORIES:Saison 2022/23
END:VEVENT
BEGIN:VEVENT
DTSTAMP:20260421T202853Z
DTSTART;TZID=Europe/Berlin:20230315T193000
DTEND;TZID=Europe/Berlin:20230315T223000
SUMMARY:HE 3. Liga Gr. 2 Bern III vs Ittigen (19)
UID:b2a313e1-35b4-414c-852b-491c9060ecbf
STATUS:CONFIRMED
LAST-MODIFIED:20230316T122309Z
DESCRIPTION:3. Liga Herren Gruppe 2\nBegegnungs-Nr: 19\nHeim: Bern III\nGast: Ittigen\n\nAdresse: Papiermühlestrasse 81\, 3014 Bern\n
LOCATION:Papiermühlestrasse 81\, 3014 Bern
CATEGORIES:Saison 2022/23
END:VEVENT
BEGIN:VEVENT
DTSTAMP:20260421T202853Z
DTSTART;TZID=Europe/Berlin:20221122T194500
DTEND;TZID=Europe/Berlin:20221122T224500
SUMMARY:HE 3. Liga Gr. 2 Regio Moossee vs Ittigen (23)
UID:61a00a1f-d9aa-4c31-863a-8b49b4964a5d
STATUS:CONFIRMED
LAST-MODIFIED:20221123T114515Z
DESCRIPTION:3. Liga Herren Gruppe 2\nBegegnungs-Nr: 23\nHeim: Regio Moossee\nGast: Ittigen\n\nAdresse: Schulhausstrasse 23-25\, 3302 Moosseedorf\n
LOCATION:Schulhausstrasse 23-25\, 3302 Moosseedorf
CATEGORIES:Saison 2022/23
END:VEVENT
BEGIN:VEVENT
DTSTAMP:20260421T202853Z
DTSTART;TZID=Europe/Berlin:20220827T160000
DTEND;TZID=Europe/Berlin:20220827T190000
SUMMARY:HE 3. Liga Gr. 2 Burgdorf VI vs Ittigen (2)
UID:4fcd9251-daae-4497-a129-364359740d79
STATUS:CONFIRMED
LAST-MODIFIED:20220829T120623Z
DESCRIPTION:3. Liga Herren Gruppe 2\nBegegnungs-Nr: 2\nHeim: Burgdorf VI\nGast: Ittigen\n\nAdresse: Pestalozzistrasse 69\, 3400 Burgdorf\n
LOCATION:Pestalozzistrasse 69\, 3400 Burgdorf
CATEGORIES:Saison 2022/23
END:VEVENT
BEGIN:VEVENT
DTSTAMP:20260421T202853Z
DTSTART;TZID=Europe/Berlin:20220919T194500
DTEND;TZID=Europe/Berlin:20220919T224500
SUMMARY:HE 3. Liga Gr. 2 Wohlensee vs Ittigen (12)
UID:21ebc261-f231-40fc-b2f9-4334b142980f
STATUS:CONFIRMED
LAST-MODIFIED:20220920T115859Z
DESCRIPTION:3. Liga Herren Gruppe 2\nBegegnungs-Nr: 12\nHeim: Wohlensee\nGast: Ittigen\n\nAdresse: Kappelenring 36 a\, 3032 Hinterkappelen\n
LOCATION:Kappelenring 36 a\, 3032 Hinterkappelen
CATEGORIES:Saison 2022/23
END:VEVENT
BEGIN:VEVENT
DTSTAMP:20260421T202853Z
DTSTART;TZID=Europe/Berlin:20230127T194500
DTEND;TZID=Europe/Berlin:20230127T224500
SUMMARY:HE 3. Liga Gr. 2 Port IV vs Ittigen (7)
UID:3295f9c9-a361-4405-82fa-d7719a9934a4
STATUS:CONFIRMED
LAST-MODIFIED:20230129T125543Z
DESCRIPTION:3. Liga Herren Gruppe 2\nBegegnungs-Nr: 7\nHeim: Port IV\nGast: Ittigen\n\nAdresse: Allmendstrasse 23\, 2562 Port\n
LOCATION:Allmendstrasse 23\, 2562 Port
CATEGORIES:Saison 2022/23
END:VEVENT
END:VCALENDAR
