BEGIN:VCALENDAR
PRODID:-//nuDatenautomaten//framework iCal4j //DE
VERSION:2.0
CALSCALE:GREGORIAN
BEGIN:VTIMEZONE
TZID:Europe/Berlin
LAST-MODIFIED:20260306T231828Z
TZURL:https://www.tzurl.org/zoneinfo/Europe/Berlin
X-LIC-LOCATION:Europe/Berlin
X-PROLEPTIC-TZNAME:LMT
BEGIN:STANDARD
TZNAME:CET
TZOFFSETFROM:+005328
TZOFFSETTO:+0100
DTSTART:18930401T000000
END:STANDARD
BEGIN:DAYLIGHT
TZNAME:CEST
TZOFFSETFROM:+0100
TZOFFSETTO:+0200
DTSTART:19160430T230000
RDATE:19400401T020000
RDATE:19430329T020000
RDATE:19460414T020000
RDATE:19470406T030000
RDATE:19480418T020000
RDATE:19490410T020000
RDATE:19800406T020000
END:DAYLIGHT
BEGIN:STANDARD
TZNAME:CET
TZOFFSETFROM:+0200
TZOFFSETTO:+0100
DTSTART:19161001T010000
RDATE:19421102T030000
RDATE:19431004T030000
RDATE:19441002T030000
RDATE:19451118T030000
RDATE:19461007T030000
END:STANDARD
BEGIN:DAYLIGHT
TZNAME:CEST
TZOFFSETFROM:+0100
TZOFFSETTO:+0200
DTSTART:19170416T020000
RRULE:FREQ=YEARLY;UNTIL=19180415T010000Z;BYMONTH=4;BYDAY=3MO
END:DAYLIGHT
BEGIN:STANDARD
TZNAME:CET
TZOFFSETFROM:+0200
TZOFFSETTO:+0100
DTSTART:19170917T030000
RRULE:FREQ=YEARLY;UNTIL=19180916T010000Z;BYMONTH=9;BYDAY=3MO
END:STANDARD
BEGIN:DAYLIGHT
TZNAME:CEST
TZOFFSETFROM:+0100
TZOFFSETTO:+0200
DTSTART:19440403T020000
RRULE:FREQ=YEARLY;UNTIL=19450402T010000Z;BYMONTH=4;BYDAY=1MO
END:DAYLIGHT
BEGIN:DAYLIGHT
TZNAME:CEMT
TZOFFSETFROM:+0200
TZOFFSETTO:+0300
DTSTART:19450524T020000
RDATE:19470511T030000
END:DAYLIGHT
BEGIN:DAYLIGHT
TZNAME:CEST
TZOFFSETFROM:+0300
TZOFFSETTO:+0200
DTSTART:19450924T030000
RDATE:19470629T030000
END:DAYLIGHT
BEGIN:STANDARD
TZNAME:CET
TZOFFSETFROM:+0100
TZOFFSETTO:+0100
DTSTART:19460101T000000
RDATE:19800101T000000
END:STANDARD
BEGIN:STANDARD
TZNAME:CET
TZOFFSETFROM:+0200
TZOFFSETTO:+0100
DTSTART:19471005T030000
RRULE:FREQ=YEARLY;UNTIL=19491002T010000Z;BYMONTH=10;BYDAY=1SU
END:STANDARD
BEGIN:STANDARD
TZNAME:CET
TZOFFSETFROM:+0200
TZOFFSETTO:+0100
DTSTART:19800928T030000
RRULE:FREQ=YEARLY;UNTIL=19950924T010000Z;BYMONTH=9;BYDAY=-1SU
END:STANDARD
BEGIN:DAYLIGHT
TZNAME:CEST
TZOFFSETFROM:+0100
TZOFFSETTO:+0200
DTSTART:19810329T020000
RRULE:FREQ=YEARLY;BYMONTH=3;BYDAY=-1SU
END:DAYLIGHT
BEGIN:STANDARD
TZNAME:CET
TZOFFSETFROM:+0200
TZOFFSETTO:+0100
DTSTART:19961027T030000
RRULE:FREQ=YEARLY;BYMONTH=10;BYDAY=-1SU
END:STANDARD
END:VTIMEZONE
BEGIN:VEVENT
DTSTAMP:20260421T202818Z
DTSTART;TZID=Europe/Berlin:20220920T194500
DTEND;TZID=Europe/Berlin:20220920T224500
SUMMARY:HE 5. Liga Gr. 3 Regio Moossee III vs Huttwil (11)
UID:14b13653-04e4-4227-b6fa-3792a69cd583
STATUS:CONFIRMED
LAST-MODIFIED:20220921T201749Z
DESCRIPTION:5. Liga Herren Gruppe 3\nBegegnungs-Nr: 11\nHeim: Regio Moossee III\nGast: Huttwil\n\nAdresse: Schulhausstrasse 23-25\, 3302 Moosseedorf\n
LOCATION:Schulhausstrasse 23-25\, 3302 Moosseedorf
CATEGORIES:Saison 2022/23
END:VEVENT
BEGIN:VEVENT
DTSTAMP:20260421T202818Z
DTSTART;TZID=Europe/Berlin:20221115T194500
DTEND;TZID=Europe/Berlin:20221115T224500
SUMMARY:HE 5. Liga Gr. 3 Regio Moossee III vs Burgdorf VIII (21)
UID:d14a2325-967d-4e57-9704-2c708eb0f28d
STATUS:CONFIRMED
LAST-MODIFIED:20221116T100138Z
DESCRIPTION:5. Liga Herren Gruppe 3\nBegegnungs-Nr: 21\nHeim: Regio Moossee III\nGast: Burgdorf VIII\n\nAdresse: Schulhausstrasse 23-25\, 3302 Moosseedorf\n
LOCATION:Schulhausstrasse 23-25\, 3302 Moosseedorf
CATEGORIES:Saison 2022/23
END:VEVENT
BEGIN:VEVENT
DTSTAMP:20260421T202818Z
DTSTART;TZID=Europe/Berlin:20220823T194500
DTEND;TZID=Europe/Berlin:20220823T224500
SUMMARY:HE 5. Liga Gr. 3 Regio Moossee III vs Utzenstorf (3)
UID:ea1da738-214b-4445-b7ea-c3380408c26a
STATUS:CONFIRMED
LAST-MODIFIED:20220829T121230Z
DESCRIPTION:5. Liga Herren Gruppe 3\nBegegnungs-Nr: 3\nHeim: Regio Moossee III\nGast: Utzenstorf\n\nAdresse: Schulhausstrasse 23-25\, 3302 Moosseedorf\n
LOCATION:Schulhausstrasse 23-25\, 3302 Moosseedorf
CATEGORIES:Saison 2022/23
END:VEVENT
BEGIN:VEVENT
DTSTAMP:20260421T202818Z
DTSTART;TZID=Europe/Berlin:20230228T194500
DTEND;TZID=Europe/Berlin:20230228T224500
SUMMARY:HE 5. Liga Gr. 3 Regio Moossee III vs Lyss VII (18)
UID:d81ed087-c63c-4e29-bf77-844157b745e2
STATUS:CONFIRMED
LAST-MODIFIED:20230302T075553Z
DESCRIPTION:5. Liga Herren Gruppe 3\nBegegnungs-Nr: 18\nHeim: Regio Moossee III\nGast: Lyss VII\n\nAdresse: Schulhausstrasse 23-25\, 3302 Moosseedorf\n
LOCATION:Schulhausstrasse 23-25\, 3302 Moosseedorf
CATEGORIES:Saison 2022/23
END:VEVENT
BEGIN:VEVENT
DTSTAMP:20260421T202818Z
DTSTART;TZID=Europe/Berlin:20230203T194500
DTEND;TZID=Europe/Berlin:20230203T224500
SUMMARY:HE 5. Liga Gr. 3 Regio Moossee III vs Langnau IV (15)
UID:39ca5016-23e2-4c33-a5a7-204146133568
STATUS:CONFIRMED
LAST-MODIFIED:20230204T155153Z
DESCRIPTION:5. Liga Herren Gruppe 3\nBegegnungs-Nr: 15\nHeim: Regio Moossee III\nGast: Langnau IV\n\nAdresse: Schulhausstrasse 23-25\, 3302 Moosseedorf\n
LOCATION:Schulhausstrasse 23-25\, 3302 Moosseedorf
CATEGORIES:Saison 2022/23
END:VEVENT
BEGIN:VEVENT
DTSTAMP:20260421T202818Z
DTSTART;TZID=Europe/Berlin:20230124T194500
DTEND;TZID=Europe/Berlin:20230124T224500
SUMMARY:HE 5. Liga Gr. 3 Regio Moossee III vs Bern VII (7)
UID:92448396-4ea0-4b1e-bf7c-4ef9883e054d
STATUS:CONFIRMED
LAST-MODIFIED:20230125T130349Z
DESCRIPTION:5. Liga Herren Gruppe 3\nBegegnungs-Nr: 7\nHeim: Regio Moossee III\nGast: Bern VII\n\nAdresse: Schulhausstrasse 23-25\, 3302 Moosseedorf\n
LOCATION:Schulhausstrasse 23-25\, 3302 Moosseedorf
CATEGORIES:Saison 2022/23
END:VEVENT
BEGIN:VEVENT
DTSTAMP:20260421T202818Z
DTSTART;TZID=Europe/Berlin:20221213T194500
DTEND;TZID=Europe/Berlin:20221213T224500
SUMMARY:HE 5. Liga Gr. 3 Regio Moossee III vs Langenthal IV (26)
UID:6a40cf72-499e-4d17-9f29-3ef8009dd5d5
STATUS:CONFIRMED
LAST-MODIFIED:20221214T120121Z
DESCRIPTION:5. Liga Herren Gruppe 3\nBegegnungs-Nr: 26\nHeim: Regio Moossee III\nGast: Langenthal IV\n\nAdresse: Schulhausstrasse 23-25\, 3302 Moosseedorf\n
LOCATION:Schulhausstrasse 23-25\, 3302 Moosseedorf
CATEGORIES:Saison 2022/23
END:VEVENT
BEGIN:VEVENT
DTSTAMP:20260421T202818Z
DTSTART;TZID=Europe/Berlin:20220829T193000
DTEND;TZID=Europe/Berlin:20220829T223000
SUMMARY:HE 5. Liga Gr. 3 Bern VII vs Regio Moossee III (7)
UID:14ed959e-8b81-4080-bcb2-e80763bc6fd3
STATUS:CONFIRMED
LAST-MODIFIED:20220830T085150Z
DESCRIPTION:5. Liga Herren Gruppe 3\nBegegnungs-Nr: 7\nHeim: Bern VII\nGast: Regio Moossee III\n\nAdresse: Mädergutstrasse 58\, 3018 Bern\n
LOCATION:Mädergutstrasse 58\, 3018 Bern
CATEGORIES:Saison 2022/23
END:VEVENT
BEGIN:VEVENT
DTSTAMP:20260421T202818Z
DTSTART;TZID=Europe/Berlin:20221101T201500
DTEND;TZID=Europe/Berlin:20221101T231500
SUMMARY:HE 5. Liga Gr. 3 Lyss VII vs Regio Moossee III (18)
UID:1d801f54-ef31-4476-9358-2533a3b8a51c
STATUS:CONFIRMED
LAST-MODIFIED:20221103T090912Z
DESCRIPTION:5. Liga Herren Gruppe 3\nBegegnungs-Nr: 18\nHeim: Lyss VII\nGast: Regio Moossee III\n\nAdresse: Stegmattweg 15-17\, 3250 Lyss\n
LOCATION:Stegmattweg 15-17\, 3250 Lyss
CATEGORIES:Saison 2022/23
END:VEVENT
BEGIN:VEVENT
DTSTAMP:20260421T202818Z
DTSTART;TZID=Europe/Berlin:20230327T200000
DTEND;TZID=Europe/Berlin:20230327T230000
SUMMARY:HE 5. Liga Gr. 3 Langenthal IV vs Regio Moossee III (26)
UID:8c16c041-c922-4aca-b70f-f707af6bc8b6
STATUS:CONFIRMED
LAST-MODIFIED:20230328T161621Z
DESCRIPTION:5. Liga Herren Gruppe 3\nBegegnungs-Nr: 26\nHeim: Langenthal IV\nGast: Regio Moossee III\n\nAdresse: Weststrasse 29\, 4900 Langenthal\n
LOCATION:Weststrasse 29\, 4900 Langenthal
CATEGORIES:Saison 2022/23
END:VEVENT
BEGIN:VEVENT
DTSTAMP:20260421T202818Z
DTSTART;TZID=Europe/Berlin:20230331T193000
DTEND;TZID=Europe/Berlin:20230331T223000
SUMMARY:HE 5. Liga Gr. 3 Burgdorf VIII vs Regio Moossee III (21)
UID:071601a6-5067-480f-a001-064f533dee35
STATUS:CONFIRMED
LAST-MODIFIED:20230402T073115Z
DESCRIPTION:5. Liga Herren Gruppe 3\nBegegnungs-Nr: 21\nHeim: Burgdorf VIII\nGast: Regio Moossee III\n\nAdresse: Pestalozzistrasse 69\, 3400 Burgdorf\n
LOCATION:Pestalozzistrasse 69\, 3400 Burgdorf
CATEGORIES:Saison 2022/23
END:VEVENT
BEGIN:VEVENT
DTSTAMP:20260421T202818Z
DTSTART;TZID=Europe/Berlin:20230130T200000
DTEND;TZID=Europe/Berlin:20230130T230000
SUMMARY:HE 5. Liga Gr. 3 Huttwil vs Regio Moossee III (11)
UID:2569f30e-cb4b-483b-b8db-6f43ff296ee2
STATUS:CONFIRMED
LAST-MODIFIED:20230201T175634Z
DESCRIPTION:5. Liga Herren Gruppe 3\nBegegnungs-Nr: 11\nHeim: Huttwil\nGast: Regio Moossee III\n\nAdresse: Dornackerweg 2 (untere Halle)\, 4950 Huttwil\n
LOCATION:Dornackerweg 2 (untere Halle)\, 4950 Huttwil
CATEGORIES:Saison 2022/23
END:VEVENT
BEGIN:VEVENT
DTSTAMP:20260421T202818Z
DTSTART;TZID=Europe/Berlin:20221222T200000
DTEND;TZID=Europe/Berlin:20221222T230000
SUMMARY:HE 5. Liga Gr. 3 Utzenstorf vs Regio Moossee III (3)
UID:3b8f373c-fb72-47dd-90e8-e6c0c9d3a3f1
STATUS:CONFIRMED
LAST-MODIFIED:20221223T215039Z
DESCRIPTION:5. Liga Herren Gruppe 3\nBegegnungs-Nr: 3\nHeim: Utzenstorf\nGast: Regio Moossee III\n\nAdresse: Gotthelfstrasse 15a\, 3427 Utzenstorf\n
LOCATION:Gotthelfstrasse 15a\, 3427 Utzenstorf
CATEGORIES:Saison 2022/23
END:VEVENT
BEGIN:VEVENT
DTSTAMP:20260421T202818Z
DTSTART;TZID=Europe/Berlin:20221026T200000
DTEND;TZID=Europe/Berlin:20221026T230000
SUMMARY:HE 5. Liga Gr. 3 Langnau IV vs Regio Moossee III (15)
UID:1e1de202-ea74-4f3a-b7f1-8967ae1b4d13
STATUS:CONFIRMED
LAST-MODIFIED:20221027T110808Z
DESCRIPTION:5. Liga Herren Gruppe 3\nBegegnungs-Nr: 15\nHeim: Langnau IV\nGast: Regio Moossee III\n\nAdresse: Bleicheweg 11\, 3550 Langnau\n
LOCATION:Bleicheweg 11\, 3550 Langnau
CATEGORIES:Saison 2022/23
END:VEVENT
END:VCALENDAR
