BEGIN:VCALENDAR
PRODID:-//nuDatenautomaten//framework iCal4j //DE
VERSION:2.0
CALSCALE:GREGORIAN
BEGIN:VTIMEZONE
TZID:Europe/Berlin
LAST-MODIFIED:20260306T231828Z
TZURL:https://www.tzurl.org/zoneinfo/Europe/Berlin
X-LIC-LOCATION:Europe/Berlin
X-PROLEPTIC-TZNAME:LMT
BEGIN:STANDARD
TZNAME:CET
TZOFFSETFROM:+005328
TZOFFSETTO:+0100
DTSTART:18930401T000000
END:STANDARD
BEGIN:DAYLIGHT
TZNAME:CEST
TZOFFSETFROM:+0100
TZOFFSETTO:+0200
DTSTART:19160430T230000
RDATE:19400401T020000
RDATE:19430329T020000
RDATE:19460414T020000
RDATE:19470406T030000
RDATE:19480418T020000
RDATE:19490410T020000
RDATE:19800406T020000
END:DAYLIGHT
BEGIN:STANDARD
TZNAME:CET
TZOFFSETFROM:+0200
TZOFFSETTO:+0100
DTSTART:19161001T010000
RDATE:19421102T030000
RDATE:19431004T030000
RDATE:19441002T030000
RDATE:19451118T030000
RDATE:19461007T030000
END:STANDARD
BEGIN:DAYLIGHT
TZNAME:CEST
TZOFFSETFROM:+0100
TZOFFSETTO:+0200
DTSTART:19170416T020000
RRULE:FREQ=YEARLY;UNTIL=19180415T010000Z;BYMONTH=4;BYDAY=3MO
END:DAYLIGHT
BEGIN:STANDARD
TZNAME:CET
TZOFFSETFROM:+0200
TZOFFSETTO:+0100
DTSTART:19170917T030000
RRULE:FREQ=YEARLY;UNTIL=19180916T010000Z;BYMONTH=9;BYDAY=3MO
END:STANDARD
BEGIN:DAYLIGHT
TZNAME:CEST
TZOFFSETFROM:+0100
TZOFFSETTO:+0200
DTSTART:19440403T020000
RRULE:FREQ=YEARLY;UNTIL=19450402T010000Z;BYMONTH=4;BYDAY=1MO
END:DAYLIGHT
BEGIN:DAYLIGHT
TZNAME:CEMT
TZOFFSETFROM:+0200
TZOFFSETTO:+0300
DTSTART:19450524T020000
RDATE:19470511T030000
END:DAYLIGHT
BEGIN:DAYLIGHT
TZNAME:CEST
TZOFFSETFROM:+0300
TZOFFSETTO:+0200
DTSTART:19450924T030000
RDATE:19470629T030000
END:DAYLIGHT
BEGIN:STANDARD
TZNAME:CET
TZOFFSETFROM:+0100
TZOFFSETTO:+0100
DTSTART:19460101T000000
RDATE:19800101T000000
END:STANDARD
BEGIN:STANDARD
TZNAME:CET
TZOFFSETFROM:+0200
TZOFFSETTO:+0100
DTSTART:19471005T030000
RRULE:FREQ=YEARLY;UNTIL=19491002T010000Z;BYMONTH=10;BYDAY=1SU
END:STANDARD
BEGIN:STANDARD
TZNAME:CET
TZOFFSETFROM:+0200
TZOFFSETTO:+0100
DTSTART:19800928T030000
RRULE:FREQ=YEARLY;UNTIL=19950924T010000Z;BYMONTH=9;BYDAY=-1SU
END:STANDARD
BEGIN:DAYLIGHT
TZNAME:CEST
TZOFFSETFROM:+0100
TZOFFSETTO:+0200
DTSTART:19810329T020000
RRULE:FREQ=YEARLY;BYMONTH=3;BYDAY=-1SU
END:DAYLIGHT
BEGIN:STANDARD
TZNAME:CET
TZOFFSETFROM:+0200
TZOFFSETTO:+0100
DTSTART:19961027T030000
RRULE:FREQ=YEARLY;BYMONTH=10;BYDAY=-1SU
END:STANDARD
END:VTIMEZONE
BEGIN:VEVENT
DTSTAMP:20260426T043300Z
DTSTART;TZID=Europe/Berlin:20230327T200000
DTEND;TZID=Europe/Berlin:20230327T230000
SUMMARY:HE 6. Liga Gr. 8 Wolfhalden III vs Chur VIII (0)
UID:a4cc4d51-13d0-4f3f-a520-094cde13f05e
STATUS:CONFIRMED
LAST-MODIFIED:20230328T100820Z
DESCRIPTION:6. Liga Herren Gruppe 8\nBegegnungs-Nr: 0\nHeim: Wolfhalden III\nGast: Chur VIII\n\nAdresse: -\, 9427 Wolfhalden\n
LOCATION:-\, 9427 Wolfhalden
CATEGORIES:Saison 2022/23
END:VEVENT
BEGIN:VEVENT
DTSTAMP:20260426T043300Z
DTSTART;TZID=Europe/Berlin:20220905T200000
DTEND;TZID=Europe/Berlin:20220905T230000
SUMMARY:HE 6. Liga Gr. 8 Wolfhalden III vs Flums VI (0)
UID:06e30b1a-3ddf-49c5-9c39-07ad05357f36
STATUS:CONFIRMED
LAST-MODIFIED:20220909T132857Z
DESCRIPTION:6. Liga Herren Gruppe 8\nBegegnungs-Nr: 0\nHeim: Wolfhalden III\nGast: Flums VI\n\nAdresse: -\, 9427 Wolfhalden\n
LOCATION:-\, 9427 Wolfhalden
CATEGORIES:Saison 2022/23
END:VEVENT
BEGIN:VEVENT
DTSTAMP:20260426T043300Z
DTSTART;TZID=Europe/Berlin:20220926T200000
DTEND;TZID=Europe/Berlin:20220926T230000
SUMMARY:HE 6. Liga Gr. 8 Wolfhalden III vs Chur VII (0)
UID:1c18a22b-016a-4cf9-8984-4fc235350082
STATUS:CONFIRMED
LAST-MODIFIED:20220928T123136Z
DESCRIPTION:6. Liga Herren Gruppe 8\nBegegnungs-Nr: 0\nHeim: Wolfhalden III\nGast: Chur VII\n\nAdresse: -\, 9427 Wolfhalden\n
LOCATION:-\, 9427 Wolfhalden
CATEGORIES:Saison 2022/23
END:VEVENT
BEGIN:VEVENT
DTSTAMP:20260426T043300Z
DTSTART;TZID=Europe/Berlin:20230313T200000
DTEND;TZID=Europe/Berlin:20230313T230000
SUMMARY:HE 6. Liga Gr. 8 Wolfhalden III vs Oberriet V (0)
UID:6cd920e1-47bf-4c08-9d3a-a8db4a5a21c7
STATUS:CONFIRMED
LAST-MODIFIED:20230316T095751Z
DESCRIPTION:6. Liga Herren Gruppe 8\nBegegnungs-Nr: 0\nHeim: Wolfhalden III\nGast: Oberriet V\n\nAdresse: -\, 9427 Wolfhalden\n
LOCATION:-\, 9427 Wolfhalden
CATEGORIES:Saison 2022/23
END:VEVENT
BEGIN:VEVENT
DTSTAMP:20260426T043300Z
DTSTART;TZID=Europe/Berlin:20230213T200000
DTEND;TZID=Europe/Berlin:20230213T230000
SUMMARY:HE 6. Liga Gr. 8 Wolfhalden III vs Schaan-Eschen/Mauren III (0)
UID:dbfd0565-1325-4929-ab63-470925229c23
STATUS:CONFIRMED
LAST-MODIFIED:20230215T132455Z
DESCRIPTION:6. Liga Herren Gruppe 8\nBegegnungs-Nr: 0\nHeim: Wolfhalden III\nGast: Schaan-Eschen/Mauren III\n\nAdresse: -\, 9427 Wolfhalden\n
LOCATION:-\, 9427 Wolfhalden
CATEGORIES:Saison 2022/23
END:VEVENT
BEGIN:VEVENT
DTSTAMP:20260426T043300Z
DTSTART;TZID=Europe/Berlin:20230109T200000
DTEND;TZID=Europe/Berlin:20230109T230000
SUMMARY:HE 6. Liga Gr. 8 Wolfhalden III vs Ruggell II (0)
UID:5209ec50-6153-4231-965d-e0e0516fdbb6
STATUS:CONFIRMED
LAST-MODIFIED:20230112T112439Z
DESCRIPTION:6. Liga Herren Gruppe 8\nBegegnungs-Nr: 0\nHeim: Wolfhalden III\nGast: Ruggell II\n\nAdresse: -\, 9427 Wolfhalden\n
LOCATION:-\, 9427 Wolfhalden
CATEGORIES:Saison 2022/23
END:VEVENT
BEGIN:VEVENT
DTSTAMP:20260426T043300Z
DTSTART;TZID=Europe/Berlin:20220901T200000
DTEND;TZID=Europe/Berlin:20220901T230000
SUMMARY:HE 6. Liga Gr. 8 Ruggell II vs Wolfhalden III (0)
UID:d844e014-33d7-4596-8ba8-0b16e35077cc
STATUS:CONFIRMED
LAST-MODIFIED:20220902T095923Z
DESCRIPTION:6. Liga Herren Gruppe 8\nBegegnungs-Nr: 0\nHeim: Ruggell II\nGast: Wolfhalden III\n\nAdresse: Nellengasse 40\, 9491 Ruggell\n
LOCATION:Nellengasse 40\, 9491 Ruggell
CATEGORIES:Saison 2022/23
END:VEVENT
BEGIN:VEVENT
DTSTAMP:20260426T043300Z
DTSTART;TZID=Europe/Berlin:20220922T200000
DTEND;TZID=Europe/Berlin:20220922T230000
SUMMARY:HE 6. Liga Gr. 8 Schaan-Eschen/Mauren III vs Wolfhalden III (0)
UID:06af1a51-a61b-4739-9a01-2e8e5184f6c6
STATUS:CONFIRMED
LAST-MODIFIED:20220923T144920Z
DESCRIPTION:6. Liga Herren Gruppe 8\nBegegnungs-Nr: 0\nHeim: Schaan-Eschen/Mauren III\nGast: Wolfhalden III\n\nAdresse: Zur Schule\, 9494 Schaan\n
LOCATION:Zur Schule\, 9494 Schaan
CATEGORIES:Saison 2022/23
END:VEVENT
BEGIN:VEVENT
DTSTAMP:20260426T043300Z
DTSTART;TZID=Europe/Berlin:20221130T201500
DTEND;TZID=Europe/Berlin:20221130T231500
SUMMARY:HE 6. Liga Gr. 8 Oberriet V vs Wolfhalden III (0)
UID:8860864b-ed8d-4990-840a-610e6df0adfa
STATUS:CONFIRMED
LAST-MODIFIED:20221208T121156Z
DESCRIPTION:6. Liga Herren Gruppe 8\nBegegnungs-Nr: 0\nHeim: Oberriet V\nGast: Wolfhalden III\n\nAdresse: Neugutstrasse 2\, 9463 Oberriet SG\n
LOCATION:Neugutstrasse 2\, 9463 Oberriet SG
CATEGORIES:Saison 2022/23
END:VEVENT
BEGIN:VEVENT
DTSTAMP:20260426T043300Z
DTSTART;TZID=Europe/Berlin:20230223T200000
DTEND;TZID=Europe/Berlin:20230223T230000
SUMMARY:HE 6. Liga Gr. 8 Chur VII vs Wolfhalden III (0)
UID:59834ff9-e58c-48cd-ae7b-846cae201512
STATUS:CONFIRMED
LAST-MODIFIED:20230228T144844Z
DESCRIPTION:6. Liga Herren Gruppe 8\nBegegnungs-Nr: 0\nHeim: Chur VII\nGast: Wolfhalden III\n\nAdresse: Sandstr. 35\, 7000 Chur\n
LOCATION:Sandstr. 35\, 7000 Chur
CATEGORIES:Saison 2022/23
END:VEVENT
BEGIN:VEVENT
DTSTAMP:20260426T043300Z
DTSTART;TZID=Europe/Berlin:20230130T201500
DTEND;TZID=Europe/Berlin:20230130T231500
SUMMARY:HE 6. Liga Gr. 8 Flums VI vs Wolfhalden III (0)
UID:e5232100-3f6e-44bd-966f-e6a2f43fd61c
STATUS:CONFIRMED
LAST-MODIFIED:20230131T124931Z
DESCRIPTION:6. Liga Herren Gruppe 8\nBegegnungs-Nr: 0\nHeim: Flums VI\nGast: Wolfhalden III\n\nAdresse: Bergstrasse\, 8890 Flums\n
LOCATION:Bergstrasse\, 8890 Flums
CATEGORIES:Saison 2022/23
END:VEVENT
BEGIN:VEVENT
DTSTAMP:20260426T043300Z
DTSTART;TZID=Europe/Berlin:20221201T200000
DTEND;TZID=Europe/Berlin:20221201T230000
SUMMARY:HE 6. Liga Gr. 8 Chur VIII vs Wolfhalden III (0)
UID:a2486384-7355-43cc-abfd-4b5bbfc28d6a
STATUS:CONFIRMED
LAST-MODIFIED:20221208T121329Z
DESCRIPTION:6. Liga Herren Gruppe 8\nBegegnungs-Nr: 0\nHeim: Chur VIII\nGast: Wolfhalden III\n\nAdresse: Sandstr. 35\, 7000 Chur\n
LOCATION:Sandstr. 35\, 7000 Chur
CATEGORIES:Saison 2022/23
END:VEVENT
END:VCALENDAR
