BEGIN:VCALENDAR
PRODID:-//nuDatenautomaten//framework iCal4j //DE
VERSION:2.0
CALSCALE:GREGORIAN
BEGIN:VTIMEZONE
TZID:Europe/Berlin
LAST-MODIFIED:20260306T231828Z
TZURL:https://www.tzurl.org/zoneinfo/Europe/Berlin
X-LIC-LOCATION:Europe/Berlin
X-PROLEPTIC-TZNAME:LMT
BEGIN:STANDARD
TZNAME:CET
TZOFFSETFROM:+005328
TZOFFSETTO:+0100
DTSTART:18930401T000000
END:STANDARD
BEGIN:DAYLIGHT
TZNAME:CEST
TZOFFSETFROM:+0100
TZOFFSETTO:+0200
DTSTART:19160430T230000
RDATE:19400401T020000
RDATE:19430329T020000
RDATE:19460414T020000
RDATE:19470406T030000
RDATE:19480418T020000
RDATE:19490410T020000
RDATE:19800406T020000
END:DAYLIGHT
BEGIN:STANDARD
TZNAME:CET
TZOFFSETFROM:+0200
TZOFFSETTO:+0100
DTSTART:19161001T010000
RDATE:19421102T030000
RDATE:19431004T030000
RDATE:19441002T030000
RDATE:19451118T030000
RDATE:19461007T030000
END:STANDARD
BEGIN:DAYLIGHT
TZNAME:CEST
TZOFFSETFROM:+0100
TZOFFSETTO:+0200
DTSTART:19170416T020000
RRULE:FREQ=YEARLY;UNTIL=19180415T010000Z;BYMONTH=4;BYDAY=3MO
END:DAYLIGHT
BEGIN:STANDARD
TZNAME:CET
TZOFFSETFROM:+0200
TZOFFSETTO:+0100
DTSTART:19170917T030000
RRULE:FREQ=YEARLY;UNTIL=19180916T010000Z;BYMONTH=9;BYDAY=3MO
END:STANDARD
BEGIN:DAYLIGHT
TZNAME:CEST
TZOFFSETFROM:+0100
TZOFFSETTO:+0200
DTSTART:19440403T020000
RRULE:FREQ=YEARLY;UNTIL=19450402T010000Z;BYMONTH=4;BYDAY=1MO
END:DAYLIGHT
BEGIN:DAYLIGHT
TZNAME:CEMT
TZOFFSETFROM:+0200
TZOFFSETTO:+0300
DTSTART:19450524T020000
RDATE:19470511T030000
END:DAYLIGHT
BEGIN:DAYLIGHT
TZNAME:CEST
TZOFFSETFROM:+0300
TZOFFSETTO:+0200
DTSTART:19450924T030000
RDATE:19470629T030000
END:DAYLIGHT
BEGIN:STANDARD
TZNAME:CET
TZOFFSETFROM:+0100
TZOFFSETTO:+0100
DTSTART:19460101T000000
RDATE:19800101T000000
END:STANDARD
BEGIN:STANDARD
TZNAME:CET
TZOFFSETFROM:+0200
TZOFFSETTO:+0100
DTSTART:19471005T030000
RRULE:FREQ=YEARLY;UNTIL=19491002T010000Z;BYMONTH=10;BYDAY=1SU
END:STANDARD
BEGIN:STANDARD
TZNAME:CET
TZOFFSETFROM:+0200
TZOFFSETTO:+0100
DTSTART:19800928T030000
RRULE:FREQ=YEARLY;UNTIL=19950924T010000Z;BYMONTH=9;BYDAY=-1SU
END:STANDARD
BEGIN:DAYLIGHT
TZNAME:CEST
TZOFFSETFROM:+0100
TZOFFSETTO:+0200
DTSTART:19810329T020000
RRULE:FREQ=YEARLY;BYMONTH=3;BYDAY=-1SU
END:DAYLIGHT
BEGIN:STANDARD
TZNAME:CET
TZOFFSETFROM:+0200
TZOFFSETTO:+0100
DTSTART:19961027T030000
RRULE:FREQ=YEARLY;BYMONTH=10;BYDAY=-1SU
END:STANDARD
END:VTIMEZONE
BEGIN:VEVENT
DTSTAMP:20260426T033752Z
DTSTART;TZID=Europe/Berlin:20220915T200000
DTEND;TZID=Europe/Berlin:20220915T230000
SUMMARY:O40 4. Liga Gr. 2 Imperial Winterthur vs Rüti (0)
UID:b38cb664-5803-4516-b835-03852ee21d18
STATUS:CONFIRMED
LAST-MODIFIED:20220923T153056Z
DESCRIPTION:4. Liga O40 Gruppe 2\nBegegnungs-Nr: 0\nHeim: Imperial Winterthur\nGast: Rüti\n\nAdresse: Büelhofstrasse 25a\, 8405 Winterthur\n
LOCATION:Büelhofstrasse 25a\, 8405 Winterthur
CATEGORIES:Saison 2022/23
END:VEVENT
BEGIN:VEVENT
DTSTAMP:20260426T033752Z
DTSTART;TZID=Europe/Berlin:20221124T200000
DTEND;TZID=Europe/Berlin:20221124T230000
SUMMARY:O40 4. Liga Gr. 2 Imperial Winterthur vs Young Stars ZH (0)
UID:dc1a1bd4-d523-42d9-9bb0-769288cf474a
STATUS:CONFIRMED
LAST-MODIFIED:20221128T150319Z
DESCRIPTION:4. Liga O40 Gruppe 2\nBegegnungs-Nr: 0\nHeim: Imperial Winterthur\nGast: Young Stars ZH\n\nAdresse: Büelhofstrasse 25a\, 8405 Winterthur\n
LOCATION:Büelhofstrasse 25a\, 8405 Winterthur
CATEGORIES:Saison 2022/23
END:VEVENT
BEGIN:VEVENT
DTSTAMP:20260426T033752Z
DTSTART;TZID=Europe/Berlin:20221208T200000
DTEND;TZID=Europe/Berlin:20221208T230000
SUMMARY:O40 4. Liga Gr. 2 Imperial Winterthur vs Bülach II (0)
UID:bc6bff19-fb66-4151-96b0-6867ebe6ebfe
STATUS:CONFIRMED
LAST-MODIFIED:20221209T143545Z
DESCRIPTION:4. Liga O40 Gruppe 2\nBegegnungs-Nr: 0\nHeim: Imperial Winterthur\nGast: Bülach II\n\nAdresse: Büelhofstrasse 25a\, 8405 Winterthur\n
LOCATION:Büelhofstrasse 25a\, 8405 Winterthur
CATEGORIES:Saison 2022/23
END:VEVENT
BEGIN:VEVENT
DTSTAMP:20260426T033752Z
DTSTART;TZID=Europe/Berlin:20230202T200000
DTEND;TZID=Europe/Berlin:20230202T230000
SUMMARY:O40 4. Liga Gr. 2 Imperial Winterthur vs Uster III (0)
UID:4f9b77f9-e27b-42e7-8dd4-b576e3ad636c
STATUS:CONFIRMED
LAST-MODIFIED:20230209T125701Z
DESCRIPTION:4. Liga O40 Gruppe 2\nBegegnungs-Nr: 0\nHeim: Imperial Winterthur\nGast: Uster III\n\nAdresse: Büelhofstrasse 25a\, 8405 Winterthur\n
LOCATION:Büelhofstrasse 25a\, 8405 Winterthur
CATEGORIES:Saison 2022/23
END:VEVENT
BEGIN:VEVENT
DTSTAMP:20260426T033752Z
DTSTART;TZID=Europe/Berlin:20230302T200000
DTEND;TZID=Europe/Berlin:20230302T230000
SUMMARY:O40 4. Liga Gr. 2 Imperial Winterthur vs Zürich-Affoltern III (0)
UID:42cd2a55-4c7d-4498-9614-c3d9a66d43a1
STATUS:CONFIRMED
LAST-MODIFIED:20230307T104125Z
DESCRIPTION:4. Liga O40 Gruppe 2\nBegegnungs-Nr: 0\nHeim: Imperial Winterthur\nGast: Zürich-Affoltern III\n\nAdresse: Büelhofstrasse 25a\, 8405 Winterthur\n
LOCATION:Büelhofstrasse 25a\, 8405 Winterthur
CATEGORIES:Saison 2022/23
END:VEVENT
BEGIN:VEVENT
DTSTAMP:20260426T033752Z
DTSTART;TZID=Europe/Berlin:20220822T201500
DTEND;TZID=Europe/Berlin:20220822T231500
SUMMARY:O40 4. Liga Gr. 2 Uster III vs Imperial Winterthur (0)
UID:58498dc5-1510-4073-9645-662b62786587
STATUS:CONFIRMED
LAST-MODIFIED:20220825T072827Z
DESCRIPTION:4. Liga O40 Gruppe 2\nBegegnungs-Nr: 0\nHeim: Uster III\nGast: Imperial Winterthur\n\nAdresse: Wilstrasse 30 / Zürcherstrasse\, 8610 Uster\n
LOCATION:Wilstrasse 30 / Zürcherstrasse\, 8610 Uster
CATEGORIES:Saison 2022/23
END:VEVENT
BEGIN:VEVENT
DTSTAMP:20260426T033752Z
DTSTART;TZID=Europe/Berlin:20221026T193000
DTEND;TZID=Europe/Berlin:20221026T223000
SUMMARY:O40 4. Liga Gr. 2 Zürich-Affoltern III vs Imperial Winterthur (0)
UID:bf67d7ab-2a67-440f-9f6f-90a3b0fbda54
STATUS:CONFIRMED
LAST-MODIFIED:20221101T092141Z
DESCRIPTION:4. Liga O40 Gruppe 2\nBegegnungs-Nr: 0\nHeim: Zürich-Affoltern III\nGast: Imperial Winterthur\n\nAdresse: Fronwaldstr.115\, 8046 Zürich\n
LOCATION:Fronwaldstr.115\, 8046 Zürich
CATEGORIES:Saison 2022/23
END:VEVENT
BEGIN:VEVENT
DTSTAMP:20260426T033752Z
DTSTART;TZID=Europe/Berlin:20230203T201500
DTEND;TZID=Europe/Berlin:20230203T231500
SUMMARY:O40 4. Liga Gr. 2 Rüti vs Imperial Winterthur (0)
UID:433ef0b4-7962-48c3-8ea7-662ae205a92b
STATUS:CONFIRMED
LAST-MODIFIED:20230209T125716Z
DESCRIPTION:4. Liga O40 Gruppe 2\nBegegnungs-Nr: 0\nHeim: Rüti\nGast: Imperial Winterthur\n\nAdresse: Spitalstrasse 20\, 8630 Rüti\n
LOCATION:Spitalstrasse 20\, 8630 Rüti
CATEGORIES:Saison 2022/23
END:VEVENT
BEGIN:VEVENT
DTSTAMP:20260426T033752Z
DTSTART;TZID=Europe/Berlin:20230324T200000
DTEND;TZID=Europe/Berlin:20230324T230000
SUMMARY:O40 4. Liga Gr. 2 Young Stars ZH vs Imperial Winterthur (0)
UID:28bb2cbb-5c96-4449-9923-239d9ad98872
STATUS:CONFIRMED
LAST-MODIFIED:20230328T113712Z
DESCRIPTION:4. Liga O40 Gruppe 2\nBegegnungs-Nr: 0\nHeim: Young Stars ZH\nGast: Imperial Winterthur\n\nAdresse: Balgriststrasse 55\, 8008 Zürich\n
LOCATION:Balgriststrasse 55\, 8008 Zürich
CATEGORIES:Saison 2022/23
END:VEVENT
BEGIN:VEVENT
DTSTAMP:20260426T033752Z
DTSTART;TZID=Europe/Berlin:20230406T201500
DTEND;TZID=Europe/Berlin:20230406T231500
SUMMARY:O40 4. Liga Gr. 2 Bülach II vs Imperial Winterthur (0)
UID:3ee090b8-d351-4094-b544-cf82ba17c17b
STATUS:CONFIRMED
LAST-MODIFIED:20230420T112358Z
DESCRIPTION:4. Liga O40 Gruppe 2\nBegegnungs-Nr: 0\nHeim: Bülach II\nGast: Imperial Winterthur\n\nAdresse: Unterweg 51\, 8180 Bülach\n
LOCATION:Unterweg 51\, 8180 Bülach
CATEGORIES:Saison 2022/23
END:VEVENT
END:VCALENDAR
