BEGIN:VCALENDAR
PRODID:-//nuDatenautomaten//framework iCal4j //DE
VERSION:2.0
CALSCALE:GREGORIAN
BEGIN:VTIMEZONE
TZID:Europe/Berlin
LAST-MODIFIED:20260306T231828Z
TZURL:https://www.tzurl.org/zoneinfo/Europe/Berlin
X-LIC-LOCATION:Europe/Berlin
X-PROLEPTIC-TZNAME:LMT
BEGIN:STANDARD
TZNAME:CET
TZOFFSETFROM:+005328
TZOFFSETTO:+0100
DTSTART:18930401T000000
END:STANDARD
BEGIN:DAYLIGHT
TZNAME:CEST
TZOFFSETFROM:+0100
TZOFFSETTO:+0200
DTSTART:19160430T230000
RDATE:19400401T020000
RDATE:19430329T020000
RDATE:19460414T020000
RDATE:19470406T030000
RDATE:19480418T020000
RDATE:19490410T020000
RDATE:19800406T020000
END:DAYLIGHT
BEGIN:STANDARD
TZNAME:CET
TZOFFSETFROM:+0200
TZOFFSETTO:+0100
DTSTART:19161001T010000
RDATE:19421102T030000
RDATE:19431004T030000
RDATE:19441002T030000
RDATE:19451118T030000
RDATE:19461007T030000
END:STANDARD
BEGIN:DAYLIGHT
TZNAME:CEST
TZOFFSETFROM:+0100
TZOFFSETTO:+0200
DTSTART:19170416T020000
RRULE:FREQ=YEARLY;UNTIL=19180415T010000Z;BYMONTH=4;BYDAY=3MO
END:DAYLIGHT
BEGIN:STANDARD
TZNAME:CET
TZOFFSETFROM:+0200
TZOFFSETTO:+0100
DTSTART:19170917T030000
RRULE:FREQ=YEARLY;UNTIL=19180916T010000Z;BYMONTH=9;BYDAY=3MO
END:STANDARD
BEGIN:DAYLIGHT
TZNAME:CEST
TZOFFSETFROM:+0100
TZOFFSETTO:+0200
DTSTART:19440403T020000
RRULE:FREQ=YEARLY;UNTIL=19450402T010000Z;BYMONTH=4;BYDAY=1MO
END:DAYLIGHT
BEGIN:DAYLIGHT
TZNAME:CEMT
TZOFFSETFROM:+0200
TZOFFSETTO:+0300
DTSTART:19450524T020000
RDATE:19470511T030000
END:DAYLIGHT
BEGIN:DAYLIGHT
TZNAME:CEST
TZOFFSETFROM:+0300
TZOFFSETTO:+0200
DTSTART:19450924T030000
RDATE:19470629T030000
END:DAYLIGHT
BEGIN:STANDARD
TZNAME:CET
TZOFFSETFROM:+0100
TZOFFSETTO:+0100
DTSTART:19460101T000000
RDATE:19800101T000000
END:STANDARD
BEGIN:STANDARD
TZNAME:CET
TZOFFSETFROM:+0200
TZOFFSETTO:+0100
DTSTART:19471005T030000
RRULE:FREQ=YEARLY;UNTIL=19491002T010000Z;BYMONTH=10;BYDAY=1SU
END:STANDARD
BEGIN:STANDARD
TZNAME:CET
TZOFFSETFROM:+0200
TZOFFSETTO:+0100
DTSTART:19800928T030000
RRULE:FREQ=YEARLY;UNTIL=19950924T010000Z;BYMONTH=9;BYDAY=-1SU
END:STANDARD
BEGIN:DAYLIGHT
TZNAME:CEST
TZOFFSETFROM:+0100
TZOFFSETTO:+0200
DTSTART:19810329T020000
RRULE:FREQ=YEARLY;BYMONTH=3;BYDAY=-1SU
END:DAYLIGHT
BEGIN:STANDARD
TZNAME:CET
TZOFFSETFROM:+0200
TZOFFSETTO:+0100
DTSTART:19961027T030000
RRULE:FREQ=YEARLY;BYMONTH=10;BYDAY=-1SU
END:STANDARD
END:VTIMEZONE
BEGIN:VEVENT
DTSTAMP:20260424T170602Z
DTSTART;TZID=Europe/Berlin:20220924T143000
DTEND;TZID=Europe/Berlin:20220924T173000
SUMMARY:DA NLB Gr. 2 Kloten vs Bremgarten (2)
UID:9b2bc9b6-b6f6-40fe-a568-dcc637d27ae5
STATUS:CONFIRMED
LAST-MODIFIED:20220926T091420Z
DESCRIPTION:Damen Nationalliga B\, Gruppe 2\nBegegnungs-Nr: 2\nHeim: Kloten\nGast: Bremgarten\n\nAdresse: Schluefweg 10\, 8302 Kloten\n
LOCATION:Schluefweg 10\, 8302 Kloten
CATEGORIES:Saison 2022/23
END:VEVENT
BEGIN:VEVENT
DTSTAMP:20260424T170602Z
DTSTART;TZID=Europe/Berlin:20221210T143000
DTEND;TZID=Europe/Berlin:20221210T173000
SUMMARY:DA NLB Gr. 2 Kloten vs Romanshorn (13)
UID:e0c22c3d-d854-4ad2-b92d-26e280712706
STATUS:CONFIRMED
LAST-MODIFIED:20221212T092508Z
DESCRIPTION:Damen Nationalliga B\, Gruppe 2\nBegegnungs-Nr: 13\nHeim: Kloten\nGast: Romanshorn\n\nAdresse: Schluefweg 10\, 8302 Kloten\n
LOCATION:Schluefweg 10\, 8302 Kloten
CATEGORIES:Saison 2022/23
END:VEVENT
BEGIN:VEVENT
DTSTAMP:20260424T170602Z
DTSTART;TZID=Europe/Berlin:20221015T143000
DTEND;TZID=Europe/Berlin:20221015T173000
SUMMARY:DA NLB Gr. 2 Kloten vs Wädenswil II (7)
UID:577f7ae9-b355-4780-bd24-1ae4bf4a899c
STATUS:CONFIRMED
LAST-MODIFIED:20221017T122932Z
DESCRIPTION:Damen Nationalliga B\, Gruppe 2\nBegegnungs-Nr: 7\nHeim: Kloten\nGast: Wädenswil II\n\nAdresse: Schluefweg 10\, 8302 Kloten\n
LOCATION:Schluefweg 10\, 8302 Kloten
CATEGORIES:Saison 2022/23
END:VEVENT
BEGIN:VEVENT
DTSTAMP:20260424T170602Z
DTSTART;TZID=Europe/Berlin:20230204T143000
DTEND;TZID=Europe/Berlin:20230204T173000
SUMMARY:DA NLB Aufstiegsrunde Kloten vs Münsingen (12)
UID:53c8de6d-e0f7-4971-8ac0-1d7b37554a54
STATUS:CONFIRMED
LAST-MODIFIED:20230206T080851Z
DESCRIPTION:Damen Nationalliga B Aufstiegsrunde\nBegegnungs-Nr: 12\nHeim: Kloten\nGast: Münsingen\n\nAdresse: Schluefweg 10\, 8302 Kloten\n
LOCATION:Schluefweg 10\, 8302 Kloten
CATEGORIES:Saison 2022/23
END:VEVENT
BEGIN:VEVENT
DTSTAMP:20260424T170602Z
DTSTART;TZID=Europe/Berlin:20230128T143000
DTEND;TZID=Europe/Berlin:20230128T173000
SUMMARY:DA NLB Aufstiegsrunde Kloten vs Lausanne (6)
UID:344ddf12-f005-4b37-8549-c2eb3640a384
STATUS:CONFIRMED
LAST-MODIFIED:20230130T072847Z
DESCRIPTION:Damen Nationalliga B Aufstiegsrunde\nBegegnungs-Nr: 6\nHeim: Kloten\nGast: Lausanne\n\nAdresse: Schluefweg 10\, 8302 Kloten\n
LOCATION:Schluefweg 10\, 8302 Kloten
CATEGORIES:Saison 2022/23
END:VEVENT
BEGIN:VEVENT
DTSTAMP:20260424T170602Z
DTSTART;TZID=Europe/Berlin:20221112T173000
DTEND;TZID=Europe/Berlin:20221112T203000
SUMMARY:DA NLB Gr. 2 Young Stars ZH II vs Kloten (11)
UID:fd638a91-b83d-433a-ac43-01a7db64869c
STATUS:CONFIRMED
LAST-MODIFIED:20221114T081811Z
DESCRIPTION:Damen Nationalliga B\, Gruppe 2\nBegegnungs-Nr: 11\nHeim: Young Stars ZH II\nGast: Kloten\n\nAdresse: Seefeldstrasse 93\, 8008 Zürich\n
LOCATION:Seefeldstrasse 93\, 8008 Zürich
CATEGORIES:Saison 2022/23
END:VEVENT
BEGIN:VEVENT
DTSTAMP:20260424T170602Z
DTSTART;TZID=Europe/Berlin:20221008T160000
DTEND;TZID=Europe/Berlin:20221008T190000
SUMMARY:DA NLB Gr. 2 Uster vs Kloten (4)
UID:409c3608-c0ef-4bce-b0d1-62f977ade135
STATUS:CONFIRMED
LAST-MODIFIED:20221010T063303Z
DESCRIPTION:Damen Nationalliga B\, Gruppe 2\nBegegnungs-Nr: 4\nHeim: Uster\nGast: Kloten\n\nAdresse: Wilstrasse 30 / Zürcherstrasse\, 8610 Uster\n
LOCATION:Wilstrasse 30 / Zürcherstrasse\, 8610 Uster
CATEGORIES:Saison 2022/23
END:VEVENT
BEGIN:VEVENT
DTSTAMP:20260424T170602Z
DTSTART;TZID=Europe/Berlin:20230218T160000
DTEND;TZID=Europe/Berlin:20230218T190000
SUMMARY:DA NLB Aufstiegsrunde Uster vs Kloten (8)
UID:3c76fb40-f37d-45e9-901b-d01bea6acb54
STATUS:CONFIRMED
LAST-MODIFIED:20230220T153406Z
DESCRIPTION:Damen Nationalliga B Aufstiegsrunde\nBegegnungs-Nr: 8\nHeim: Uster\nGast: Kloten\n\nAdresse: Wilstrasse 30 / Zürcherstrasse\, 8610 Uster\n
LOCATION:Wilstrasse 30 / Zürcherstrasse\, 8610 Uster
CATEGORIES:Saison 2022/23
END:VEVENT
BEGIN:VEVENT
DTSTAMP:20260424T170602Z
DTSTART;TZID=Europe/Berlin:20230402T130000
DTEND;TZID=Europe/Berlin:20230402T160000
SUMMARY:DA NLB Aufstiegsrunde Thun vs Kloten (15)
UID:4a3bb458-385b-45e6-9522-8f2d9047668f
STATUS:CONFIRMED
LAST-MODIFIED:20230403T115442Z
DESCRIPTION:Damen Nationalliga B Aufstiegsrunde\nBegegnungs-Nr: 15\nHeim: Thun\nGast: Kloten\n\nAdresse: Hallerstrasse 28\, 3604 Thun\n
LOCATION:Hallerstrasse 28\, 3604 Thun
CATEGORIES:Saison 2022/23
END:VEVENT
BEGIN:VEVENT
DTSTAMP:20260424T170602Z
DTSTART;TZID=Europe/Berlin:20230115T170000
DTEND;TZID=Europe/Berlin:20230115T200000
SUMMARY:DA NLB Aufstiegsrunde Wädenswil II vs Kloten (1)
UID:d3febfab-492e-4754-b3ec-b6f2aa692af4
STATUS:CONFIRMED
LAST-MODIFIED:20230116T091728Z
DESCRIPTION:Damen Nationalliga B Aufstiegsrunde\nBegegnungs-Nr: 1\nHeim: Wädenswil II\nGast: Kloten\n\nAdresse: Fuhrstrasse 16b\, 8820 Wädenswil\n
LOCATION:Fuhrstrasse 16b\, 8820 Wädenswil
CATEGORIES:Saison 2022/23
END:VEVENT
END:VCALENDAR
