BEGIN:VCALENDAR
PRODID:-//nuDatenautomaten//framework iCal4j //DE
VERSION:2.0
CALSCALE:GREGORIAN
BEGIN:VTIMEZONE
TZID:Europe/Berlin
LAST-MODIFIED:20260306T231828Z
TZURL:https://www.tzurl.org/zoneinfo/Europe/Berlin
X-LIC-LOCATION:Europe/Berlin
X-PROLEPTIC-TZNAME:LMT
BEGIN:STANDARD
TZNAME:CET
TZOFFSETFROM:+005328
TZOFFSETTO:+0100
DTSTART:18930401T000000
END:STANDARD
BEGIN:DAYLIGHT
TZNAME:CEST
TZOFFSETFROM:+0100
TZOFFSETTO:+0200
DTSTART:19160430T230000
RDATE:19400401T020000
RDATE:19430329T020000
RDATE:19460414T020000
RDATE:19470406T030000
RDATE:19480418T020000
RDATE:19490410T020000
RDATE:19800406T020000
END:DAYLIGHT
BEGIN:STANDARD
TZNAME:CET
TZOFFSETFROM:+0200
TZOFFSETTO:+0100
DTSTART:19161001T010000
RDATE:19421102T030000
RDATE:19431004T030000
RDATE:19441002T030000
RDATE:19451118T030000
RDATE:19461007T030000
END:STANDARD
BEGIN:DAYLIGHT
TZNAME:CEST
TZOFFSETFROM:+0100
TZOFFSETTO:+0200
DTSTART:19170416T020000
RRULE:FREQ=YEARLY;UNTIL=19180415T010000Z;BYMONTH=4;BYDAY=3MO
END:DAYLIGHT
BEGIN:STANDARD
TZNAME:CET
TZOFFSETFROM:+0200
TZOFFSETTO:+0100
DTSTART:19170917T030000
RRULE:FREQ=YEARLY;UNTIL=19180916T010000Z;BYMONTH=9;BYDAY=3MO
END:STANDARD
BEGIN:DAYLIGHT
TZNAME:CEST
TZOFFSETFROM:+0100
TZOFFSETTO:+0200
DTSTART:19440403T020000
RRULE:FREQ=YEARLY;UNTIL=19450402T010000Z;BYMONTH=4;BYDAY=1MO
END:DAYLIGHT
BEGIN:DAYLIGHT
TZNAME:CEMT
TZOFFSETFROM:+0200
TZOFFSETTO:+0300
DTSTART:19450524T020000
RDATE:19470511T030000
END:DAYLIGHT
BEGIN:DAYLIGHT
TZNAME:CEST
TZOFFSETFROM:+0300
TZOFFSETTO:+0200
DTSTART:19450924T030000
RDATE:19470629T030000
END:DAYLIGHT
BEGIN:STANDARD
TZNAME:CET
TZOFFSETFROM:+0100
TZOFFSETTO:+0100
DTSTART:19460101T000000
RDATE:19800101T000000
END:STANDARD
BEGIN:STANDARD
TZNAME:CET
TZOFFSETFROM:+0200
TZOFFSETTO:+0100
DTSTART:19471005T030000
RRULE:FREQ=YEARLY;UNTIL=19491002T010000Z;BYMONTH=10;BYDAY=1SU
END:STANDARD
BEGIN:STANDARD
TZNAME:CET
TZOFFSETFROM:+0200
TZOFFSETTO:+0100
DTSTART:19800928T030000
RRULE:FREQ=YEARLY;UNTIL=19950924T010000Z;BYMONTH=9;BYDAY=-1SU
END:STANDARD
BEGIN:DAYLIGHT
TZNAME:CEST
TZOFFSETFROM:+0100
TZOFFSETTO:+0200
DTSTART:19810329T020000
RRULE:FREQ=YEARLY;BYMONTH=3;BYDAY=-1SU
END:DAYLIGHT
BEGIN:STANDARD
TZNAME:CET
TZOFFSETFROM:+0200
TZOFFSETTO:+0100
DTSTART:19961027T030000
RRULE:FREQ=YEARLY;BYMONTH=10;BYDAY=-1SU
END:STANDARD
END:VTIMEZONE
BEGIN:VEVENT
DTSTAMP:20260426T033200Z
DTSTART;TZID=Europe/Berlin:20221003T200000
DTEND;TZID=Europe/Berlin:20221003T230000
SUMMARY:O40 3. Liga Gr. 3 Höngg vs Chur II (0)
UID:f203dcb7-2273-4816-8028-31bc8c907d60
STATUS:CONFIRMED
LAST-MODIFIED:20221007T070436Z
DESCRIPTION:3. Liga O40 Gruppe 3\nBegegnungs-Nr: 0\nHeim: Höngg\nGast: Chur II\n\nAdresse: Bläsistrasse 2\, 8049 Zürich\n
LOCATION:Bläsistrasse 2\, 8049 Zürich
CATEGORIES:Saison 2022/23
END:VEVENT
BEGIN:VEVENT
DTSTAMP:20260426T033200Z
DTSTART;TZID=Europe/Berlin:20221121T200000
DTEND;TZID=Europe/Berlin:20221121T230000
SUMMARY:O40 3. Liga Gr. 3 Höngg vs Wetzikon (0)
UID:43b6aa21-3892-42eb-94b1-2e0b3688b51c
STATUS:CONFIRMED
LAST-MODIFIED:20221128T150203Z
DESCRIPTION:3. Liga O40 Gruppe 3\nBegegnungs-Nr: 0\nHeim: Höngg\nGast: Wetzikon\n\nAdresse: Bläsistrasse 2\, 8049 Zürich\n
LOCATION:Bläsistrasse 2\, 8049 Zürich
CATEGORIES:Saison 2022/23
END:VEVENT
BEGIN:VEVENT
DTSTAMP:20260426T033200Z
DTSTART;TZID=Europe/Berlin:20221212T200000
DTEND;TZID=Europe/Berlin:20221212T230000
SUMMARY:O40 3. Liga Gr. 3 Höngg vs Wolfhausen (0)
UID:f9cb8abe-1de2-4943-a10b-01f2f125dcc4
STATUS:CONFIRMED
LAST-MODIFIED:20221215T090049Z
DESCRIPTION:3. Liga O40 Gruppe 3\nBegegnungs-Nr: 0\nHeim: Höngg\nGast: Wolfhausen\n\nAdresse: Bläsistrasse 2\, 8049 Zürich\n
LOCATION:Bläsistrasse 2\, 8049 Zürich
CATEGORIES:Saison 2022/23
END:VEVENT
BEGIN:VEVENT
DTSTAMP:20260426T033200Z
DTSTART;TZID=Europe/Berlin:20230130T200000
DTEND;TZID=Europe/Berlin:20230130T230000
SUMMARY:O40 3. Liga Gr. 3 Höngg vs Meilen-Männedorf (0)
UID:8212d803-b9bc-4c66-bf80-340fbb815273
STATUS:CONFIRMED
LAST-MODIFIED:20230131T125047Z
DESCRIPTION:3. Liga O40 Gruppe 3\nBegegnungs-Nr: 0\nHeim: Höngg\nGast: Meilen-Männedorf\n\nAdresse: Bläsistrasse 2\, 8049 Zürich\n
LOCATION:Bläsistrasse 2\, 8049 Zürich
CATEGORIES:Saison 2022/23
END:VEVENT
BEGIN:VEVENT
DTSTAMP:20260426T033200Z
DTSTART;TZID=Europe/Berlin:20230320T200000
DTEND;TZID=Europe/Berlin:20230320T230000
SUMMARY:O40 3. Liga Gr. 3 Höngg vs Pinguin Zürich II (0)
UID:7996f78b-8e0c-4042-81da-88c26942f5a9
STATUS:CONFIRMED
LAST-MODIFIED:20230328T102227Z
DESCRIPTION:3. Liga O40 Gruppe 3\nBegegnungs-Nr: 0\nHeim: Höngg\nGast: Pinguin Zürich II\n\nAdresse: Bläsistrasse 2\, 8049 Zürich\n
LOCATION:Bläsistrasse 2\, 8049 Zürich
CATEGORIES:Saison 2022/23
END:VEVENT
BEGIN:VEVENT
DTSTAMP:20260426T033200Z
DTSTART;TZID=Europe/Berlin:20230206T200000
DTEND;TZID=Europe/Berlin:20230206T230000
SUMMARY:O40 3. Liga Gr. 3 Höngg vs BW-Wollishofen (0)
UID:9a8dea2c-3a22-45ff-979f-0c318be776e6
STATUS:CONFIRMED
LAST-MODIFIED:20230209T125622Z
DESCRIPTION:3. Liga O40 Gruppe 3\nBegegnungs-Nr: 0\nHeim: Höngg\nGast: BW-Wollishofen\n\nAdresse: Bläsistrasse 2\, 8049 Zürich\n
LOCATION:Bläsistrasse 2\, 8049 Zürich
CATEGORIES:Saison 2022/23
END:VEVENT
BEGIN:VEVENT
DTSTAMP:20260426T033200Z
DTSTART;TZID=Europe/Berlin:20220826T194500
DTEND;TZID=Europe/Berlin:20220826T224500
SUMMARY:O40 3. Liga Gr. 3 Meilen-Männedorf vs Höngg (0)
UID:e7bce43e-9b42-4e2f-9539-113874e201bc
STATUS:CONFIRMED
LAST-MODIFIED:20220829T054300Z
DESCRIPTION:3. Liga O40 Gruppe 3\nBegegnungs-Nr: 0\nHeim: Meilen-Männedorf\nGast: Höngg\n\nAdresse: Schulstrasse 10\, 8708 Männedorf\n
LOCATION:Schulstrasse 10\, 8708 Männedorf
CATEGORIES:Saison 2022/23
END:VEVENT
BEGIN:VEVENT
DTSTAMP:20260426T033200Z
DTSTART;TZID=Europe/Berlin:20221028T193000
DTEND;TZID=Europe/Berlin:20221028T223000
SUMMARY:O40 3. Liga Gr. 3 Pinguin Zürich II vs Höngg (0)
UID:cb2053ee-092a-49c6-980d-1561923dda6b
STATUS:CONFIRMED
LAST-MODIFIED:20221101T092003Z
DESCRIPTION:3. Liga O40 Gruppe 3\nBegegnungs-Nr: 0\nHeim: Pinguin Zürich II\nGast: Höngg\n\nAdresse: Basteiplatz\, 8001 Zürich\n
LOCATION:Basteiplatz\, 8001 Zürich
CATEGORIES:Saison 2022/23
END:VEVENT
BEGIN:VEVENT
DTSTAMP:20260426T033200Z
DTSTART;TZID=Europe/Berlin:20221207T200000
DTEND;TZID=Europe/Berlin:20221207T230000
SUMMARY:O40 3. Liga Gr. 3 BW-Wollishofen vs Höngg (0)
UID:5dfb5963-146d-45e1-97b8-ea6b02a79439
STATUS:CONFIRMED
LAST-MODIFIED:20221208T121804Z
DESCRIPTION:3. Liga O40 Gruppe 3\nBegegnungs-Nr: 0\nHeim: BW-Wollishofen\nGast: Höngg\n\nAdresse: Kilchbergstr. 28\, 8038 Zürich\n
LOCATION:Kilchbergstr. 28\, 8038 Zürich
CATEGORIES:Saison 2022/23
END:VEVENT
BEGIN:VEVENT
DTSTAMP:20260426T033200Z
DTSTART;TZID=Europe/Berlin:20230417T200000
DTEND;TZID=Europe/Berlin:20230417T230000
SUMMARY:O40 3. Liga Gr. 3 Wolfhausen vs Höngg (0)
UID:01637609-c973-4982-96d0-dd4c731bdbae
STATUS:CONFIRMED
LAST-MODIFIED:20230420T112230Z
DESCRIPTION:3. Liga O40 Gruppe 3\nBegegnungs-Nr: 0\nHeim: Wolfhausen\nGast: Höngg\n\nAdresse: Schulstrasse 9\, 8633 Wolfhausen\n
LOCATION:Schulstrasse 9\, 8633 Wolfhausen
CATEGORIES:Saison 2022/23
END:VEVENT
BEGIN:VEVENT
DTSTAMP:20260426T033200Z
DTSTART;TZID=Europe/Berlin:20230209T200000
DTEND;TZID=Europe/Berlin:20230209T230000
SUMMARY:O40 3. Liga Gr. 3 Chur II vs Höngg (0)
UID:3f4e4b1f-bc09-4eab-b0ae-4f057c48ddee
STATUS:CONFIRMED
LAST-MODIFIED:20230210T101309Z
DESCRIPTION:3. Liga O40 Gruppe 3\nBegegnungs-Nr: 0\nHeim: Chur II\nGast: Höngg\n\nAdresse: Sandstr. 35\, 7000 Chur\n
LOCATION:Sandstr. 35\, 7000 Chur
CATEGORIES:Saison 2022/23
END:VEVENT
BEGIN:VEVENT
DTSTAMP:20260426T033200Z
DTSTART;TZID=Europe/Berlin:20230428T194500
DTEND;TZID=Europe/Berlin:20230428T224500
SUMMARY:O40 3. Liga Gr. 3 Wetzikon vs Höngg (0)
UID:0640f0ab-3b2b-4a76-be27-406d08ecce00
STATUS:CONFIRMED
LAST-MODIFIED:20230501T054749Z
DESCRIPTION:3. Liga O40 Gruppe 3\nBegegnungs-Nr: 0\nHeim: Wetzikon\nGast: Höngg\n\nAdresse: Bahnhofstrasse 126\, 8620 Wetzikon\n
LOCATION:Bahnhofstrasse 126\, 8620 Wetzikon
CATEGORIES:Saison 2022/23
END:VEVENT
END:VCALENDAR
