BEGIN:VCALENDAR
PRODID:-//nuDatenautomaten//framework iCal4j //DE
VERSION:2.0
CALSCALE:GREGORIAN
BEGIN:VTIMEZONE
TZID:Europe/Berlin
LAST-MODIFIED:20260306T231828Z
TZURL:https://www.tzurl.org/zoneinfo/Europe/Berlin
X-LIC-LOCATION:Europe/Berlin
X-PROLEPTIC-TZNAME:LMT
BEGIN:STANDARD
TZNAME:CET
TZOFFSETFROM:+005328
TZOFFSETTO:+0100
DTSTART:18930401T000000
END:STANDARD
BEGIN:DAYLIGHT
TZNAME:CEST
TZOFFSETFROM:+0100
TZOFFSETTO:+0200
DTSTART:19160430T230000
RDATE:19400401T020000
RDATE:19430329T020000
RDATE:19460414T020000
RDATE:19470406T030000
RDATE:19480418T020000
RDATE:19490410T020000
RDATE:19800406T020000
END:DAYLIGHT
BEGIN:STANDARD
TZNAME:CET
TZOFFSETFROM:+0200
TZOFFSETTO:+0100
DTSTART:19161001T010000
RDATE:19421102T030000
RDATE:19431004T030000
RDATE:19441002T030000
RDATE:19451118T030000
RDATE:19461007T030000
END:STANDARD
BEGIN:DAYLIGHT
TZNAME:CEST
TZOFFSETFROM:+0100
TZOFFSETTO:+0200
DTSTART:19170416T020000
RRULE:FREQ=YEARLY;UNTIL=19180415T010000Z;BYMONTH=4;BYDAY=3MO
END:DAYLIGHT
BEGIN:STANDARD
TZNAME:CET
TZOFFSETFROM:+0200
TZOFFSETTO:+0100
DTSTART:19170917T030000
RRULE:FREQ=YEARLY;UNTIL=19180916T010000Z;BYMONTH=9;BYDAY=3MO
END:STANDARD
BEGIN:DAYLIGHT
TZNAME:CEST
TZOFFSETFROM:+0100
TZOFFSETTO:+0200
DTSTART:19440403T020000
RRULE:FREQ=YEARLY;UNTIL=19450402T010000Z;BYMONTH=4;BYDAY=1MO
END:DAYLIGHT
BEGIN:DAYLIGHT
TZNAME:CEMT
TZOFFSETFROM:+0200
TZOFFSETTO:+0300
DTSTART:19450524T020000
RDATE:19470511T030000
END:DAYLIGHT
BEGIN:DAYLIGHT
TZNAME:CEST
TZOFFSETFROM:+0300
TZOFFSETTO:+0200
DTSTART:19450924T030000
RDATE:19470629T030000
END:DAYLIGHT
BEGIN:STANDARD
TZNAME:CET
TZOFFSETFROM:+0100
TZOFFSETTO:+0100
DTSTART:19460101T000000
RDATE:19800101T000000
END:STANDARD
BEGIN:STANDARD
TZNAME:CET
TZOFFSETFROM:+0200
TZOFFSETTO:+0100
DTSTART:19471005T030000
RRULE:FREQ=YEARLY;UNTIL=19491002T010000Z;BYMONTH=10;BYDAY=1SU
END:STANDARD
BEGIN:STANDARD
TZNAME:CET
TZOFFSETFROM:+0200
TZOFFSETTO:+0100
DTSTART:19800928T030000
RRULE:FREQ=YEARLY;UNTIL=19950924T010000Z;BYMONTH=9;BYDAY=-1SU
END:STANDARD
BEGIN:DAYLIGHT
TZNAME:CEST
TZOFFSETFROM:+0100
TZOFFSETTO:+0200
DTSTART:19810329T020000
RRULE:FREQ=YEARLY;BYMONTH=3;BYDAY=-1SU
END:DAYLIGHT
BEGIN:STANDARD
TZNAME:CET
TZOFFSETFROM:+0200
TZOFFSETTO:+0100
DTSTART:19961027T030000
RRULE:FREQ=YEARLY;BYMONTH=10;BYDAY=-1SU
END:STANDARD
END:VTIMEZONE
BEGIN:VEVENT
DTSTAMP:20260424T170602Z
DTSTART;TZID=Europe/Berlin:20221210T150000
DTEND;TZID=Europe/Berlin:20221210T180000
SUMMARY:DA NLB Gr. 2 Wädenswil II vs Uster (14)
UID:213c6113-d1a4-4d42-ae46-36d18e0e8ff3
STATUS:CONFIRMED
LAST-MODIFIED:20221212T092524Z
DESCRIPTION:Damen Nationalliga B\, Gruppe 2\nBegegnungs-Nr: 14\nHeim: Wädenswil II\nGast: Uster\n\nAdresse: Fuhrstrasse 16b\, 8820 Wädenswil\n
LOCATION:Fuhrstrasse 16b\, 8820 Wädenswil
CATEGORIES:Saison 2022/23
END:VEVENT
BEGIN:VEVENT
DTSTAMP:20260424T170602Z
DTSTART;TZID=Europe/Berlin:20221112T170000
DTEND;TZID=Europe/Berlin:20221112T200000
SUMMARY:DA NLB Gr. 2 Wädenswil II vs Romanshorn (10)
UID:c6ff929a-5bb2-4d4e-bb6e-e47d424b7ba0
STATUS:CONFIRMED
LAST-MODIFIED:20221115T143452Z
DESCRIPTION:Damen Nationalliga B\, Gruppe 2\nBegegnungs-Nr: 10\nHeim: Wädenswil II\nGast: Romanshorn\n\nAdresse: Fuhrstrasse 16b\, 8820 Wädenswil\n
LOCATION:Fuhrstrasse 16b\, 8820 Wädenswil
CATEGORIES:Saison 2022/23
END:VEVENT
BEGIN:VEVENT
DTSTAMP:20260424T170602Z
DTSTART;TZID=Europe/Berlin:20220924T120000
DTEND;TZID=Europe/Berlin:20220924T150000
SUMMARY:DA NLB Gr. 2 Wädenswil II vs Young Stars ZH II (3)
UID:166784f2-0e79-4055-90e3-c1f8add64010
STATUS:CONFIRMED
LAST-MODIFIED:20220926T091406Z
DESCRIPTION:Damen Nationalliga B\, Gruppe 2\nBegegnungs-Nr: 3\nHeim: Wädenswil II\nGast: Young Stars ZH II\n\nAdresse: Fuhrstrasse 16b\, 8820 Wädenswil\n
LOCATION:Fuhrstrasse 16b\, 8820 Wädenswil
CATEGORIES:Saison 2022/23
END:VEVENT
BEGIN:VEVENT
DTSTAMP:20260424T170602Z
DTSTART;TZID=Europe/Berlin:20230401T140000
DTEND;TZID=Europe/Berlin:20230401T170000
SUMMARY:DA NLB Aufstiegsrunde Wädenswil II vs Uster (13)
UID:9794193c-f638-4024-8f38-10b35ed429ef
STATUS:CONFIRMED
LAST-MODIFIED:20230403T115426Z
DESCRIPTION:Damen Nationalliga B Aufstiegsrunde\nBegegnungs-Nr: 13\nHeim: Wädenswil II\nGast: Uster\n\nAdresse: Fuhrstrasse 16b\, 8820 Wädenswil\n
LOCATION:Fuhrstrasse 16b\, 8820 Wädenswil
CATEGORIES:Saison 2022/23
END:VEVENT
BEGIN:VEVENT
DTSTAMP:20260424T170602Z
DTSTART;TZID=Europe/Berlin:20230219T120000
DTEND;TZID=Europe/Berlin:20230219T150000
SUMMARY:DA NLB Aufstiegsrunde Wädenswil II vs Lausanne (7)
UID:e5845ab9-f694-4eb2-aa80-48f3afeb49c7
STATUS:CONFIRMED
LAST-MODIFIED:20230220T153445Z
DESCRIPTION:Damen Nationalliga B Aufstiegsrunde\nBegegnungs-Nr: 7\nHeim: Wädenswil II\nGast: Lausanne\n\nAdresse: Fuhrstrasse 16b\, 8820 Wädenswil\n
LOCATION:Fuhrstrasse 16b\, 8820 Wädenswil
CATEGORIES:Saison 2022/23
END:VEVENT
BEGIN:VEVENT
DTSTAMP:20260424T170602Z
DTSTART;TZID=Europe/Berlin:20230115T170000
DTEND;TZID=Europe/Berlin:20230115T200000
SUMMARY:DA NLB Aufstiegsrunde Wädenswil II vs Kloten (1)
UID:d3febfab-492e-4754-b3ec-b6f2aa692af4
STATUS:CONFIRMED
LAST-MODIFIED:20230116T091728Z
DESCRIPTION:Damen Nationalliga B Aufstiegsrunde\nBegegnungs-Nr: 1\nHeim: Wädenswil II\nGast: Kloten\n\nAdresse: Fuhrstrasse 16b\, 8820 Wädenswil\n
LOCATION:Fuhrstrasse 16b\, 8820 Wädenswil
CATEGORIES:Saison 2022/23
END:VEVENT
BEGIN:VEVENT
DTSTAMP:20260424T170602Z
DTSTART;TZID=Europe/Berlin:20230513T000000
DTEND;TZID=Europe/Berlin:20230513T030000
SUMMARY:DA NLA Play-Out Wädenswil II vs Zürich-Affoltern (0)
UID:e043e3d0-7786-402c-a2ca-316b817ad995
STATUS:CONFIRMED
LAST-MODIFIED:20230418T090342Z
DESCRIPTION:Damen NLA Play-Out\nBegegnungs-Nr: 0\nHeim: Wädenswil II\nGast: Zürich-Affoltern\n\nAdresse: Fuhrstrasse 16b\, 8820 Wädenswil\n
LOCATION:Fuhrstrasse 16b\, 8820 Wädenswil
CATEGORIES:Saison 2022/23
END:VEVENT
BEGIN:VEVENT
DTSTAMP:20260424T170602Z
DTSTART;TZID=Europe/Berlin:20220930T203000
DTEND;TZID=Europe/Berlin:20220930T233000
SUMMARY:DA NLB Gr. 2 Bremgarten vs Wädenswil II (6)
UID:31405f5c-8051-44ef-a2d1-e57b913743af
STATUS:CONFIRMED
LAST-MODIFIED:20221003T062404Z
DESCRIPTION:Damen Nationalliga B\, Gruppe 2\nBegegnungs-Nr: 6\nHeim: Bremgarten\nGast: Wädenswil II\n\nAdresse: Badstrasse 3\, 5620 Bremgarten\n
LOCATION:Badstrasse 3\, 5620 Bremgarten
CATEGORIES:Saison 2022/23
END:VEVENT
BEGIN:VEVENT
DTSTAMP:20260424T170602Z
DTSTART;TZID=Europe/Berlin:20221015T143000
DTEND;TZID=Europe/Berlin:20221015T173000
SUMMARY:DA NLB Gr. 2 Kloten vs Wädenswil II (7)
UID:577f7ae9-b355-4780-bd24-1ae4bf4a899c
STATUS:CONFIRMED
LAST-MODIFIED:20221017T122932Z
DESCRIPTION:Damen Nationalliga B\, Gruppe 2\nBegegnungs-Nr: 7\nHeim: Kloten\nGast: Wädenswil II\n\nAdresse: Schluefweg 10\, 8302 Kloten\n
LOCATION:Schluefweg 10\, 8302 Kloten
CATEGORIES:Saison 2022/23
END:VEVENT
BEGIN:VEVENT
DTSTAMP:20260424T170602Z
DTSTART;TZID=Europe/Berlin:20230312T150000
DTEND;TZID=Europe/Berlin:20230312T180000
SUMMARY:DA NLB Aufstiegsrunde Thun vs Wädenswil II (10)
UID:b9262ae8-5b3e-4df4-9f83-7a08ab8940c4
STATUS:CONFIRMED
LAST-MODIFIED:20230313T153548Z
DESCRIPTION:Damen Nationalliga B Aufstiegsrunde\nBegegnungs-Nr: 10\nHeim: Thun\nGast: Wädenswil II\n\nAdresse: Hallerstrasse 28\, 3604 Thun\n
LOCATION:Hallerstrasse 28\, 3604 Thun
CATEGORIES:Saison 2022/23
END:VEVENT
BEGIN:VEVENT
DTSTAMP:20260424T170602Z
DTSTART;TZID=Europe/Berlin:20230122T160000
DTEND;TZID=Europe/Berlin:20230122T190000
SUMMARY:DA NLB Aufstiegsrunde Münsingen vs Wädenswil II (4)
UID:bbd12e78-8199-4651-9bd9-e3e817591ffd
STATUS:CONFIRMED
LAST-MODIFIED:20230123T073943Z
DESCRIPTION:Damen Nationalliga B Aufstiegsrunde\nBegegnungs-Nr: 4\nHeim: Münsingen\nGast: Wädenswil II\n\nAdresse: Turnhallenweg 8\, 3110 Münsingen\n
LOCATION:Turnhallenweg 8\, 3110 Münsingen
CATEGORIES:Saison 2022/23
END:VEVENT
BEGIN:VEVENT
DTSTAMP:20260424T170602Z
DTSTART;TZID=Europe/Berlin:20230514T000000
DTEND;TZID=Europe/Berlin:20230514T030000
SUMMARY:DA NLA Play-Out Zürich-Affoltern vs Wädenswil II (0)
UID:54826b78-2805-4c7f-be79-730c65f66fe4
STATUS:CONFIRMED
LAST-MODIFIED:20230418T090342Z
DESCRIPTION:Damen NLA Play-Out\nBegegnungs-Nr: 0\nHeim: Zürich-Affoltern\nGast: Wädenswil II\n\nAdresse: Rümlangstr. 89\, 8052 Zürich\n
LOCATION:Rümlangstr. 89\, 8052 Zürich
CATEGORIES:Saison 2022/23
END:VEVENT
BEGIN:VEVENT
DTSTAMP:20260424T170602Z
DTSTART;TZID=Europe/Berlin:20230512T000000
DTEND;TZID=Europe/Berlin:20230512T030000
SUMMARY:DA NLA Play-Out Zürich-Affoltern vs Wädenswil II (0)
UID:a1c3b04a-f829-4fd9-8635-6319dcd300c3
STATUS:CONFIRMED
LAST-MODIFIED:20230418T090342Z
DESCRIPTION:Damen NLA Play-Out\nBegegnungs-Nr: 0\nHeim: Zürich-Affoltern\nGast: Wädenswil II\n\nAdresse: Rümlangstr. 89\, 8052 Zürich\n
LOCATION:Rümlangstr. 89\, 8052 Zürich
CATEGORIES:Saison 2022/23
END:VEVENT
END:VCALENDAR
