BEGIN:VCALENDAR
PRODID:-//nuDatenautomaten//framework iCal4j //DE
VERSION:2.0
CALSCALE:GREGORIAN
BEGIN:VTIMEZONE
TZID:Europe/Berlin
LAST-MODIFIED:20260306T231828Z
TZURL:https://www.tzurl.org/zoneinfo/Europe/Berlin
X-LIC-LOCATION:Europe/Berlin
X-PROLEPTIC-TZNAME:LMT
BEGIN:STANDARD
TZNAME:CET
TZOFFSETFROM:+005328
TZOFFSETTO:+0100
DTSTART:18930401T000000
END:STANDARD
BEGIN:DAYLIGHT
TZNAME:CEST
TZOFFSETFROM:+0100
TZOFFSETTO:+0200
DTSTART:19160430T230000
RDATE:19400401T020000
RDATE:19430329T020000
RDATE:19460414T020000
RDATE:19470406T030000
RDATE:19480418T020000
RDATE:19490410T020000
RDATE:19800406T020000
END:DAYLIGHT
BEGIN:STANDARD
TZNAME:CET
TZOFFSETFROM:+0200
TZOFFSETTO:+0100
DTSTART:19161001T010000
RDATE:19421102T030000
RDATE:19431004T030000
RDATE:19441002T030000
RDATE:19451118T030000
RDATE:19461007T030000
END:STANDARD
BEGIN:DAYLIGHT
TZNAME:CEST
TZOFFSETFROM:+0100
TZOFFSETTO:+0200
DTSTART:19170416T020000
RRULE:FREQ=YEARLY;UNTIL=19180415T010000Z;BYMONTH=4;BYDAY=3MO
END:DAYLIGHT
BEGIN:STANDARD
TZNAME:CET
TZOFFSETFROM:+0200
TZOFFSETTO:+0100
DTSTART:19170917T030000
RRULE:FREQ=YEARLY;UNTIL=19180916T010000Z;BYMONTH=9;BYDAY=3MO
END:STANDARD
BEGIN:DAYLIGHT
TZNAME:CEST
TZOFFSETFROM:+0100
TZOFFSETTO:+0200
DTSTART:19440403T020000
RRULE:FREQ=YEARLY;UNTIL=19450402T010000Z;BYMONTH=4;BYDAY=1MO
END:DAYLIGHT
BEGIN:DAYLIGHT
TZNAME:CEMT
TZOFFSETFROM:+0200
TZOFFSETTO:+0300
DTSTART:19450524T020000
RDATE:19470511T030000
END:DAYLIGHT
BEGIN:DAYLIGHT
TZNAME:CEST
TZOFFSETFROM:+0300
TZOFFSETTO:+0200
DTSTART:19450924T030000
RDATE:19470629T030000
END:DAYLIGHT
BEGIN:STANDARD
TZNAME:CET
TZOFFSETFROM:+0100
TZOFFSETTO:+0100
DTSTART:19460101T000000
RDATE:19800101T000000
END:STANDARD
BEGIN:STANDARD
TZNAME:CET
TZOFFSETFROM:+0200
TZOFFSETTO:+0100
DTSTART:19471005T030000
RRULE:FREQ=YEARLY;UNTIL=19491002T010000Z;BYMONTH=10;BYDAY=1SU
END:STANDARD
BEGIN:STANDARD
TZNAME:CET
TZOFFSETFROM:+0200
TZOFFSETTO:+0100
DTSTART:19800928T030000
RRULE:FREQ=YEARLY;UNTIL=19950924T010000Z;BYMONTH=9;BYDAY=-1SU
END:STANDARD
BEGIN:DAYLIGHT
TZNAME:CEST
TZOFFSETFROM:+0100
TZOFFSETTO:+0200
DTSTART:19810329T020000
RRULE:FREQ=YEARLY;BYMONTH=3;BYDAY=-1SU
END:DAYLIGHT
BEGIN:STANDARD
TZNAME:CET
TZOFFSETFROM:+0200
TZOFFSETTO:+0100
DTSTART:19961027T030000
RRULE:FREQ=YEARLY;BYMONTH=10;BYDAY=-1SU
END:STANDARD
END:VTIMEZONE
BEGIN:VEVENT
DTSTAMP:20260426T033838Z
DTSTART;TZID=Europe/Berlin:20220927T200000
DTEND;TZID=Europe/Berlin:20220927T230000
SUMMARY:O40 2. Liga Gr. 1 St. Gallen vs Buchs Zürich (0)
UID:252f18c0-809d-48fb-8ce6-072b5ec705b2
STATUS:CONFIRMED
LAST-MODIFIED:20220928T123228Z
DESCRIPTION:2. Liga O40 Gruppe 1\nBegegnungs-Nr: 0\nHeim: St. Gallen\nGast: Buchs Zürich\n\nAdresse: Zilstrasse 61\, 9016 St.Gallen\n
LOCATION:Zilstrasse 61\, 9016 St.Gallen
CATEGORIES:Saison 2022/23
END:VEVENT
BEGIN:VEVENT
DTSTAMP:20260426T033838Z
DTSTART;TZID=Europe/Berlin:20220819T200000
DTEND;TZID=Europe/Berlin:20220819T230000
SUMMARY:O40 2. Liga Gr. 1 St. Gallen vs Romanshorn II (0)
UID:40230698-6b6b-48c2-9945-bf43f3492f9d
STATUS:CONFIRMED
LAST-MODIFIED:20220822T061335Z
DESCRIPTION:2. Liga O40 Gruppe 1\nBegegnungs-Nr: 0\nHeim: St. Gallen\nGast: Romanshorn II\n\nAdresse: Zilstrasse 61\, 9016 St.Gallen\n
LOCATION:Zilstrasse 61\, 9016 St.Gallen
CATEGORIES:Saison 2022/23
END:VEVENT
BEGIN:VEVENT
DTSTAMP:20260426T033838Z
DTSTART;TZID=Europe/Berlin:20230414T200000
DTEND;TZID=Europe/Berlin:20230414T230000
SUMMARY:O40 2. Liga Gr. 1 St. Gallen vs Uster (0)
UID:cacb6937-72fd-4004-bfbb-956584177cb2
STATUS:CONFIRMED
LAST-MODIFIED:20230420T090259Z
DESCRIPTION:2. Liga O40 Gruppe 1\nBegegnungs-Nr: 0\nHeim: St. Gallen\nGast: Uster\n\nAdresse: Zilstrasse 61\, 9016 St.Gallen\n
LOCATION:Zilstrasse 61\, 9016 St.Gallen
CATEGORIES:Saison 2022/23
END:VEVENT
BEGIN:VEVENT
DTSTAMP:20260426T033838Z
DTSTART;TZID=Europe/Berlin:20230411T200000
DTEND;TZID=Europe/Berlin:20230411T230000
SUMMARY:O40 2. Liga Gr. 1 St. Gallen vs Dübendorf-Volketswil (0)
UID:634b1f6c-63cc-4c75-bbff-f9dcf5ae7a5a
STATUS:CONFIRMED
LAST-MODIFIED:20230420T090240Z
DESCRIPTION:2. Liga O40 Gruppe 1\nBegegnungs-Nr: 0\nHeim: St. Gallen\nGast: Dübendorf-Volketswil\n\nAdresse: Zilstrasse 61\, 9016 St.Gallen\n
LOCATION:Zilstrasse 61\, 9016 St.Gallen
CATEGORIES:Saison 2022/23
END:VEVENT
BEGIN:VEVENT
DTSTAMP:20260426T033838Z
DTSTART;TZID=Europe/Berlin:20230324T200000
DTEND;TZID=Europe/Berlin:20230324T230000
SUMMARY:O40 2. Liga Gr. 1 St. Gallen vs Gaiserwald II (0)
UID:59ce9946-4ef8-498b-af77-392ed56b9de9
STATUS:CONFIRMED
LAST-MODIFIED:20230328T102027Z
DESCRIPTION:2. Liga O40 Gruppe 1\nBegegnungs-Nr: 0\nHeim: St. Gallen\nGast: Gaiserwald II\n\nAdresse: Zilstrasse 61\, 9016 St.Gallen\n
LOCATION:Zilstrasse 61\, 9016 St.Gallen
CATEGORIES:Saison 2022/23
END:VEVENT
BEGIN:VEVENT
DTSTAMP:20260426T033838Z
DTSTART;TZID=Europe/Berlin:20221125T200000
DTEND;TZID=Europe/Berlin:20221125T230000
SUMMARY:O40 2. Liga Gr. 1 St. Gallen vs Winterthur (0)
UID:900b7e79-5da3-4e0d-a800-7f0c482612ff
STATUS:CONFIRMED
LAST-MODIFIED:20221128T143813Z
DESCRIPTION:2. Liga O40 Gruppe 1\nBegegnungs-Nr: 0\nHeim: St. Gallen\nGast: Winterthur\n\nAdresse: Zilstrasse 61\, 9016 St.Gallen\n
LOCATION:Zilstrasse 61\, 9016 St.Gallen
CATEGORIES:Saison 2022/23
END:VEVENT
BEGIN:VEVENT
DTSTAMP:20260426T033838Z
DTSTART;TZID=Europe/Berlin:20221027T200000
DTEND;TZID=Europe/Berlin:20221027T230000
SUMMARY:O40 2. Liga Gr. 1 Gaiserwald II vs St. Gallen (0)
UID:8100c2b8-07f4-4f9c-84f1-08f22d225d2f
STATUS:CONFIRMED
LAST-MODIFIED:20221101T091728Z
DESCRIPTION:2. Liga O40 Gruppe 1\nBegegnungs-Nr: 0\nHeim: Gaiserwald II\nGast: St. Gallen\n\nAdresse: Sonnenbergstrasse 15\, 9030 Abtwil\n
LOCATION:Sonnenbergstrasse 15\, 9030 Abtwil
CATEGORIES:Saison 2022/23
END:VEVENT
BEGIN:VEVENT
DTSTAMP:20260426T033838Z
DTSTART;TZID=Europe/Berlin:20221208T201500
DTEND;TZID=Europe/Berlin:20221208T231500
SUMMARY:O40 2. Liga Gr. 1 Uster vs St. Gallen (0)
UID:3938f436-ddd6-401c-a193-4413cacdec41
STATUS:CONFIRMED
LAST-MODIFIED:20221212T143642Z
DESCRIPTION:2. Liga O40 Gruppe 1\nBegegnungs-Nr: 0\nHeim: Uster\nGast: St. Gallen\n\nAdresse: Wilstrasse 30 / Zürcherstrasse\, 8610 Uster\n
LOCATION:Wilstrasse 30 / Zürcherstrasse\, 8610 Uster
CATEGORIES:Saison 2022/23
END:VEVENT
BEGIN:VEVENT
DTSTAMP:20260426T033838Z
DTSTART;TZID=Europe/Berlin:20221215T194500
DTEND;TZID=Europe/Berlin:20221215T224500
SUMMARY:O40 2. Liga Gr. 1 Dübendorf-Volketswil vs St. Gallen (0)
UID:6d7cc791-8eee-40f8-9899-f3a521a737f0
STATUS:CONFIRMED
LAST-MODIFIED:20221216T153428Z
DESCRIPTION:2. Liga O40 Gruppe 1\nBegegnungs-Nr: 0\nHeim: Dübendorf-Volketswil\nGast: St. Gallen\n\nAdresse: Wasserfurrenstrasse 7\, 8600 Dübendorf\n
LOCATION:Wasserfurrenstrasse 7\, 8600 Dübendorf
CATEGORIES:Saison 2022/23
END:VEVENT
BEGIN:VEVENT
DTSTAMP:20260426T033838Z
DTSTART;TZID=Europe/Berlin:20230120T201500
DTEND;TZID=Europe/Berlin:20230120T231500
SUMMARY:O40 2. Liga Gr. 1 Romanshorn II vs St. Gallen (0)
UID:5eed90c5-f157-4c83-92b9-3b96054f85a5
STATUS:CONFIRMED
LAST-MODIFIED:20230127T163545Z
DESCRIPTION:2. Liga O40 Gruppe 1\nBegegnungs-Nr: 0\nHeim: Romanshorn II\nGast: St. Gallen\n\nAdresse: Florastrasse\, 8590 Romanshorn\n
LOCATION:Florastrasse\, 8590 Romanshorn
CATEGORIES:Saison 2022/23
END:VEVENT
BEGIN:VEVENT
DTSTAMP:20260426T033838Z
DTSTART;TZID=Europe/Berlin:20230315T201500
DTEND;TZID=Europe/Berlin:20230315T231500
SUMMARY:O40 2. Liga Gr. 1 Buchs Zürich vs St. Gallen (0)
UID:0e2d2757-8b14-45c3-b27c-b52560d32641
STATUS:CONFIRMED
LAST-MODIFIED:20230317T102221Z
DESCRIPTION:2. Liga O40 Gruppe 1\nBegegnungs-Nr: 0\nHeim: Buchs Zürich\nGast: St. Gallen\nHalle: Schulhaus Chrüzächer\nAdresse: Schulstrasse 73\, 8105 Regensdorf\n
LOCATION:Schulhaus Chrüzächer Schulstrasse 73\, 8105 Regensdorf
CATEGORIES:Saison 2022/23
END:VEVENT
BEGIN:VEVENT
DTSTAMP:20260426T033838Z
DTSTART;TZID=Europe/Berlin:20230505T200000
DTEND;TZID=Europe/Berlin:20230505T230000
SUMMARY:O40 2. Liga Gr. 1 Winterthur vs St. Gallen (0)
UID:af19f4ca-8ec5-4463-933e-e9210b6feacd
STATUS:CONFIRMED
LAST-MODIFIED:20230510T122640Z
DESCRIPTION:2. Liga O40 Gruppe 1\nBegegnungs-Nr: 0\nHeim: Winterthur\nGast: St. Gallen\n\nAdresse: Buchackerstrasse 54\, 8400 Winterthur\n
LOCATION:Buchackerstrasse 54\, 8400 Winterthur
CATEGORIES:Saison 2022/23
END:VEVENT
END:VCALENDAR
